BEGIN:VCALENDAR
VERSION:2.0
PRODID:-//jEvents 2.0 for Joomla//EN
CALSCALE:GREGORIAN
METHOD:PUBLISH
BEGIN:VEVENT
UID:5a3036cfce2bc344bf8ff91392d23031
CATEGORIES:Lịch làm việc
SUMMARY:Lịch tuần 33 của Lãnh đạo Liên đoàn cập nhật lần 3
DESCRIPTION;ENCODING=QUOTED-PRINTABLE:TRUNG TÂM QUY HOẠCH VÀ ĐIỀU TRA TÀI NGUYÊN NƯỚC QUỐC GIA\n  LIÊN ĐOÀN QUY H
 OẠCH VÀ ĐIỀU TRA TÀI NGUYÊN NƯỚC MIỀN BẮC\n  LỊCH LÀM VIỆC CỦA LÃNH ĐẠO LIÊ
 N ĐOÀN\n  Tuần thứ 33, từ ngày 15/8/2022 đến ngày 19/8/2022\n            Ng
 ày tháng\n      Chủ trì\n      Nội dung - Địa điểm - Thành phần\n          
 Thứ hai\n  15/8\n      Lãnh đạo Liên đoàn\n      - 8h30’: Họp giao ban, tại
  phòng Truyền thống\n  A Thành CVP, A Tùng TP Điều tra, A Thông PTP KHTC dự
 \n  - Chiều: Làm việc tại cơ quan\n          Thứ ba\n  16/8\n      Lãnh đạo
  Liên đoàn\n      Làm việc tại cơ quan\n          Thứ tư\n  17/8\n      Liê
 n đoàn trưởng\n  Nguyễn Chí Nghĩa\n      - 9h00’: Họp Ban Thường vụ Đảng ủy
  Trung tâm, tại PH 204. \n  - 14h00’: Dự họp Ban soạn thảo và Tổ biên tập L
 uật Tài nguyên nước (sửa đổi), tại Phòng họp B101, Nhà B, Bộ TN&MT\n       
    Phó Liên đoàn trưởng\n  Nguyễn Đỗ Lĩnh\n  Luyện Đức Thuận\n      Làm việ
 c tại cơ quan\n          Thứ năm\n  18/8\n      Lãnh đạo Liên đoàn\n      8
 h30’: Nghiệm thu cấp cơ sở dự án “ Điều tra, đánh giá tổng quan tài nguyên 
 nước tỷ lệ 1:100.000 lưu vực sông Lô Gâm” tại Hội trường Liên đoàn\n  Thành
  phần: Theo Quyết định số 342/ QĐ-TNNMB ngày 15/8/2022\n          Thứ sáu\n
   19/8\n      Lãnh đạo Liên đoàn\n      Làm việc tại cơ quan\n          
DTSTAMP:20260423T061956Z
DTSTART;TZID=Asia/Ho_Chi_Minh:20220816T080000
DTEND;TZID=Asia/Ho_Chi_Minh:20220816T170000
SEQUENCE:0
TRANSP:OPAQUE
END:VEVENT
END:VCALENDAR