BEGIN:VCALENDAR
VERSION:2.0
PRODID:-//jEvents 2.0 for Joomla//EN
CALSCALE:GREGORIAN
METHOD:PUBLISH
BEGIN:VEVENT
UID:f67366fd8c83119852ccd4ca91fc6c74
CATEGORIES:Lịch làm việc
SUMMARY:Lịch làm việc tuần 24 của Lãnh đạo Liên đoàn cập nhật lần 4
DESCRIPTION;ENCODING=QUOTED-PRINTABLE:TRUNG TÂM QUY HOẠCH VÀ ĐIỀU TRA TÀI NGUYÊN NƯỚC QUỐC GIA\n  LIÊN ĐOÀN QUY H
 OẠCH VÀ ĐIỀU TRA TÀI NGUYÊN NƯỚC MIỀN BẮC\n  LỊCH LÀM VIỆC CỦA LÃNH ĐẠO LIÊ
 N ĐOÀN\n  Tuần thứ 24 (từ ngày 12/6 đến ngày 16/6/2023)\n            Ngày t
 háng\n      Chủ trì\n      Nội dung - Địa điểm - Thành phần\n          Thứ 
 hai\n  12/6\n      Lãnh đạo Liên đoàn\n      - 8h30’: Họp giao ban Trung tâ
 m, tại phòng họp 204 TT\n  - Chiều: làm việc tại cơ quan\n          Phó Liê
 n đoàn trưởng\n  Luyện Đức Thuận\n      - 15h00’: Họp chuẩn bị Hội thảo kỹ 
 thuật\n  Thành phần: Các chủ nhiệm dự án có liên quan, Trưởng các phòng; Kế
  toán trưởng\n  Địa điểm: Phòng Truyền thống\n          Thứ ba\n  13/6\n   
    Lãnh đạo Liên đoàn\n      - 8h00’: Kiểm ra sản phẩm, xác định khối lượng
  hoàn thành cấp cơ sở 6 tháng đầu năm Dự án Điều tra đánh giá sơ bộ tài ngu
 yên nước tỷ lệ 1/50.000 vành đai kinh tế ven biển Vịnh Bắc Bộ”\n  Thành phầ
 n: Theo Quyết định số 185/QĐ-TNNMB ngày 06/6/2023\n  Địa điểm: Phòng Truyền
  thống\n          Thứ tư\n  14/6\n      Lãnh đạo Liên đoàn\n      - 8h00’: 
 Kiểm ra sản phẩm, xác định khối lượng hoàn thành cấp cơ sở 6 tháng đầu năm 
 Dự án          “ Điều tra đánh giá lập bản đồ TNN và chuyển đổi số phục vụ 
 phát triển kinh tế- xã hội lưu vực sông Cả”\n  Thành phần: Theo Quyết định 
 số 183/QĐ-TNNMB ngày 06/6/2023\n  - 13h30’:Kiểm ra sản phẩm, xác định khối 
 lượng hoàn thành cấp cơ sở 6 tháng đầu năm Dự án          “ Đánh giá sức ch
 ịu tải các sông liên tỉnh, liên quốc gia thuộc lưu vực sông Hồng- Thái Bình
  và đề xuất các giải pháp bảo vệ môi trường nước phục vụ phát triển kinh tế
 - xã hội bền vững”\n          Thành phần: Theo Quyết định số 184/QĐ-TNNMB n
 gày 06/6/2023\n  Địa điểm: Phòng Truyền thống\n          Thứ năm\n  15/6\n 
      Lãnh đạo Liên đoàn\n      - 8h00’: Kiểm ra sản phẩm, xác định khối lượ
 ng hoàn thành cấp cơ sở 6 tháng đầu năm Nhiệm vụ Quan trắc quốc gia và Nhiệ
 m vụ Quan trắc môi trường nước dưới đất vùng đồng bằng Bắc Bộ và Bắc Trung 
 bộ.\n  Thành phần: Theo Quyết định số 182/QĐ-TNNMB ngày 06/6/2023\n  Địa đi
 ểm: Phòng Truyền thống\n          Thứ sáu\n  16/6\n      Lãnh đạo Liên đoàn
 \n      - 8h00’: Hội thảo Kỹ thuật các Dự án chuyên môn\n  Thành phần: Theo
  giấy mời.\n  Trưởng các phòng, Đoàn trưởng và Kỹ thuật các Đoàn\n  Phòng Đ
 iều tra: Tống Thanh Tùng, Trịnh Đình Hoàn, Phạm Thị Thường, Đoàn Thế Anh, N
 guyễn Bá Hưng, Hoàng Văn Duy, Nguyễn Việt Hùng\n  Địa điểm: Hội trường tầng
  3\n          
DTSTAMP:20260423T022526Z
DTSTART;TZID=Asia/Ho_Chi_Minh:20230615T080000
DTEND;TZID=Asia/Ho_Chi_Minh:20230615T170000
SEQUENCE:0
TRANSP:OPAQUE
END:VEVENT
END:VCALENDAR