BEGIN:VCALENDAR
VERSION:2.0
PRODID:-//jEvents 2.0 for Joomla//EN
CALSCALE:GREGORIAN
METHOD:PUBLISH
BEGIN:VEVENT
UID:55e16e6f1a987068725e16958e037294
CATEGORIES:Lịch làm việc
SUMMARY: Lịch tuần 31 của Lãnh đạo Liên đoàn cập nhật lần 2
DESCRIPTION;ENCODING=QUOTED-PRINTABLE:<p style="margin: 0cm 0cm 0.0001pt -1cm; text-align: center; line-height: n
 ormal;" align="center"><span style="font-size: 14pt; font-family: 'Times Ne
 w Roman', serif; color: black;">TRUNG TÂM QUY HOẠCH VÀ ĐIỀU TRA TÀI NGUYÊN 
 NƯỚC QUỐC GIA</span></p>  <p style="margin: 0cm 0cm 0.0001pt -1cm; text-ali
 gn: center; line-height: normal;" align="center"><strong><span style="font-
 size: 14pt; font-family: 'Times New Roman', serif; color: black;">LIÊN ĐOÀN
  QUY HOẠCH VÀ ĐIỀU TRA TÀI NGUYÊN NƯỚC MIỀN BẮC</span></strong></p>  <p sty
 le="margin: 30pt 0cm 0.0001pt; text-align: center; line-height: normal;" al
 ign="center"><strong><span style="font-size: 14pt; font-family: 'Times New 
 Roman', serif; color: black;">LỊCH LÀM VIỆC CỦA LÃNH ĐẠO LIÊN ĐOÀN</span></
 strong></p>  <p style="margin: 6pt 0cm 12pt; text-align: center; line-heigh
 t: normal;" align="center"><strong><em><span style="font-size: 14pt; font-f
 amily: 'Times New Roman', serif; color: black;">Tuần thứ 31 (từ ngày 31/7 đ
 ến ngày 04/8/2023)</span></em></strong></p>  <div align="center">  <table s
 tyle="width: 651px; border-collapse: collapse; height: 702px;" border="0" c
 ellspacing="0" cellpadding="0">  <tbody>  <tr style="height: 30.75pt;">  <t
 d style="width: 104.3pt; border: 1pt solid windowtext; padding: 0cm 5.4pt; 
 height: 30.75pt;" width="174">  <p style="margin-right: 30pt; margin-left: 
 30pt; margin-bottom: 0.0001pt; text-align: justify; line-height: normal;"><
 strong><em><span style="font-size: 14pt; font-family: 'Times New Roman', se
 rif; color: black;">Ngày tháng</span></em></strong></p>  </td>  <td style="
 width: 163.8pt; border-top: 1pt solid windowtext; border-right: 1pt solid w
 indowtext; border-bottom: 1pt solid windowtext; border-left: none; padding:
  0cm 5.4pt; height: 30.75pt;" width="273">  <p style="margin-right: 30pt; m
 argin-left: 30pt; margin-bottom: 0.0001pt; text-align: center; line-height:
  normal;" align="center"><strong><em><span style="font-size: 14pt; font-fam
 ily: 'Times New Roman', serif; color: black;">Chủ trì</span></em></strong><
 /p>  </td>  <td style="width: 301.9pt; border-top: 1pt solid windowtext; bo
 rder-right: 1pt solid windowtext; border-bottom: 1pt solid windowtext; bord
 er-left: none; padding: 0cm 5.4pt; height: 30.75pt;" width="503">  <p style
 ="margin: 0cm 44.85pt 0.0001pt; text-align: justify; line-height: normal;">
 <strong><em><span style="font-size: 14pt; font-family: 'Times New Roman', s
 erif; color: black;">Nội dung - Địa điểm - Thành phần</span></em></strong><
 /p>  </td>  </tr>  <tr style="height: 30.75pt;">  <td style="width: 104.3pt
 ; border-right: 1pt solid windowtext; border-bottom: 1pt solid windowtext; 
 border-left: 1pt solid windowtext; border-top: none; padding: 0cm; height: 
 30.75pt;" width="174">  <p style="margin: 6pt 12pt; text-align: center; lin
 e-height: normal;" align="center"><em><span style="font-size: 14pt; font-fa
 mily: 'Times New Roman', serif; color: black;">Thứ hai</span></em></p>  <p 
 style="margin: 6pt 12pt; text-align: center; line-height: normal;" align="c
 enter"><em><span style="font-size: 14pt; font-family: 'Times New Roman', se
 rif; color: black;">31/7</span></em></p>  </td>  <td style="width: 163.8pt;
  border-top: none; border-left: none; border-bottom: 1pt solid windowtext; 
 border-right: 1pt solid windowtext; padding: 0cm 5.4pt; height: 30.75pt;" w
 idth="273">  <p style="margin: 6pt 0cm; text-align: center; line-height: no
 rmal;" align="center"><span style="font-size: 14pt; font-family: 'Times New
  Roman', serif; color: black;">Lãnh đạo Liên đoàn</span></p>  </td>  <td st
 yle="width: 301.9pt; border-top: none; border-left: none; border-bottom: 1p
 t solid windowtext; border-right: 1pt solid windowtext; padding: 0cm; heigh
 t: 30.75pt;" width="503">  <p style="margin: 6pt 8.5pt; text-align: justify
 ; line-height: normal;"><em><span style="font-size: 14pt; font-family: 'Tim
 es New Roman', serif; color: black;">- 8h30’</span></em><span style="font-s
 ize: 14pt; font-family: 'Times New Roman', serif; color: black;">: Họp giao
  ban, tại phòng Truyền thống</span></p>  <p style="margin: 6pt 8.5pt; text-
 align: justify; line-height: normal;"><strong><em><span style="font-size: 1
 4pt; font-family: 'Times New Roman', serif; color: black;">Thành phần: Trưở
 ng các phòng và Đoàn trưởng Các Đoàn trưởng họp trực tuyến</span></em></str
 ong></p>  <p style="margin: 6pt 8.5pt; text-align: justify; line-height: no
 rmal;"><em><span style="font-size: 14pt; font-family: 'Times New Roman', se
 rif; color: black;">- Chiều</span></em><span style="font-size: 14pt; font-f
 amily: 'Times New Roman', serif; color: black;">: Làm việc tại cơ quan</spa
 n></p>  </td>  </tr>  <tr style="height: 30.75pt;">  <td style="width: 104.
 3pt; border-right: 1pt solid windowtext; border-bottom: 1pt solid windowtex
 t; border-left: 1pt solid windowtext; border-top: none; padding: 0cm; heigh
 t: 30.75pt;" width="174">  <p style="margin: 6pt 12pt; text-align: center; 
 line-height: normal;" align="center"><em><span style="font-size: 14pt; font
 -family: 'Times New Roman', serif; color: black;">Thứ ba</span></em></p>  <
 p style="margin: 6pt 12pt; text-align: center; line-height: normal;" align=
 "center"><em><span style="font-size: 14pt; font-family: 'Times New Roman', 
 serif; color: black;">01/8</span></em></p>  </td>  <td style="width: 163.8p
 t; border-top: none; border-left: none; border-bottom: 1pt solid windowtext
 ; border-right: 1pt solid windowtext; padding: 0cm 5.4pt; height: 30.75pt;"
  width="273">  <p style="margin: 6pt 5.65pt; text-align: center; line-heigh
 t: normal;" align="center"><span style="font-size: 14pt; font-family: 'Time
 s New Roman', serif; color: black;">Lãnh đạo Liên đoàn</span></p>  </td>  <
 td style="width: 301.9pt; border-top: none; border-left: none; border-botto
 m: 1pt solid windowtext; border-right: 1pt solid windowtext; padding: 0cm; 
 height: 30.75pt;" width="503">  <p style="margin: 6pt 8.5pt; text-align: ju
 stify; line-height: normal;"><em><span style="font-size: 14pt; font-family:
  'Times New Roman', serif; color: black;">- 8h30’:</span></em><span style="
 font-size: 14pt; font-family: 'Times New Roman', serif; color: black;"> Hội
  nghị sơ kết công tác 6 tháng đầu năm 2023, tại Hội trường Liên đoàn</span>
 </p>  <p style="margin: 6pt 8.5pt; text-align: justify; line-height: normal
 ;"><strong><em><span style="font-size: 14pt; font-family: 'Times New Roman'
 , serif; color: black;">Thành phần: Theo Công văn số 349/TNNMB-VP, ngày 26 
 tháng 7 năm 2023</span></em></strong></p>  <p style="margin: 6pt 8.5pt; tex
 t-align: justify; line-height: normal;"><em><span style="font-size: 14pt; f
 ont-family: 'Times New Roman', serif; color: black;">- Chiều:</span></em><s
 pan style="font-size: 14pt; font-family: 'Times New Roman', serif; color: b
 lack;"> Làm việc tại cơ quan</span></p>  </td>  </tr>  <tr style="height: 3
 0.75pt;">  <td style="width: 104.3pt; border-right: 1pt solid windowtext; b
 order-bottom: 1pt solid windowtext; border-left: 1pt solid windowtext; bord
 er-top: none; padding: 0cm; height: 30.75pt;" width="174">  <p style="margi
 n: 6pt 12pt; text-align: center; line-height: normal;" align="center"><em><
 span style="font-size: 14pt; font-family: 'Times New Roman', serif; color: 
 black;">Thứ tư</span></em></p>  <p style="margin: 6pt 12pt; text-align: cen
 ter; line-height: normal;" align="center"><em><span style="font-size: 14pt;
  font-family: 'Times New Roman', serif; color: black;">02/8</span></em></p>
   </td>  <td style="width: 163.8pt; border-top: none; border-left: none; bo
 rder-bottom: 1pt solid windowtext; border-right: 1pt solid windowtext; padd
 ing: 0cm 5.4pt; height: 30.75pt;" width="273">  <p style="margin: 6pt 5.65p
 t; text-align: center; line-height: normal;" align="center"><span style="fo
 nt-size: 14pt; font-family: 'Times New Roman', serif; color: black;">Lãnh đ
 ạo Liên đoàn</span></p>  </td>  <td style="width: 301.9pt; border-top: none
 ; border-left: none; border-bottom: 1pt solid windowtext; border-right: 1pt
  solid windowtext; padding: 0cm; height: 30.75pt;" width="503">  <p style="
 margin: 6pt 8.5pt; text-align: justify; line-height: normal;"><span style="
 font-size: 14pt; font-family: 'Times New Roman', serif; color: black;">Làm 
 việc tại cơ quan</span></p>  </td>  </tr>  <tr style="height: 30.75pt;">  <
 td style="width: 104.3pt; border-right: 1pt solid windowtext; border-bottom
 : 1pt solid windowtext; border-left: 1pt solid windowtext; border-top: none
 ; padding: 0cm; height: 30.75pt;" width="174">  <p style="margin: 6pt 12pt;
  text-align: center; line-height: normal;" align="center"><em><span style="
 font-size: 14pt; font-family: 'Times New Roman', serif; color: black;">Thứ 
 năm</span></em></p>  <p style="margin: 6pt 12pt; text-align: center; line-h
 eight: normal;" align="center"><em><span style="font-size: 14pt; font-famil
 y: 'Times New Roman', serif; color: black;">03/8</span></em></p>  </td>  <t
 d style="width: 163.8pt; border-top: none; border-left: none; border-bottom
 : 1pt solid windowtext; border-right: 1pt solid windowtext; padding: 0cm 5.
 4pt; height: 30.75pt;" width="273">  <p style="margin: 6pt 5.65pt; text-ali
 gn: center; line-height: normal;" align="center"><span style="font-size: 14
 pt; font-family: 'Times New Roman', serif; color: black;">Lãnh đạo Liên đoà
 n</span></p>  </td>  <td style="width: 301.9pt; border-top: none; border-le
 ft: none; border-bottom: 1pt solid windowtext; border-right: 1pt solid wind
 owtext; padding: 0cm; height: 30.75pt;" width="503">  <p style="margin: 6pt
  8.5pt; text-align: justify; line-height: normal;"><em><span style="font-si
 ze: 14pt; font-family: 'Times New Roman', serif;">- 09h00’:</span></em><spa
 n style="font-size: 14pt; font-family: 'Times New Roman', serif;"> <span st
 yle="color: black;">Họp BCH Đảng ủy, tại phòng Truyền thống</span></span></
 p>  <p style="margin: 6pt 8.5pt; text-align: justify; line-height: normal;"
 ><strong><em><span style="font-size: 14pt; font-family: 'Times New Roman', 
 serif; color: black;">Thành phần: BCH ĐU Liên đoàn</span></em></strong></p>
   <p style="margin: 6pt 8.5pt; text-align: justify; line-height: normal;"><
 span style="font-size: 14pt; font-family: 'Times New Roman', serif; color: 
 black;">A Hùng, A Hoạt họp trực tuyến</span></p>  <p style="margin: 6pt 8.5
 pt; text-align: justify; line-height: normal;"><span style="font-size: 14pt
 ; font-family: 'Times New Roman', serif; color: black;"> <em>Chiều</em>: Là
 m việc tại cơ quan</span></p>  </td>  </tr>  <tr style="height: 30.75pt;"> 
  <td style="width: 104.3pt; border-right: 1pt solid windowtext; border-bott
 om: 1pt solid windowtext; border-left: 1pt solid windowtext; border-top: no
 ne; padding: 0cm; height: 30.75pt;" width="174">  <p style="margin: 6pt 12p
 t; text-align: center; line-height: normal;" align="center"><em><span style
 ="font-size: 14pt; font-family: 'Times New Roman', serif; color: black;">Th
 ứ sáu</span></em></p>  <p style="margin: 6pt 12pt; text-align: center; line
 -height: normal;" align="center"><em><span style="font-size: 14pt; font-fam
 ily: 'Times New Roman', serif; color: black;">04/8</span></em></p>  </td>  
 <td style="width: 163.8pt; border-top: none; border-left: none; border-bott
 om: 1pt solid windowtext; border-right: 1pt solid windowtext; padding: 0cm 
 5.4pt; height: 30.75pt;" width="273">  <p style="margin: 6pt 5.65pt; text-a
 lign: center; line-height: normal;" align="center"><span style="font-size: 
 14pt; font-family: 'Times New Roman', serif; color: black;">Lãnh đạo Liên đ
 oàn</span></p>  </td>  <td style="width: 301.9pt; border-top: none; border-
 left: none; border-bottom: 1pt solid windowtext; border-right: 1pt solid wi
 ndowtext; padding: 0cm; height: 30.75pt;" width="503">  <p style="margin: 6
 pt 8.5pt; text-align: justify; line-height: normal;"><em><span style="font-
 size: 14pt; font-family: 'Times New Roman', serif; color: red;">- 8h30’</sp
 an></em><span style="font-size: 14pt; font-family: 'Times New Roman', serif
 ; color: black;">: Hội thảo dự án “Đánh giá khả năng tiếp nhận nước thải, s
 ức chịu tải các sông liên tỉnh, liên quốc gia lưu vực sông Hồng- Thái Bình.
  Đề xuất các giải pháp bảo vệ môi trường nước phục vụ phát triển kinh tế- x
 ã hội bền vững”</span></p>  <p style="margin: 6pt 8.5pt; text-align: justif
 y; line-height: normal;"><strong><em><span style="font-size: 14pt; font-fam
 ily: 'Times New Roman', serif; color: black;">Thành phần: Phòng Quy hoạch T
 NN, phòng Điều tra TNN, Phòng Công Nghệ và Đoàn QT TNN miền Bắc</span></em>
 </strong></p>  <p style="margin: 6pt 8.5pt; text-align: justify; line-heigh
 t: normal;"><em><span style="font-size: 14pt; font-family: 'Times New Roman
 ', serif; color: black;">Địa điểm</span></em><span style="font-size: 14pt; 
 font-family: 'Times New Roman', serif; color: black;">: Hội trường Liên đoà
 n</span></p>  </td>  </tr>  </tbody>  </table>  </div>
DTSTAMP:20260423T052911Z
DTSTART;TZID=Asia/Ho_Chi_Minh:20230801T080000
DTEND;TZID=Asia/Ho_Chi_Minh:20230801T170000
SEQUENCE:0
TRANSP:OPAQUE
END:VEVENT
END:VCALENDAR