BEGIN:VCALENDAR
VERSION:2.0
PRODID:-//jEvents 2.0 for Joomla//EN
CALSCALE:GREGORIAN
METHOD:PUBLISH
BEGIN:VEVENT
UID:b518cb326d216a665a1ea271122451bf
CATEGORIES:Lịch làm việc
SUMMARY: Lịch làm việc tuần thứ 32 của Lãnh đạo Liên đoàn
DESCRIPTION;ENCODING=QUOTED-PRINTABLE:<p style="margin: 0cm 0cm 0.0001pt -1cm; text-align: center; line-height: n
 ormal;" align="center"><span style="font-size: 14pt; font-family: 'Times Ne
 w Roman', serif; color: black;">TRUNG TÂM QUY HOẠCH VÀ ĐIỀU TRA TÀI NGUYÊN 
 NƯỚC QUỐC GIA</span></p>  <p style="margin: 0cm 0cm 0.0001pt -1cm; text-ali
 gn: center; line-height: normal;" align="center"><strong><span style="font-
 size: 14pt; font-family: 'Times New Roman', serif; color: black;">LIÊN ĐOÀN
  QUY HOẠCH VÀ ĐIỀU TRA TÀI NGUYÊN NƯỚC MIỀN BẮC</span></strong></p>  <p sty
 le="margin: 30pt 0cm 0.0001pt; text-align: center; line-height: normal;" al
 ign="center"><strong><span style="font-size: 14pt; font-family: 'Times New 
 Roman', serif; color: black;">LỊCH LÀM VIỆC CỦA LÃNH ĐẠO LIÊN ĐOÀN</span></
 strong></p>  <p style="margin: 6pt 0cm 12pt; text-align: center; line-heigh
 t: normal;" align="center"><strong><em><span style="font-size: 14pt; font-f
 amily: 'Times New Roman', serif; color: black;">Tuần thứ 32 (từ ngày 07/8 đ
 ến ngày 11/8/2023)</span></em></strong></p>  <div align="center">  <table s
 tyle="width: 727px; border-collapse: collapse; height: 584px;" border="0" c
 ellspacing="0" cellpadding="0">  <tbody>  <tr style="height: 30.75pt;">  <t
 d style="width: 104.3pt; border: 1pt solid windowtext; padding: 0cm 5.4pt; 
 height: 30.75pt;" width="174">  <p style="margin-right: 30pt; margin-left: 
 30pt; margin-bottom: 0.0001pt; text-align: justify; line-height: normal;"><
 strong><em><span style="font-size: 14pt; font-family: 'Times New Roman', se
 rif; color: black;">Ngày tháng</span></em></strong></p>  </td>  <td style="
 width: 150.35pt; border-top: 1pt solid windowtext; border-right: 1pt solid 
 windowtext; border-bottom: 1pt solid windowtext; border-left: none; padding
 : 0cm 5.4pt; height: 30.75pt;" width="251">  <p style="margin-right: 30pt; 
 margin-left: 30pt; margin-bottom: 0.0001pt; text-align: center; line-height
 : normal;" align="center"><strong><em><span style="font-size: 14pt; font-fa
 mily: 'Times New Roman', serif; color: black;">Chủ trì</span></em></strong>
 </p>  </td>  <td style="width: 315.35pt; border-top: 1pt solid windowtext; 
 border-right: 1pt solid windowtext; border-bottom: 1pt solid windowtext; bo
 rder-left: none; padding: 0cm 5.4pt; height: 30.75pt;" width="526">  <p sty
 le="margin: 0cm 44.85pt 0.0001pt; text-align: justify; line-height: normal;
 "><strong><em><span style="font-size: 14pt; font-family: 'Times New Roman',
  serif; color: black;">Nội dung - Địa điểm - Thành phần</span></em></strong
 ></p>  </td>  </tr>  <tr style="height: 30.75pt;">  <td style="width: 104.3
 pt; border-right: 1pt solid windowtext; border-bottom: 1pt solid windowtext
 ; border-left: 1pt solid windowtext; border-top: none; padding: 0cm; height
 : 30.75pt;" rowspan="2" width="174">  <p style="margin: 6pt 12pt; text-alig
 n: center; line-height: normal;" align="center"><em><span style="font-size:
  14pt; font-family: 'Times New Roman', serif; color: black;">Thứ hai</span>
 </em></p>  <p style="margin: 6pt 12pt; text-align: center; line-height: nor
 mal;" align="center"><em><span style="font-size: 14pt; font-family: 'Times 
 New Roman', serif; color: black;">07/8</span></em></p>  </td>  <td style="w
 idth: 150.35pt; border-top: none; border-left: none; border-bottom: 1pt sol
 id windowtext; border-right: 1pt solid windowtext; padding: 0cm 5.4pt; heig
 ht: 30.75pt;" width="251">  <p style="margin: 6pt 0cm; text-align: center; 
 line-height: normal;" align="center"><span style="font-size: 14pt; font-fam
 ily: 'Times New Roman', serif; color: black;">Lãnh đạo Liên đoàn</span></p>
   </td>  <td style="width: 315.35pt; border-top: none; border-left: none; b
 order-bottom: 1pt solid windowtext; border-right: 1pt solid windowtext; pad
 ding: 0cm; height: 30.75pt;" width="526">  <p style="margin: 6pt 8.5pt; tex
 t-align: justify; line-height: normal;"><em><span style="font-size: 14pt; f
 ont-family: 'Times New Roman', serif; color: black;">- 8h30’</span></em><sp
 an style="font-size: 14pt; font-family: 'Times New Roman', serif; color: bl
 ack;">: Họp giao ban, tại phòng Truyền thống</span></p>  <p style="margin: 
 6pt 8.5pt; text-align: justify; line-height: normal;"><strong><em><span sty
 le="font-size: 14pt; font-family: 'Times New Roman', serif; color: black;">
 Thành phần: Trưởng các phòng và Kế toán trưởng</span></em></strong></p>  <p
  style="margin: 6pt 8.5pt; text-align: justify; line-height: normal;"><em><
 span style="font-size: 14pt; font-family: 'Times New Roman', serif; color: 
 black;">- Chiều</span></em><span style="font-size: 14pt; font-family: 'Time
 s New Roman', serif; color: black;">: Làm việc tại cơ quan</span></p>  </td
 >  </tr>  <tr style="height: 30.75pt;">  <td style="width: 150.35pt; border
 -top: none; border-left: none; border-bottom: 1pt solid windowtext; border-
 right: 1pt solid windowtext; padding: 0cm 5.4pt; height: 30.75pt;" width="2
 51">  <p style="margin: 0cm 5.65pt 0.0001pt; text-align: center; line-heigh
 t: normal;" align="center"><span style="font-size: 14pt; font-family: 'Time
 s New Roman', serif; color: black;">Phó Liên đoàn trưởng</span></p>  <p sty
 le="margin: 0cm 5.65pt 0.0001pt; text-align: center; line-height: normal;" 
 align="center"><span style="font-size: 14pt; font-family: 'Times New Roman'
 , serif; color: black;">Luyện Đức Thuận</span></p>  </td>  <td style="width
 : 315.35pt; border-top: none; border-left: none; border-bottom: 1pt solid w
 indowtext; border-right: 1pt solid windowtext; padding: 0cm; height: 30.75p
 t;" width="526">  <p style="margin: 6pt 8.5pt; text-align: justify; line-he
 ight: normal;"><em><span style="font-size: 14pt; font-family: 'Times New Ro
 man', serif; color: black;">- 13h30’</span></em><span style="font-size: 14p
 t; font-family: 'Times New Roman', serif; color: black;">: Dự Đại hội Công 
 đoàn Bộ TNMT lần thứ V, nhiệm kỳ 2023-2028 tại Hội trường tầng 5 Trụ sở Bộ 
 TNMT</span></p>  </td>  </tr>  <tr style="height: 30.75pt;">  <td style="wi
 dth: 104.3pt; border-right: 1pt solid windowtext; border-bottom: 1pt solid 
 windowtext; border-left: 1pt solid windowtext; border-top: none; padding: 0
 cm; height: 30.75pt;" rowspan="2" width="174">  <p style="margin: 6pt 12pt;
  text-align: center; line-height: normal;" align="center"><em><span style="
 font-size: 14pt; font-family: 'Times New Roman', serif; color: black;">Thứ 
 ba</span></em></p>  <p style="margin: 6pt 12pt; text-align: center; line-he
 ight: normal;" align="center"><em><span style="font-size: 14pt; font-family
 : 'Times New Roman', serif; color: black;">08/8</span></em></p>  </td>  <td
  style="width: 150.35pt; border-top: none; border-left: none; border-bottom
 : 1pt solid windowtext; border-right: 1pt solid windowtext; padding: 0cm 5.
 4pt; height: 30.75pt;" width="251">  <p style="margin: 0cm 5.65pt 0.0001pt;
  text-align: center; line-height: normal;" align="center"><span style="font
 -size: 14pt; font-family: 'Times New Roman', serif; color: black;">Liên đoà
 n trưởng</span></p>  <p style="margin: 0cm 5.65pt 0.0001pt; text-align: cen
 ter; line-height: normal;" align="center"><span style="font-size: 14pt; fon
 t-family: 'Times New Roman', serif; color: black;">Nguyễn Chí Nghĩa</span><
 /p>  </td>  <td style="width: 315.35pt; border-top: none; border-left: none
 ; border-bottom: 1pt solid windowtext; border-right: 1pt solid windowtext; 
 padding: 0cm; height: 30.75pt;" width="526">  <p style="margin: 6pt 8.5pt; 
 text-align: justify; line-height: normal;"><span style="font-size: 14pt; fo
 nt-family: 'Times New Roman', serif; color: black;">Làm việc tại cơ quan</s
 pan></p>  </td>  </tr>  <tr style="height: 30.75pt;">  <td style="width: 15
 0.35pt; border-top: none; border-left: none; border-bottom: 1pt solid windo
 wtext; border-right: 1pt solid windowtext; padding: 0cm 5.4pt; height: 30.7
 5pt;" width="251">  <p style="margin: 0cm 5.65pt 0.0001pt; text-align: cent
 er; line-height: normal;" align="center"><span style="font-size: 14pt; font
 -family: 'Times New Roman', serif; color: black;">Phó Liên đoàn trưởng</spa
 n></p>  <p style="margin: 0cm 5.65pt 0.0001pt; text-align: center; line-hei
 ght: normal;" align="center"><span style="font-size: 14pt; font-family: 'Ti
 mes New Roman', serif; color: black;">Luyện Đức Thuận</span></p>  </td>  <t
 d style="width: 315.35pt; border-top: none; border-left: none; border-botto
 m: 1pt solid windowtext; border-right: 1pt solid windowtext; padding: 0cm; 
 height: 30.75pt;" width="526">  <p style="margin: 6pt 8.5pt; text-align: ju
 stify; line-height: normal;"><em><span style="font-size: 14pt; font-family:
  'Times New Roman', serif; color: black;">- 08h30’</span></em><span style="
 font-size: 14pt; font-family: 'Times New Roman', serif; color: black;">: Dự
  Đại hội Công đoàn Bộ TNMT lần thứ V, nhiệm kỳ 2023-2028, tại Hội trường tầ
 ng 5 Trụ sở Bộ TNMT</span></p>  </td>  </tr>  <tr style="height: 30.75pt;">
   <td style="width: 104.3pt; border-right: 1pt solid windowtext; border-bot
 tom: 1pt solid windowtext; border-left: 1pt solid windowtext; border-top: n
 one; padding: 0cm; height: 30.75pt;" width="174">  <p style="margin: 6pt 12
 pt; text-align: center; line-height: normal;" align="center"><em><span styl
 e="font-size: 14pt; font-family: 'Times New Roman', serif; color: black;">T
 hứ tư</span></em></p>  <p style="margin: 6pt 12pt; text-align: center; line
 -height: normal;" align="center"><em><span style="font-size: 14pt; font-fam
 ily: 'Times New Roman', serif; color: black;">09/8</span></em></p>  </td>  
 <td style="width: 150.35pt; border-top: none; border-left: none; border-bot
 tom: 1pt solid windowtext; border-right: 1pt solid windowtext; padding: 0cm
  5.4pt; height: 30.75pt;" width="251">  <p style="margin: 6pt 5.65pt; text-
 align: center; line-height: normal;" align="center"><span style="font-size:
  14pt; font-family: 'Times New Roman', serif; color: black;">Lãnh đạo Liên 
 đoàn</span></p>  </td>  <td style="width: 315.35pt; border-top: none; borde
 r-left: none; border-bottom: 1pt solid windowtext; border-right: 1pt solid 
 windowtext; padding: 0cm; height: 30.75pt;" width="526">  <p style="margin:
  6pt 8.5pt; text-align: justify; line-height: normal;"><span style="font-si
 ze: 14pt; font-family: 'Times New Roman', serif; color: black;">Làm việc tạ
 i cơ quan</span></p>  </td>  </tr>  <tr style="height: 30.75pt;">  <td styl
 e="width: 104.3pt; border-right: 1pt solid windowtext; border-bottom: 1pt s
 olid windowtext; border-left: 1pt solid windowtext; border-top: none; paddi
 ng: 0cm; height: 30.75pt;" width="174">  <p style="margin: 6pt 12pt; text-a
 lign: center; line-height: normal;" align="center"><em><span style="font-si
 ze: 14pt; font-family: 'Times New Roman', serif; color: black;">Thứ năm</sp
 an></em></p>  <p style="margin: 6pt 12pt; text-align: center; line-height: 
 normal;" align="center"><em><span style="font-size: 14pt; font-family: 'Tim
 es New Roman', serif; color: black;">10/8</span></em></p>  </td>  <td style
 ="width: 150.35pt; border-top: none; border-left: none; border-bottom: 1pt 
 solid windowtext; border-right: 1pt solid windowtext; padding: 0cm 5.4pt; h
 eight: 30.75pt;" width="251">  <p style="margin: 6pt 5.65pt; text-align: ce
 nter; line-height: normal;" align="center"><span style="font-size: 14pt; fo
 nt-family: 'Times New Roman', serif; color: black;">Lãnh đạo Liên đoàn</spa
 n></p>  </td>  <td style="width: 315.35pt; border-top: none; border-left: n
 one; border-bottom: 1pt solid windowtext; border-right: 1pt solid windowtex
 t; padding: 0cm; height: 30.75pt;" width="526">  <p style="margin: 6pt 8.5p
 t; text-align: justify; line-height: normal;"><span style="font-size: 14pt;
  font-family: 'Times New Roman', serif; color: black;">Làm việc tại cơ quan
 </span></p>  </td>  </tr>  <tr style="height: 30.75pt;">  <td style="width:
  104.3pt; border-right: 1pt solid windowtext; border-bottom: 1pt solid wind
 owtext; border-left: 1pt solid windowtext; border-top: none; padding: 0cm; 
 height: 30.75pt;" width="174">  <p style="margin: 6pt 12pt; text-align: cen
 ter; line-height: normal;" align="center"><em><span style="font-size: 14pt;
  font-family: 'Times New Roman', serif; color: black;">Thứ sáu</span></em><
 /p>  <p style="margin: 6pt 12pt; text-align: center; line-height: normal;" 
 align="center"><em><span style="font-size: 14pt; font-family: 'Times New Ro
 man', serif; color: black;">11/8</span></em></p>  </td>  <td style="width: 
 150.35pt; border-top: none; border-left: none; border-bottom: 1pt solid win
 dowtext; border-right: 1pt solid windowtext; padding: 0cm 5.4pt; height: 30
 .75pt;" width="251">  <p style="margin: 6pt 5.65pt; text-align: center; lin
 e-height: normal;" align="center"><span style="font-size: 14pt; font-family
 : 'Times New Roman', serif; color: black;">Lãnh đạo Liên đoàn</span></p>  <
 /td>  <td style="width: 315.35pt; border-top: none; border-left: none; bord
 er-bottom: 1pt solid windowtext; border-right: 1pt solid windowtext; paddin
 g: 0cm; height: 30.75pt;" width="526">  <p style="margin: 6pt 8.5pt; text-a
 lign: justify; line-height: normal;"><span style="font-size: 14pt; font-fam
 ily: 'Times New Roman', serif; color: black;">Làm việc tại cơ quan</span></
 p>  </td>  </tr>  </tbody>  </table>  </div>
DTSTAMP:20260423T054900Z
DTSTART;TZID=Asia/Ho_Chi_Minh:20230804T080000
DTEND;TZID=Asia/Ho_Chi_Minh:20230804T170000
SEQUENCE:0
TRANSP:OPAQUE
END:VEVENT
END:VCALENDAR