BEGIN:VCALENDAR
VERSION:2.0
PRODID:-//jEvents 2.0 for Joomla//EN
CALSCALE:GREGORIAN
METHOD:PUBLISH
BEGIN:VEVENT
UID:b3d85476663e7fd39f51a91ddf873b5d
CATEGORIES:Lịch làm việc
SUMMARY: Lịch làm việc tuần 32 của lãnh đạo Liên đoàn cập nhật lần 2
DESCRIPTION;ENCODING=QUOTED-PRINTABLE:TRUNG TÂM QUY HOẠCH VÀ ĐIỀU TRA TÀI NGUYÊN NƯỚC QUỐC GIA\n  LIÊN ĐOÀN QUY H
 OẠCH VÀ ĐIỀU TRA TÀI NGUYÊN NƯỚC MIỀN BẮC\n  LỊCH LÀM VIỆC CỦA LÃNH ĐẠO LIÊ
 N ĐOÀN\n  Tuần thứ 32 (từ ngày 07/8 đến ngày 11/8/2023)\n            Ngày t
 háng\n      Chủ trì\n      Nội dung - Địa điểm - Thành phần\n          Thứ 
 hai\n  07/8\n      Lãnh đạo Liên đoàn\n      - 8h30’: Họp giao ban, tại phò
 ng Truyền thống\n  Thành phần: Trưởng các phòng và Kế toán trưởng\n  - Chiề
 u: Làm việc tại cơ quan\n          Phó Liên đoàn trưởng\n  Luyện Đức Thuận\
 n      - 13h30’: Dự Đại hội Công đoàn Bộ TNMT lần thứ V, nhiệm kỳ 2023-2028
  tại Hội trường tầng 5 Trụ sở Bộ TNMT\n          Thứ ba\n  08/8\n      Liên
  đoàn trưởng\n  Nguyễn Chí Nghĩa\n      Làm việc tại cơ quan\n          Phó
  Liên đoàn trưởng\n  Luyện Đức Thuận\n      - 08h30’: Dự Đại hội Công đoàn 
 Bộ TNMT lần thứ V, nhiệm kỳ 2023-2028, tại Hội trường tầng 5 Trụ sở Bộ TNMT
 \n          Thứ tư\n  09/8\n      Liên đoàn trưởng\n  Nguyễn Chí Nghĩa\n   
    Sáng: Làm việc tại cơ quan\n  - 14h30’:  Dự họp trực tuyến về công tác h
 oàn thiện hồ sơ kế hoạch dự toán ngân sách năm 2024 và 03 năm 2024 - 2026 c
 ủa Trung tâm, tại phòng Truyền thống\n   Thành phần tham dự: Kế toán trưởng
 , Trưởng phòng Kế hoạch - Tài chính và các cán bộ có liên quan. \n         
  Phó Liên đoàn trưởng\n  Luyện Đức Thuận\n       Làm việc tại cơ quan\n    
       Thứ năm\n  10/8\n      Liên đoàn trưởng\n  Nguyễn Chí Nghĩa\n      - 
 Sáng: Làm việc tại cơ quan\n  - 14h00’: Họp Ban Thường vụ Đảng ủy và Lãnh đ
 ạo Trung tâm, tại PH 204\n          Phó Liên đoàn trưởng\n  Luyện Đức Thuận
 \n      Làm việc tại cơ quan\n          Thứ sáu\n  11/8\n      Lãnh đạo Liê
 n đoàn\n      Làm việc tại cơ quan\n          
DTSTAMP:20260423T053548Z
DTSTART;TZID=Asia/Ho_Chi_Minh:20230809T080000
DTEND;TZID=Asia/Ho_Chi_Minh:20230809T170000
SEQUENCE:0
TRANSP:OPAQUE
END:VEVENT
END:VCALENDAR