BEGIN:VCALENDAR
VERSION:2.0
PRODID:-//jEvents 2.0 for Joomla//EN
CALSCALE:GREGORIAN
METHOD:PUBLISH
BEGIN:VEVENT
UID:cfe142f5d4d78487125ecd5d254e7de4
CATEGORIES:Lịch làm việc
SUMMARY:Lịch làm việc tuần 33 của lãnh đạo Liên đoàn
DESCRIPTION;ENCODING=QUOTED-PRINTABLE:TRUNG TÂM QUY HOẠCH VÀ ĐIỀU TRA TÀI NGUYÊN NƯỚC QUỐC GIA\n  LIÊN ĐOÀN QUY H
 OẠCH VÀ ĐIỀU TRA TÀI NGUYÊN NƯỚC MIỀN BẮC\n  LỊCH LÀM VIỆC CỦA LÃNH ĐẠO LIÊ
 N ĐOÀN\n  Tuần thứ 33 (từ ngày 14/8 đến ngày 18/8/2023)\n            Ngày t
 háng\n      Chủ trì\n      Nội dung - Địa điểm - Thành phần\n          Thứ 
 hai\n  14/8\n      Lãnh đạo Liên đoàn\n      - 8h00’: Họp giao ban, tại phò
 ng Truyền thống\n  Thành phần: Trưởng các phòng và Kế toán trưởng\n  -14h00
 ’: Lấy phiếu tín nhiệm đối với Lãnh đạo Liên đoàn\n  Thành phần: Theo kế ho
 ạch số 359/KH-TNNMB ngày 25/7/2023\n  Địa điểm: Phòng Truyền thống\n       
    Thứ ba\n  15/8\n      Lãnh đạo Liên đoàn\n      Làm việc tại cơ quan\n  
         Thứ tư\n  16/8\n      Lãnh đạo Liên đoàn\n      Làm việc tại cơ qua
 n\n          Thứ năm\n  17/8\n      Lãnh đạo Liên đoàn\n      Làm việc tại 
 cơ quan\n          Thứ sáu\n  18/8\n      Lãnh đạo Liên đoàn\n      Làm việ
 c tại cơ quan\n          
DTSTAMP:20260423T054746Z
DTSTART;TZID=Asia/Ho_Chi_Minh:20230811T080000
DTEND;TZID=Asia/Ho_Chi_Minh:20230811T170000
SEQUENCE:0
TRANSP:OPAQUE
END:VEVENT
END:VCALENDAR