BEGIN:VCALENDAR
VERSION:2.0
PRODID:-//jEvents 2.0 for Joomla//EN
CALSCALE:GREGORIAN
METHOD:PUBLISH
BEGIN:VEVENT
UID:119d86e1cf904fe7b21db2f72e92b7e5
CATEGORIES:Lịch làm việc
SUMMARY:Lịch làm việc tuần thứ 33 của lãnh đạo Liên đoàn cập nhật lần 1
DESCRIPTION;ENCODING=QUOTED-PRINTABLE:<p style="margin: 0cm 0cm 0.0001pt -1cm; text-align: center; line-height: n
 ormal;" align="center"><span style="font-size: 14pt; font-family: 'Times Ne
 w Roman', serif; color: black;">TRUNG TÂM QUY HOẠCH VÀ ĐIỀU TRA TÀI NGUYÊN 
 NƯỚC QUỐC GIA</span></p>  <p style="margin: 0cm 0cm 0.0001pt -1cm; text-ali
 gn: center; line-height: normal;" align="center"><strong><span style="font-
 size: 14pt; font-family: 'Times New Roman', serif; color: black;">LIÊN ĐOÀN
  QUY HOẠCH VÀ ĐIỀU TRA TÀI NGUYÊN NƯỚC MIỀN BẮC</span></strong></p>  <p sty
 le="margin: 30pt 0cm 0.0001pt; text-align: center; line-height: normal;" al
 ign="center"><strong><span style="font-size: 14pt; font-family: 'Times New 
 Roman', serif; color: black;">LỊCH LÀM VIỆC CỦA LÃNH ĐẠO LIÊN ĐOÀN</span></
 strong></p>  <p style="margin: 6pt 0cm 12pt; text-align: center; line-heigh
 t: normal;" align="center"><strong><em><span style="font-size: 14pt; font-f
 amily: 'Times New Roman', serif; color: black;">Tuần thứ 33 (từ ngày 14/8 đ
 ến ngày 18/8/2023)</span></em></strong></p>  <div align="center">  <table s
 tyle="width: 691px; border-collapse: collapse; height: 821px;" border="0" c
 ellspacing="0" cellpadding="0">  <tbody>  <tr style="height: 30.75pt;">  <t
 d style="width: 104.3pt; border: 1pt solid windowtext; padding: 0cm 5.4pt; 
 height: 30.75pt;" width="174">  <p style="margin-right: 30pt; margin-left: 
 30pt; margin-bottom: 0.0001pt; text-align: justify; line-height: normal;"><
 strong><em><span style="font-size: 14pt; font-family: 'Times New Roman', se
 rif; color: black;">Ngày tháng</span></em></strong></p>  </td>  <td style="
 width: 150.35pt; border-top: 1pt solid windowtext; border-right: 1pt solid 
 windowtext; border-bottom: 1pt solid windowtext; border-left: none; padding
 : 0cm 5.4pt; height: 30.75pt;" width="251">  <p style="margin-right: 30pt; 
 margin-left: 30pt; margin-bottom: 0.0001pt; text-align: center; line-height
 : normal;" align="center"><strong><em><span style="font-size: 14pt; font-fa
 mily: 'Times New Roman', serif; color: black;">Chủ trì</span></em></strong>
 </p>  </td>  <td style="width: 315.35pt; border-top: 1pt solid windowtext; 
 border-right: 1pt solid windowtext; border-bottom: 1pt solid windowtext; bo
 rder-left: none; padding: 0cm 5.4pt; height: 30.75pt;" width="526">  <p sty
 le="margin: 0cm 44.85pt 0.0001pt; text-align: justify; line-height: normal;
 "><strong><em><span style="font-size: 14pt; font-family: 'Times New Roman',
  serif; color: black;">Nội dung - Địa điểm - Thành phần</span></em></strong
 ></p>  </td>  </tr>  <tr style="height: 30.75pt;">  <td style="width: 104.3
 pt; border-right: 1pt solid windowtext; border-bottom: 1pt solid windowtext
 ; border-left: 1pt solid windowtext; border-top: none; padding: 0cm; height
 : 30.75pt;" width="174">  <p style="margin: 6pt 12pt; text-align: center; l
 ine-height: normal;" align="center"><em><span style="font-size: 14pt; font-
 family: 'Times New Roman', serif; color: black;">Thứ hai</span></em></p>  <
 p style="margin: 6pt 12pt; text-align: center; line-height: normal;" align=
 "center"><em><span style="font-size: 14pt; font-family: 'Times New Roman', 
 serif; color: black;">14/8</span></em></p>  </td>  <td style="width: 150.35
 pt; border-top: none; border-left: none; border-bottom: 1pt solid windowtex
 t; border-right: 1pt solid windowtext; padding: 0cm 5.4pt; height: 30.75pt;
 " width="251">  <p style="margin: 6pt 0cm; text-align: center; line-height:
  normal;" align="center"><span style="font-size: 14pt; font-family: 'Times 
 New Roman', serif; color: black;">Lãnh đạo Liên đoàn</span></p>  </td>  <td
  style="width: 315.35pt; border-top: none; border-left: none; border-bottom
 : 1pt solid windowtext; border-right: 1pt solid windowtext; padding: 0cm; h
 eight: 30.75pt;" width="526">  <p style="margin: 6pt 8.5pt; text-align: jus
 tify; line-height: normal;"><em><span style="font-size: 14pt; font-family: 
 'Times New Roman', serif; color: black;">- 8h00’</span></em><span style="fo
 nt-size: 14pt; font-family: 'Times New Roman', serif; color: black;">: Họp 
 giao ban, tại phòng Truyền thống</span></p>  <p style="margin: 6pt 8.5pt; t
 ext-align: justify; line-height: normal;"><strong><em><span style="font-siz
 e: 14pt; font-family: 'Times New Roman', serif; color: black;">Thành phần: 
 Trưởng các phòng và Kế toán trưởng</span></em></strong></p>  <p style="marg
 in: 6pt 8.5pt; text-align: justify; line-height: normal;"><em><span style="
 font-size: 14pt; font-family: 'Times New Roman', serif; color: black;">-14h
 00’</span></em><span style="font-size: 14pt; font-family: 'Times New Roman'
 , serif; color: black;">: Lấy phiếu tín nhiệm đối với Lãnh đạo Liên đoàn</s
 pan></p>  <p style="margin: 6pt 8.5pt; text-align: justify; line-height: no
 rmal;"><strong><em><span style="font-size: 14pt; font-family: 'Times New Ro
 man', serif; color: black;">Thành phần: Theo kế hoạch số 359/KH-TNNMB ngày 
 25/7/2023</span></em></strong></p>  <p style="margin: 6pt 8.5pt; text-align
 : justify; line-height: normal;"><span style="font-size: 14pt; font-family:
  'Times New Roman', serif; color: black;">Địa điểm: Phòng Truyền thống</spa
 n></p>  </td>  </tr>  <tr style="height: 30.75pt;">  <td style="width: 104.
 3pt; border-right: 1pt solid windowtext; border-bottom: 1pt solid windowtex
 t; border-left: 1pt solid windowtext; border-top: none; padding: 0cm; heigh
 t: 30.75pt;" width="174">  <p style="margin: 6pt 12pt; text-align: center; 
 line-height: normal;" align="center"><em><span style="font-size: 14pt; font
 -family: 'Times New Roman', serif; color: black;">Thứ ba</span></em></p>  <
 p style="margin: 6pt 12pt; text-align: center; line-height: normal;" align=
 "center"><em><span style="font-size: 14pt; font-family: 'Times New Roman', 
 serif; color: black;">15/8</span></em></p>  </td>  <td style="width: 150.35
 pt; border-top: none; border-left: none; border-bottom: 1pt solid windowtex
 t; border-right: 1pt solid windowtext; padding: 0cm 5.4pt; height: 30.75pt;
 " width="251">  <p style="margin: 6pt 5.65pt; text-align: center; line-heig
 ht: normal;" align="center"><span style="font-size: 14pt; font-family: 'Tim
 es New Roman', serif; color: black;">Lãnh đạo Liên đoàn</span></p>  </td>  
 <td style="width: 315.35pt; border-top: none; border-left: none; border-bot
 tom: 1pt solid windowtext; border-right: 1pt solid windowtext; padding: 0cm
 ; height: 30.75pt;" width="526">  <p style="margin: 6pt 8.5pt; text-align: 
 justify; line-height: normal;"><span style="font-size: 14pt; font-family: '
 Times New Roman', serif; color: black;">Làm việc tại cơ quan</span></p>  </
 td>  </tr>  <tr style="height: 30.75pt;">  <td style="width: 104.3pt; borde
 r-right: 1pt solid windowtext; border-bottom: 1pt solid windowtext; border-
 left: 1pt solid windowtext; border-top: none; padding: 0cm; height: 30.75pt
 ;" rowspan="2" width="174">  <p style="margin: 6pt 12pt; text-align: center
 ; line-height: normal;" align="center"><em><span style="font-size: 14pt; fo
 nt-family: 'Times New Roman', serif; color: black;">Thứ tư</span></em></p> 
  <p style="margin: 6pt 12pt; text-align: center; line-height: normal;" alig
 n="center"><em><span style="font-size: 14pt; font-family: 'Times New Roman'
 , serif; color: black;">16/8</span></em></p>  </td>  <td style="width: 150.
 35pt; border-top: none; border-left: none; border-bottom: 1pt solid windowt
 ext; border-right: 1pt solid windowtext; padding: 0cm 5.4pt; height: 30.75p
 t;" width="251">  <p style="margin: 0cm 5.65pt 0.0001pt; text-align: center
 ; line-height: normal;" align="center"><span style="font-size: 14pt; font-f
 amily: 'Times New Roman', serif; color: black;">Liên đoàn trưởng</span></p>
   <p style="margin: 0cm 5.65pt 0.0001pt; text-align: center; line-height: n
 ormal;" align="center"><span style="font-size: 14pt; font-family: 'Times Ne
 w Roman', serif; color: black;">Nguyễn Chí Nghĩa</span></p>  </td>  <td sty
 le="width: 315.35pt; border-top: none; border-left: none; border-bottom: 1p
 t solid windowtext; border-right: 1pt solid windowtext; padding: 0cm; heigh
 t: 30.75pt;" width="526">  <p style="margin: 6pt 2.85pt; text-align: justif
 y; line-height: normal;"><em><span style="font-size: 14pt; font-family: 'Ti
 mes New Roman', serif; color: red;">- 08h30’</span></em><span style="font-s
 ize: 14pt; font-family: 'Times New Roman', serif;">: Họp về công tác thiết 
 kế bản vẽ thi công Dự án đầu tư xây dựng, tại PH 204. </span><strong><em><s
 pan style="font-size: 14pt; font-family: 'Times New Roman', serif;">Thành p
 hần theo Quyết định số 212/QĐ-TNNQG ngày 13/9/2022. </span></em></strong></
 p>  </td>  </tr>  <tr style="height: 30.75pt;">  <td style="width: 150.35pt
 ; border-top: none; border-left: none; border-bottom: 1pt solid windowtext;
  border-right: 1pt solid windowtext; padding: 0cm 5.4pt; height: 30.75pt;" 
 width="251">  <p style="margin: 0cm 5.65pt 0.0001pt; text-align: center; li
 ne-height: normal;" align="center"><span style="font-size: 14pt; font-famil
 y: 'Times New Roman', serif; color: black;">Phó Liên đoàn trưởng</span></p>
   <p style="margin: 0cm 5.65pt 0.0001pt; text-align: center; line-height: n
 ormal;" align="center"><span style="font-size: 14pt; font-family: 'Times Ne
 w Roman', serif; color: black;">Luyện Đức Thuận</span></p>  </td>  <td styl
 e="width: 315.35pt; border-top: none; border-left: none; border-bottom: 1pt
  solid windowtext; border-right: 1pt solid windowtext; padding: 0cm; height
 : 30.75pt;" width="526">  <p style="margin: 0cm 2.85pt 8pt; text-align: jus
 tify;"><span style="font-size: 14pt; line-height: 107%; font-family: 'Times
  New Roman', serif;">Làm việc tại cơ quan</span></p>  </td>  </tr>  <tr sty
 le="height: 30.75pt;">  <td style="width: 104.3pt; border-right: 1pt solid 
 windowtext; border-bottom: 1pt solid windowtext; border-left: 1pt solid win
 dowtext; border-top: none; padding: 0cm; height: 30.75pt;" rowspan="2" widt
 h="174">  <p style="margin: 6pt 12pt; text-align: center; line-height: norm
 al;" align="center"><em><span style="font-size: 14pt; font-family: 'Times N
 ew Roman', serif; color: black;">Thứ năm</span></em></p>  <p style="margin:
  6pt 12pt; text-align: center; line-height: normal;" align="center"><em><sp
 an style="font-size: 14pt; font-family: 'Times New Roman', serif; color: bl
 ack;">17/8</span></em></p>  </td>  <td style="width: 150.35pt; border-top: 
 none; border-left: none; border-bottom: 1pt solid windowtext; border-right:
  1pt solid windowtext; padding: 0cm 5.4pt; height: 30.75pt;" width="251">  
 <p style="margin: 0cm 5.65pt 0.0001pt; text-align: center; line-height: nor
 mal;" align="center"><span style="font-size: 14pt; font-family: 'Times New 
 Roman', serif; color: black;">Liên đoàn trưởng</span></p>  <p style="margin
 : 0cm 5.65pt 0.0001pt; text-align: center; line-height: normal;" align="cen
 ter"><span style="font-size: 14pt; font-family: 'Times New Roman', serif; c
 olor: black;">Nguyễn Chí Nghĩa</span></p>  </td>  <td style="width: 315.35p
 t; border-top: none; border-left: none; border-bottom: 1pt solid windowtext
 ; border-right: 1pt solid windowtext; padding: 0cm; height: 30.75pt;" width
 ="526">  <p style="margin: 0cm 2.85pt 8pt; text-align: justify;"><span styl
 e="font-size: 14pt; line-height: 107%; font-family: 'Times New Roman', seri
 f; color: #000000;">- Sáng: Làm việc tại cơ quan</span></p>  <p style="marg
 in: 0cm 2.85pt 8pt; text-align: justify;"><span style="font-size: 14pt; lin
 e-height: 107%; font-family: 'Times New Roman', serif; color: red;">- 13h30
 ’: </span><span style="font-size: 14pt; line-height: 107%; font-family: 'Ti
 mes New Roman', serif; color: black;">Hội nghị Tập thể Lãnh đạo và Ban Thườ
 ng vụ Đảng ủy Trung tâm QH&ĐTTNNQG, tại PH 204. </span><strong><em><span st
 yle="font-size: 14pt; line-height: 107%; font-family: 'Times New Roman', se
 rif; color: black;">Thành phần theo Thông báo số 482/TB-TNNQG ngày 10/8/202
 3.</span></em></strong></p>  <p style="margin: 0cm 2.85pt 8pt; text-align: 
 justify;"><span style="font-size: 14pt; line-height: 107%; font-family: 'Ti
 mes New Roman', serif; color: red;">- 14h00’</span><span style="font-size: 
 14pt; line-height: 107%; font-family: 'Times New Roman', serif; color: blac
 k;">: Hội nghị lấy phiếu tín nhiệm đối với Lãnh đạo Trung tâm QH&ĐTTNNQG, t
 ại PH 204. </span><strong><em><span style="font-size: 14pt; line-height: 10
 7%; font-family: 'Times New Roman', serif; color: black;">Thành phần theo T
 hông báo số 482/TB-TNNQG ngày 10/8/</span></em></strong><strong><em><span s
 tyle="font-size: 14pt; line-height: 107%; font-family: 'Times New Roman', s
 erif;">2023.</span></em></strong></p>  <p style="margin: 6pt 2.85pt; text-a
 lign: justify; line-height: normal;"><span style="font-size: 14pt; font-fam
 ily: 'Times New Roman', serif; color: red;">- 14h30’</span><span style="fon
 t-size: 14pt; font-family: 'Times New Roman', serif;">: Hội nghị sơ kết côn
 g tác 7 tháng đầu năm 2023 của Trung tâm QH&ĐTTNNQG, tại PH 204. </span><st
 rong><em><span style="font-size: 14pt; font-family: 'Times New Roman', seri
 f;">Thành phần theo Thông báo số 482/TB-TNNQG ngày 10/8/2023.</span></em></
 strong></p>  </td>  </tr>  <tr style="height: 30.75pt;">  <td style="width:
  150.35pt; border-top: none; border-left: none; border-bottom: 1pt solid wi
 ndowtext; border-right: 1pt solid windowtext; padding: 0cm 5.4pt; height: 3
 0.75pt;" width="251">  <p style="margin: 0cm 5.65pt 0.0001pt; text-align: c
 enter; line-height: normal;" align="center"><span style="font-size: 14pt; f
 ont-family: 'Times New Roman', serif; color: black;">Phó Liên đoàn trưởng</
 span></p>  <p style="margin: 0cm 5.65pt 0.0001pt; text-align: center; line-
 height: normal;" align="center"><span style="font-size: 14pt; font-family: 
 'Times New Roman', serif; color: black;">Luyện Đức Thuận</span></p>  </td> 
  <td style="width: 315.35pt; border-top: none; border-left: none; border-bo
 ttom: 1pt solid windowtext; border-right: 1pt solid windowtext; padding: 0c
 m; height: 30.75pt;" width="526">  <p style="margin: 6pt 8.5pt; text-align:
  justify; line-height: normal;"><span style="font-size: 14pt; font-family: 
 'Times New Roman', serif; color: #000000;">- Sáng: Làm việc tại cơ quan</sp
 an></p>  <p style="margin: 6pt 8.5pt; text-align: justify; line-height: nor
 mal;"><span style="font-size: 14pt; font-family: 'Times New Roman', serif; 
 color: red;">- 14h30’</span><span style="font-size: 14pt; font-family: 'Tim
 es New Roman', serif;">: Hội nghị sơ kết công tác 7 tháng đầu năm 2023 của 
 Trung tâm QH&ĐTTNNQG, tại PH 204. </span><strong><em><span style="font-size
 : 14pt; font-family: 'Times New Roman', serif;">Thành phần theo Thông báo s
 ố 482/TB-TNNQG ngày 10/8/2023.</span></em></strong></p>  </td>  </tr>  <tr 
 style="height: 30.75pt;">  <td style="width: 104.3pt; border-right: 1pt sol
 id windowtext; border-bottom: 1pt solid windowtext; border-left: 1pt solid 
 windowtext; border-top: none; padding: 0cm; height: 30.75pt;" width="174"> 
  <p style="margin: 6pt 12pt; text-align: center; line-height: normal;" alig
 n="center"><em><span style="font-size: 14pt; font-family: 'Times New Roman'
 , serif; color: black;">Thứ sáu</span></em></p>  <p style="margin: 6pt 12pt
 ; text-align: center; line-height: normal;" align="center"><em><span style=
 "font-size: 14pt; font-family: 'Times New Roman', serif; color: black;">18/
 8</span></em></p>  </td>  <td style="width: 150.35pt; border-top: none; bor
 der-left: none; border-bottom: 1pt solid windowtext; border-right: 1pt soli
 d windowtext; padding: 0cm 5.4pt; height: 30.75pt;" width="251">  <p style=
 "margin: 6pt 5.65pt; text-align: center; line-height: normal;" align="cente
 r"><span style="font-size: 14pt; font-family: 'Times New Roman', serif; col
 or: black;">Lãnh đạo Liên đoàn</span></p>  </td>  <td style="width: 315.35p
 t; border-top: none; border-left: none; border-bottom: 1pt solid windowtext
 ; border-right: 1pt solid windowtext; padding: 0cm; height: 30.75pt;" width
 ="526">  <p style="margin: 6pt 8.5pt; text-align: justify; line-height: nor
 mal;"><span style="font-size: 14pt; font-family: 'Times New Roman', serif; 
 color: black;">Làm việc tại cơ quan</span></p>  </td>  </tr>  </tbody>  </t
 able>  </div>
DTSTAMP:20260423T053807Z
DTSTART;TZID=Asia/Ho_Chi_Minh:20230815T080000
DTEND;TZID=Asia/Ho_Chi_Minh:20230815T170000
SEQUENCE:0
TRANSP:OPAQUE
END:VEVENT
END:VCALENDAR