BEGIN:VCALENDAR
VERSION:2.0
PRODID:-//jEvents 2.0 for Joomla//EN
CALSCALE:GREGORIAN
METHOD:PUBLISH
BEGIN:VEVENT
UID:6eb6c4040648478438dc2f5694501312
CATEGORIES:Lịch làm việc
SUMMARY:Lịch làm việc tuần thứ 34 của Lãnh đạo Liên đoàn
DESCRIPTION;ENCODING=QUOTED-PRINTABLE:TRUNG TÂM QUY HOẠCH VÀ ĐIỀU TRA TÀI NGUYÊN NƯỚC QUỐC GIA\n  LIÊN ĐOÀN QUY H
 OẠCH VÀ ĐIỀU TRA TÀI NGUYÊN NƯỚC MIỀN BẮC\n  LỊCH LÀM VIỆC CỦA LÃNH ĐẠO LIÊ
 N ĐOÀN \n  Tuần thứ 34 (từ ngày 21/8 đến ngày 25/8/2023)\n            Ngày 
 tháng\n      Chủ trì\n      Nội dung - Địa điểm - Thành phần\n          Thứ
  hai\n  21/8\n      Lãnh đạo Liên đoàn\n      - 08h30’: Họp giao ban, tại p
 hòng Truyền thống\n  Thành phần: Trưởng, phó các phòng và Thủ trưởng các Đo
 àn chuẩn bị, dự\n  Đoàn Bắc Bộ và Bắc Trung Bộ họp trực tuyến\n  - Chiều: L
 àm việc tại cơ quan\n          Thứ ba\n  22/8\n      Lãnh đạo Liên đoàn\n  
     Làm việc tại cơ quan\n          Thứ tư\n  23/8\n      Lãnh đạo Liên đoà
 n\n      Làm việc tại cơ quan\n          Thứ năm\n  24/8\n      Lãnh đạo Li
 ên đoàn\n      Làm việc tại cơ quan\n          Thứ sáu \n  25/8\n      Lãnh
  đạo Liên đoàn\n      Làm việc tại cơ quan\n          
DTSTAMP:20260423T053356Z
DTSTART;TZID=Asia/Ho_Chi_Minh:20230819T080000
DTEND;TZID=Asia/Ho_Chi_Minh:20230819T170000
SEQUENCE:0
TRANSP:OPAQUE
END:VEVENT
END:VCALENDAR