BEGIN:VCALENDAR
VERSION:2.0
PRODID:-//jEvents 2.0 for Joomla//EN
CALSCALE:GREGORIAN
METHOD:PUBLISH
BEGIN:VEVENT
UID:b572400c60daa6e32481c672702e2ac4
CATEGORIES:Lịch làm việc
SUMMARY:Lịch làm việc tuần thứ 35 của lãnh đạo Liên đoàn
DESCRIPTION;ENCODING=QUOTED-PRINTABLE:<p style="margin-left: -1cm; text-align: center;" align="center"><span styl
 e="font-size: 14pt; color: black; font-family: 'times new roman', times;">T
 RUNG TÂM QUY HOẠCH VÀ ĐIỀU TRA TÀI NGUYÊN NƯỚC QUỐC GIA</span></p>  <p styl
 e="margin-left: -1cm; text-align: center;" align="center"><span style="font
 -family: 'times new roman', times;"><strong><span style="font-size: 14pt; c
 olor: black;">LIÊN ĐOÀN QUY HOẠCH VÀ ĐIỀU TRA TÀI NGUYÊN NƯỚC MIỀN BẮC</spa
 n></strong></span></p>  <p style="margin: 30pt 0cm 0.0001pt; text-align: ce
 nter;" align="center"><span style="font-family: 'times new roman', times;">
 <strong><span style="font-size: 14pt; color: black;">LỊCH LÀM VIỆC CỦA LÃNH
  ĐẠO LIÊN ĐOÀN</span></strong></span></p>  <p style="margin: 6pt 0cm; text-
 align: center;" align="center"><span style="font-family: 'times new roman',
  times;"><strong><em><span style="font-size: 14pt; color: black;">Tuần thứ 
 35 (từ ngày 28/8 đến ngày 01/9/2023)</span></em></strong></span></p>  <div 
 align="center">  <table style="width: 652px; border-collapse: collapse; bor
 der: none;" border="1" cellspacing="0" cellpadding="0">  <tbody>  <tr style
 ="height: 32.95pt;">  <td style="width: 119.3pt; border: 1pt solid windowte
 xt; padding: 0cm 5.4pt; height: 32.95pt;" width="159">  <p style="margin-ri
 ght: 37.5pt; margin-left: 37.5pt; text-align: justify;"><span style="font-f
 amily: 'times new roman', times;"><strong><em><span style="font-size: 14pt;
  color: black;">Ngày tháng</span></em></strong></span></p>  </td>  <td styl
 e="width: 132.05pt; border-top: 1pt solid windowtext; border-right: 1pt sol
 id windowtext; border-bottom: 1pt solid windowtext; border-left: none; padd
 ing: 0cm 5.4pt; height: 32.95pt;" width="176">  <p style="margin-right: 37.
 5pt; margin-left: 37.5pt; text-align: center;" align="center"><span style="
 font-family: 'times new roman', times;"><strong><em><span style="font-size:
  14pt; color: black;">Chủ trì</span></em></strong></span></p>  </td>  <td s
 tyle="width: 237.65pt; border-top: 1pt solid windowtext; border-right: 1pt 
 solid windowtext; border-bottom: 1pt solid windowtext; border-left: none; p
 adding: 0cm 5.4pt; height: 32.95pt;" width="317">  <p style="margin: 0cm 52
 .35pt 0.0001pt; text-align: justify;"><span style="font-family: 'times new 
 roman', times;"><strong><em><span style="font-size: 14pt; color: black;">Nộ
 i dung - Địa điểm - Thành phần</span></em></strong></span></p>  </td>  </tr
 >  <tr style="height: 32.95pt;">  <td style="width: 119.3pt; border-right: 
 1pt solid windowtext; border-bottom: 1pt solid windowtext; border-left: 1pt
  solid windowtext; border-top: none; padding: 0cm; height: 32.95pt;" width=
 "159">  <p style="margin: 6pt 19.5pt; text-align: center;" align="center"><
 span style="font-family: 'times new roman', times;"><em><span style="font-s
 ize: 14pt; color: black;">Thứ hai</span></em></span></p>  <p style="margin:
  6pt 19.5pt; text-align: center;" align="center"><span style="font-family: 
 'times new roman', times;"><em><span style="font-size: 14pt; color: black;"
 >28/8</span></em></span></p>  </td>  <td style="width: 132.05pt; border-top
 : none; border-left: none; border-bottom: 1pt solid windowtext; border-righ
 t: 1pt solid windowtext; padding: 0cm 5.4pt; height: 32.95pt;" width="176">
   <p style="margin: 0cm 21.65pt 6pt;"><span style="font-size: 14pt; color: 
 black; font-family: 'times new roman', times;">Lãnh đạo Liên đoàn</span></p
 >  </td>  <td style="width: 237.65pt; border-top: none; border-left: none; 
 border-bottom: 1pt solid windowtext; border-right: 1pt solid windowtext; pa
 dding: 0cm; height: 32.95pt;" width="317">  <p style="margin: 6pt 20.7pt; t
 ext-align: justify;"><span style="font-family: 'times new roman', times;"><
 em><span style="font-size: 14pt; color: black;">- 08h30’:</span></em><span 
 style="font-size: 14pt; color: black;"> Dự Khai mạc kiểm tra giữa kỳ công t
 ác tài chính năm 2023</span></span></p>  <p style="margin: 6pt 20.7pt; text
 -align: justify;"><span style="font-family: 'times new roman', times;"><str
 ong><em><span style="font-size: 14pt; color: black;">Thành phần: Lãnh đạo p
 hòng KH-TC, Trưởng các phòng, Thủ trưởng các đơn vị.</span></em></strong></
 span></p>  </td>  </tr>  <tr style="height: 32.95pt;">  <td style="width: 1
 19.3pt; border-right: 1pt solid windowtext; border-bottom: 1pt solid window
 text; border-left: 1pt solid windowtext; border-top: none; padding: 0cm; he
 ight: 32.95pt;" width="159">  <p style="margin: 6pt 19.5pt; text-align: cen
 ter;" align="center"><span style="font-family: 'times new roman', times;"><
 em><span style="font-size: 14pt; color: black;">Thứ ba</span></em></span></
 p>  <p style="margin: 6pt 19.5pt; text-align: center;" align="center"><span
  style="font-family: 'times new roman', times;"><em><span style="font-size:
  14pt; color: black;">29/8</span></em></span></p>  </td>  <td style="width:
  132.05pt; border-top: none; border-left: none; border-bottom: 1pt solid wi
 ndowtext; border-right: 1pt solid windowtext; padding: 0cm 5.4pt; height: 3
 2.95pt;" width="176">  <p style="margin: 0cm 21.65pt 6pt;"><span style="fon
 t-size: 14pt; color: black; font-family: 'times new roman', times;">Lãnh đạ
 o Liên đoàn</span></p>  </td>  <td style="width: 237.65pt; border-top: none
 ; border-left: none; border-bottom: 1pt solid windowtext; border-right: 1pt
  solid windowtext; padding: 0cm; height: 32.95pt;" width="317">  <p style="
 margin: 6pt 20.7pt; text-align: justify;"><span style="font-size: 14pt; col
 or: black; font-family: 'times new roman', times;">Làm việc tại cơ quan</sp
 an></p>  </td>  </tr>  <tr style="height: 32.95pt;">  <td style="width: 119
 .3pt; border-right: 1pt solid windowtext; border-bottom: 1pt solid windowte
 xt; border-left: 1pt solid windowtext; border-top: none; padding: 0cm; heig
 ht: 32.95pt;" width="159">  <p style="margin: 6pt 19.5pt; text-align: cente
 r;" align="center"><span style="font-family: 'times new roman', times;"><em
 ><span style="font-size: 14pt; color: black;">Thứ tư</span></em></span></p>
   <p style="margin: 6pt 19.5pt; text-align: center;" align="center"><span s
 tyle="font-family: 'times new roman', times;"><em><span style="font-size: 1
 4pt; color: black;">30/8</span></em></span></p>  </td>  <td style="width: 1
 32.05pt; border-top: none; border-left: none; border-bottom: 1pt solid wind
 owtext; border-right: 1pt solid windowtext; padding: 0cm 5.4pt; height: 32.
 95pt;" width="176">  <p style="margin: 0cm 21.65pt 6pt;"><span style="font-
 size: 14pt; color: black; font-family: 'times new roman', times;">Lãnh đạo 
 Liên đoàn</span></p>  </td>  <td style="width: 237.65pt; border-top: none; 
 border-left: none; border-bottom: 1pt solid windowtext; border-right: 1pt s
 olid windowtext; padding: 0cm; height: 32.95pt;" width="317">  <p style="ma
 rgin: 6pt 20.7pt; text-align: justify;"><span style="font-size: 14pt; color
 : black; font-family: 'times new roman', times;">Làm việc tại cơ quan</span
 ></p>  </td>  </tr>  <tr style="height: 32.95pt;">  <td style="width: 119.3
 pt; border-right: 1pt solid windowtext; border-bottom: 1pt solid windowtext
 ; border-left: 1pt solid windowtext; border-top: none; padding: 0cm; height
 : 32.95pt;" width="159">  <p style="margin: 6pt 19.5pt; text-align: center;
 " align="center"><span style="font-family: 'times new roman', times;"><em><
 span style="font-size: 14pt; color: black;">Thứ năm</span></em></span></p> 
  <p style="margin: 6pt 19.5pt; text-align: center;" align="center"><span st
 yle="font-family: 'times new roman', times;"><em><span style="font-size: 14
 pt; color: black;">31/8</span></em></span></p>  </td>  <td style="width: 13
 2.05pt; border-top: none; border-left: none; border-bottom: 1pt solid windo
 wtext; border-right: 1pt solid windowtext; padding: 0cm 5.4pt; height: 32.9
 5pt;" width="176">  <p style="margin: 0cm 21.65pt 6pt;"><span style="font-s
 ize: 14pt; color: black; font-family: 'times new roman', times;">Lãnh đạo L
 iên đoàn</span></p>  </td>  <td style="width: 237.65pt; border-top: none; b
 order-left: none; border-bottom: 1pt solid windowtext; border-right: 1pt so
 lid windowtext; padding: 0cm; height: 32.95pt;" width="317">  <p style="mar
 gin: 6pt 20.7pt; text-align: justify;"><span style="font-size: 14pt; color:
  black; font-family: 'times new roman', times;">Làm việc tại cơ quan</span>
 </p>  </td>  </tr>  <tr style="height: 32.95pt;">  <td style="width: 489pt;
  border-right: 1pt solid windowtext; border-bottom: 1pt solid windowtext; b
 order-left: 1pt solid windowtext; border-top: none; padding: 0cm; height: 3
 2.95pt;" colspan="3" width="652">  <p style="margin: 6pt 20.7pt; text-align
 : center;" align="center"><span style="font-family: 'times new roman', time
 s;"><em><span style="font-size: 16pt; color: black;">Từ ngày 01/9/2023 đến 
 hết ngày 04/9/2023</span></em></span></p>  <p style="margin: 6pt 20.7pt; te
 xt-align: center;" align="center"><span style="font-family: 'times new roma
 n', times;"><strong><em><span style="font-size: 16pt; color: black;">NGHỈ L
 Ễ QUỐC KHÁNH MÙNG 2/9 </span></em></strong></span></p>  </td>  </tr>  </tbo
 dy>  </table>  </div>
DTSTAMP:20260423T053959Z
DTSTART;TZID=Asia/Ho_Chi_Minh:20230825T080000
DTEND;TZID=Asia/Ho_Chi_Minh:20230825T170000
SEQUENCE:0
TRANSP:OPAQUE
END:VEVENT
END:VCALENDAR