BEGIN:VCALENDAR
VERSION:2.0
PRODID:-//jEvents 2.0 for Joomla//EN
CALSCALE:GREGORIAN
METHOD:PUBLISH
BEGIN:VEVENT
UID:0f4c95e2c2a9ab674ddf410582a1150b
CATEGORIES:Lịch làm việc
SUMMARY:Lịch làm việc tuần thứ 35 của lãnh đạo Liên đoàn cập nhật lần 1
DESCRIPTION;ENCODING=QUOTED-PRINTABLE:<p style="margin-left: -28.35pt; text-align: center; line-height: normal;" 
 align="center"><span style="font-size: 14pt; font-family: 'times new roman'
 , times;">TRUNG TÂM QUY HOẠCH VÀ ĐIỀU TRA TÀI NGUYÊN NƯỚC QUỐC GIA</span></
 p>  <p style="margin-left: -28.35pt; text-align: center; line-height: norma
 l;" align="center"><span style="font-family: 'times new roman', times;"><st
 rong><span style="font-size: 14pt;">LIÊN ĐOÀN QUY HOẠCH VÀ ĐIỀU TRA TÀI NGU
 YÊN NƯỚC MIỀN BẮC</span></strong></span></p>  <p style="margin: 30pt 0in 0i
 n; text-align: center; line-height: normal;" align="center"><span style="fo
 nt-family: 'times new roman', times;"><strong><span style="font-size: 14pt;
 ">LỊCH LÀM VIỆC CỦA LÃNH ĐẠO LIÊN ĐOÀN</span></strong></span></p>  <p style
 ="margin: 6pt 0in; text-align: center; line-height: normal;" align="center"
 ><span style="font-family: 'times new roman', times;"><strong><em><span sty
 le="font-size: 14pt;">Tuần thứ 35 (từ ngày 28/8 đến ngày 01/9/2023)</span><
 /em></strong></span></p>  <div align="center">  <table style="width: 652px;
  border-collapse: collapse;" border="0" cellspacing="0" cellpadding="0">  <
 tbody>  <tr style="height: 32.95pt;">  <td style="width: 112pt; border: 1pt
  solid windowtext; padding: 0in 5.4pt; height: 32.95pt;" width="149">  <p s
 tyle="margin-right: 43.5pt; text-align: center; line-height: normal;" align
 ="center"><span style="font-family: 'times new roman', times;"><strong><em>
 <span style="font-size: 14pt;">Ngày tháng</span></em></strong></span></p>  
 </td>  <td style="width: 103.5pt; border-top: 1pt solid windowtext; border-
 right: 1pt solid windowtext; border-bottom: 1pt solid windowtext; border-le
 ft: none; padding: 0in 5.4pt; height: 32.95pt;" width="138">  <p style="mar
 gin-right: 43.5pt; text-align: center; line-height: normal;" align="center"
 ><span style="font-family: 'times new roman', times;"><strong><em><span sty
 le="font-size: 14pt;">Chủ trì</span></em></strong></span></p>  </td>  <td s
 tyle="width: 273.5pt; border-top: 1pt solid windowtext; border-right: 1pt s
 olid windowtext; border-bottom: 1pt solid windowtext; border-left: none; pa
 dding: 0in 5.4pt; height: 32.95pt;" width="365">  <p style="margin: 0in 58.
 35pt 0in 0in; text-align: center; line-height: normal;" align="center"><spa
 n style="font-family: 'times new roman', times;"><strong><em><span style="f
 ont-size: 14pt;">Nội dung - Địa điểm - Thành phần</span></em></strong></spa
 n></p>  </td>  </tr>  <tr style="height: 32.95pt;">  <td style="width: 112p
 t; border-right: 1pt solid windowtext; border-bottom: 1pt solid windowtext;
  border-left: 1pt solid windowtext; border-top: none; padding: 0in; height:
  32.95pt;" width="149">  <p style="margin: 6pt 25.5pt; text-align: center; 
 line-height: normal;" align="center"><span style="font-family: 'times new r
 oman', times;"><em><span style="font-size: 14pt;">Thứ hai</span></em></span
 ></p>  <p style="margin: 6pt 25.5pt; text-align: center; line-height: norma
 l;" align="center"><span style="font-family: 'times new roman', times;"><em
 ><span style="font-size: 14pt;">28/8</span></em></span></p>  </td>  <td sty
 le="width: 103.5pt; border-top: none; border-left: none; border-bottom: 1pt
  solid windowtext; border-right: 1pt solid windowtext; padding: 0in 5.4pt; 
 height: 32.95pt;" width="138">  <p style="margin: 0in 27.65pt 6pt 0in; text
 -align: center; line-height: normal;" align="center"><span style="font-size
 : 14pt; font-family: 'times new roman', times;">Lãnh đạo Liên đoàn</span></
 p>  </td>  <td style="width: 273.5pt; border-top: none; border-left: none; 
 border-bottom: 1pt solid windowtext; border-right: 1pt solid windowtext; pa
 dding: 0in; height: 32.95pt;" width="365">  <p style="margin: 6pt 26.7pt; t
 ext-align: justify; line-height: normal;"><span style="font-family: 'times 
 new roman', times;"><em><span style="font-size: 14pt;">- 08h30’:</span></em
 ><span style="font-size: 14pt;"> Dự Khai mạc kiểm tra giữa kỳ công tác tài 
 chính năm 2023 tại phòng Truyền thống</span></span></p>  <p style="margin: 
 6pt 26.7pt; text-align: justify; line-height: normal;"><span style="font-fa
 mily: 'times new roman', times;"><strong><em><span style="font-size: 14pt;"
 >Thành phần: Lãnh đạo phòng KH-TC, Trưởng các phòng, Thủ trưởng các đơn vị.
 </span></em></strong></span></p>  </td>  </tr>  <tr style="height: 32.95pt;
 ">  <td style="width: 112pt; border-right: 1pt solid windowtext; border-bot
 tom: 1pt solid windowtext; border-left: 1pt solid windowtext; border-top: n
 one; padding: 0in; height: 32.95pt;" width="149">  <p style="margin: 6pt 25
 .5pt; text-align: center; line-height: normal;" align="center"><span style=
 "font-family: 'times new roman', times;"><em><span style="font-size: 14pt;"
 >Thứ ba</span></em></span></p>  <p style="margin: 6pt 25.5pt; text-align: c
 enter; line-height: normal;" align="center"><span style="font-family: 'time
 s new roman', times;"><em><span style="font-size: 14pt;">29/8</span></em></
 span></p>  </td>  <td style="width: 103.5pt; border-top: none; border-left:
  none; border-bottom: 1pt solid windowtext; border-right: 1pt solid windowt
 ext; padding: 0in 5.4pt; height: 32.95pt;" width="138">  <p style="margin: 
 0in 27.65pt 6pt 0in; text-align: center; line-height: normal;" align="cente
 r"><span style="font-size: 14pt; font-family: 'times new roman', times;">Lã
 nh đạo Liên đoàn</span></p>  </td>  <td style="width: 273.5pt; border-top: 
 none; border-left: none; border-bottom: 1pt solid windowtext; border-right:
  1pt solid windowtext; padding: 0in; height: 32.95pt;" width="365">  <p sty
 le="margin: 6pt 26.7pt; text-align: justify; line-height: normal;"><span st
 yle="font-size: 14pt; color: #081c36; letter-spacing: 0.15pt; font-family: 
 'times new roman', times;">- 9h00: Nghe phòng Điều tra TNN và Đoàn Quan trắ
 c TNNMB báo cáo đề cương mở mới mạng Quan trắc Đông Bắc và Tây Bắc.</span><
 /p>  <p style="margin: 6pt 26.7pt; text-align: justify; line-height: normal
 ;"><span style="font-family: 'times new roman', times;"><strong><span style
 ="font-size: 14pt; color: #081c36; letter-spacing: 0.15pt;">- Phòng Điều tr
 a TNN và Đoàn Quan trắc TNNMB chuẩn bị.</span></strong><span style="font-si
 ze: 14pt; color: #081c36; letter-spacing: 0.15pt;"> <strong>Phòng KH -TC cử
  người tham dự. </strong></span></span></p>  <p style="margin: 6pt 26.7pt; 
 text-align: justify; line-height: normal;"><span style="font-family: 'times
  new roman', times;"><strong><span style="font-size: 14pt; color: #081c36; 
 letter-spacing: 0.15pt;">Địa điểm:</span></strong><span style="font-size: 1
 4pt; color: #081c36; letter-spacing: 0.15pt;"> Phòng họp tầng 3</span></spa
 n></p>  </td>  </tr>  <tr style="height: 32.95pt;">  <td style="width: 112p
 t; border-right: 1pt solid windowtext; border-bottom: 1pt solid windowtext;
  border-left: 1pt solid windowtext; border-top: none; padding: 0in; height:
  32.95pt;" width="149">  <p style="margin: 6pt 25.5pt; text-align: center; 
 line-height: normal;" align="center"><span style="font-family: 'times new r
 oman', times;"><em><span style="font-size: 14pt;">Thứ tư</span></em></span>
 </p>  <p style="margin: 6pt 25.5pt; text-align: center; line-height: normal
 ;" align="center"><span style="font-family: 'times new roman', times;"><em>
 <span style="font-size: 14pt;">30/8</span></em></span></p>  </td>  <td styl
 e="width: 103.5pt; border-top: none; border-left: none; border-bottom: 1pt 
 solid windowtext; border-right: 1pt solid windowtext; padding: 0in 5.4pt; h
 eight: 32.95pt;" width="138">  <p style="margin: 0in 27.65pt 6pt 0in; text-
 align: center; line-height: normal;" align="center"><span style="font-size:
  14pt; font-family: 'times new roman', times;">Lãnh đạo Liên đoàn</span></p
 >  </td>  <td style="width: 273.5pt; border-top: none; border-left: none; b
 order-bottom: 1pt solid windowtext; border-right: 1pt solid windowtext; pad
 ding: 0in; height: 32.95pt;" width="365">  <p style="margin: 6pt 26.7pt; te
 xt-align: justify; line-height: normal;"><span style="font-size: 14pt; font
 -family: 'times new roman', times;">Làm việc tại cơ quan</span></p>  </td> 
  </tr>  <tr style="height: 32.95pt;">  <td style="width: 112pt; border-righ
 t: 1pt solid windowtext; border-bottom: 1pt solid windowtext; border-left: 
 1pt solid windowtext; border-top: none; padding: 0in; height: 32.95pt;" wid
 th="149">  <p style="margin: 6pt 25.5pt; text-align: center; line-height: n
 ormal;" align="center"><span style="font-family: 'times new roman', times;"
 ><em><span style="font-size: 14pt;">Thứ năm</span></em></span></p>  <p styl
 e="margin: 6pt 25.5pt; text-align: center; line-height: normal;" align="cen
 ter"><span style="font-family: 'times new roman', times;"><em><span style="
 font-size: 14pt;">31/8</span></em></span></p>  </td>  <td style="width: 103
 .5pt; border-top: none; border-left: none; border-bottom: 1pt solid windowt
 ext; border-right: 1pt solid windowtext; padding: 0in 5.4pt; height: 32.95p
 t;" width="138">  <p style="margin: 0in 27.65pt 6pt 0in; text-align: center
 ; line-height: normal;" align="center"><span style="font-size: 14pt; font-f
 amily: 'times new roman', times;">Lãnh đạo Liên đoàn</span></p>  </td>  <td
  style="width: 273.5pt; border-top: none; border-left: none; border-bottom:
  1pt solid windowtext; border-right: 1pt solid windowtext; padding: 0in; he
 ight: 32.95pt;" width="365">  <p style="margin: 6pt 26.7pt; text-align: jus
 tify; line-height: normal;"><span style="font-size: 14pt; font-family: 'tim
 es new roman', times;">Làm việc tại cơ quan</span></p>  </td>  </tr>  <tr s
 tyle="height: 32.95pt;">  <td style="width: 489pt; border-right: 1pt solid 
 windowtext; border-bottom: 1pt solid windowtext; border-left: 1pt solid win
 dowtext; border-top: none; padding: 0in; height: 32.95pt;" colspan="3" widt
 h="652">  <p style="margin: 6pt 26.7pt; text-align: center; line-height: no
 rmal;" align="center"><span style="font-family: 'times new roman', times;">
 <em><span style="font-size: 16pt;">Từ ngày 01/9/2023 đến hết ngày 04/9/2023
 </span></em></span></p>  <p style="margin: 6pt 26.7pt; text-align: center; 
 line-height: normal;" align="center"><span style="font-family: 'times new r
 oman', times;"><strong><em><span style="font-size: 16pt;">NGHỈ LỄ QUỐC KHÁN
 H MÙNG 2/9</span></em></strong></span></p>  </td>  </tr>  </tbody>  </table
 >  </div>
DTSTAMP:20260423T053929Z
DTSTART;TZID=Asia/Ho_Chi_Minh:20230826T080000
DTEND;TZID=Asia/Ho_Chi_Minh:20230826T170000
SEQUENCE:0
TRANSP:OPAQUE
END:VEVENT
END:VCALENDAR