BEGIN:VCALENDAR
VERSION:2.0
PRODID:-//jEvents 2.0 for Joomla//EN
CALSCALE:GREGORIAN
METHOD:PUBLISH
BEGIN:VEVENT
UID:30a5da66aa4a8f2c656e113defb5404e
CATEGORIES:Lịch làm việc
SUMMARY:Lịch làm việc tuần 35 của Lãnh đạo Liên đoàn cập nhật lần 3
DESCRIPTION;ENCODING=QUOTED-PRINTABLE:<p style="margin: 0cm 0cm 0.0001pt -1cm; text-align: center; line-height: n
 ormal;" align="center"><span style="font-size: 14pt; font-family: 'Times Ne
 w Roman', serif; color: black;">TRUNG TÂM QUY HOẠCH VÀ ĐIỀU TRA TÀI NGUYÊN 
 NƯỚC QUỐC GIA</span></p>  <p style="margin: 0cm 0cm 0.0001pt -1cm; text-ali
 gn: center; line-height: normal;" align="center"><strong><span style="font-
 size: 14pt; font-family: 'Times New Roman', serif; color: black;">LIÊN ĐOÀN
  QUY HOẠCH VÀ ĐIỀU TRA TÀI NGUYÊN NƯỚC MIỀN BẮC</span></strong></p>  <p sty
 le="margin: 30pt 0cm 0.0001pt; text-align: center; line-height: normal;" al
 ign="center"><strong><span style="font-size: 14pt; font-family: 'Times New 
 Roman', serif; color: black;">LỊCH LÀM VIỆC CỦA LÃNH ĐẠO LIÊN ĐOÀN</span></
 strong></p>  <p style="margin: 6pt 0cm; text-align: center; line-height: no
 rmal;" align="center"><strong><em><span style="font-size: 14pt; font-family
 : 'Times New Roman', serif; color: black;">Tuần thứ 35 (từ ngày 28/8 đến ng
 ày 01/9/2023)</span></em></strong></p>  <div align="center">  <table style=
 "width: 694px; border-collapse: collapse; height: 642px;" border="0" cellsp
 acing="0" cellpadding="0">  <tbody>  <tr style="height: 32.95pt;">  <td sty
 le="width: 99.8pt; border: 1pt solid windowtext; padding: 0cm 5.4pt; height
 : 32.95pt;" width="166">  <p style="margin-bottom: 0.0001pt; text-align: ce
 nter; line-height: normal;" align="center"><strong><em><span style="font-si
 ze: 14pt; font-family: 'Times New Roman', serif; color: black;">Ngày tháng<
 /span></em></strong></p>  </td>  <td style="width: 143.7pt; border-top: 1pt
  solid windowtext; border-right: 1pt solid windowtext; border-bottom: 1pt s
 olid windowtext; border-left: none; padding: 0cm 5.4pt; height: 32.95pt;" w
 idth="240">  <p style="margin: 0cm 49.5pt 7.5pt 6pt; text-align: center; li
 ne-height: normal;" align="center"><strong><em><span style="font-size: 14pt
 ; font-family: 'Times New Roman', serif; color: black;">Chủ trì</span></em>
 </strong></p>  </td>  <td style="width: 280.5pt; border-top: 1pt solid wind
 owtext; border-right: 1pt solid windowtext; border-bottom: 1pt solid window
 text; border-left: none; padding: 0cm 5.4pt; height: 32.95pt;" width="468">
   <p style="margin: 0cm 64.35pt 0.0001pt 0cm; text-align: center; line-heig
 ht: normal;" align="center"><strong><em><span style="font-size: 14pt; font-
 family: 'Times New Roman', serif; color: black;">Nội dung - Địa điểm - Thàn
 h phần</span></em></strong></p>  </td>  </tr>  <tr style="height: 32.95pt;"
 >  <td style="width: 99.8pt; border-right: 1pt solid windowtext; border-bot
 tom: 1pt solid windowtext; border-left: 1pt solid windowtext; border-top: n
 one; padding: 0cm; height: 32.95pt;" width="166">  <p style="margin-bottom:
  0.0001pt; text-align: center; line-height: normal;" align="center"><em><sp
 an style="font-size: 14pt; font-family: 'Times New Roman', serif; color: bl
 ack;">Thứ hai</span></em></p>  <p style="margin-bottom: 0.0001pt; text-alig
 n: center; line-height: normal;" align="center"><em><span style="font-size:
  14pt; font-family: 'Times New Roman', serif; color: black;">28/8</span></e
 m></p>  </td>  <td style="width: 143.7pt; border-top: none; border-left: no
 ne; border-bottom: 1pt solid windowtext; border-right: 1pt solid windowtext
 ; padding: 0cm 5.4pt; height: 32.95pt;" width="240">  <p style="margin-bott
 om: 0.0001pt; text-align: center; line-height: normal;" align="center"><spa
 n style="font-size: 14pt; font-family: 'Times New Roman', serif; color: bla
 ck;">Lãnh đạo Liên đoàn</span></p>  </td>  <td style="width: 280.5pt; borde
 r-top: none; border-left: none; border-bottom: 1pt solid windowtext; border
 -right: 1pt solid windowtext; padding: 0cm; height: 32.95pt;" width="468"> 
  <p style="margin: 0cm 2.85pt 0.0001pt; text-align: justify; line-height: n
 ormal;"><em><span style="font-size: 14pt; font-family: 'Times New Roman', s
 erif; color: black;">- 08h30’:</span></em><span style="font-size: 14pt; fon
 t-family: 'Times New Roman', serif; color: black;"> Dự Khai mạc kiểm tra gi
 ữa kỳ công tác tài chính năm 2023 tại phòng Truyền thống</span></p>  <p sty
 le="margin: 0cm 2.85pt 0.0001pt; text-align: justify; line-height: normal;"
 ><strong><em><span style="font-size: 14pt; font-family: 'Times New Roman', 
 serif; color: black;">Thành phần: Lãnh đạo phòng KH-TC, Trưởng các phòng, T
 hủ trưởng các đơn vị.</span></em></strong></p>  </td>  </tr>  <tr style="he
 ight: 153.8pt;">  <td style="width: 99.8pt; border-right: 1pt solid windowt
 ext; border-bottom: 1pt solid windowtext; border-left: 1pt solid windowtext
 ; border-top: none; padding: 0cm; height: 153.8pt;" rowspan="2" width="166"
 >  <p style="margin-bottom: 0.0001pt; text-align: center; line-height: norm
 al;" align="center"><em><span style="font-size: 14pt; font-family: 'Times N
 ew Roman', serif; color: black;">Thứ ba</span></em></p>  <p style="margin-b
 ottom: 0.0001pt; text-align: center; line-height: normal;" align="center"><
 em><span style="font-size: 14pt; font-family: 'Times New Roman', serif; col
 or: black;">29/8</span></em></p>  </td>  <td style="width: 143.7pt; border-
 top: none; border-left: none; border-bottom: 1pt solid windowtext; border-r
 ight: 1pt solid windowtext; padding: 0cm 5.4pt; height: 153.8pt;" width="24
 0">  <p style="margin-bottom: 0.0001pt; text-align: center; line-height: no
 rmal;" align="center"><span style="font-size: 14pt; font-family: 'Times New
  Roman', serif; color: black;">Lãnh đạo Liên đoàn</span></p>  </td>  <td st
 yle="width: 280.5pt; border-top: none; border-left: none; border-bottom: 1p
 t solid windowtext; border-right: 1pt solid windowtext; padding: 0cm; heigh
 t: 153.8pt;" width="468">  <p style="margin: 0cm 2.85pt 0.0001pt; text-alig
 n: justify; line-height: normal;"><em><span style="font-size: 14pt; font-fa
 mily: 'Times New Roman', serif; color: #081c36; letter-spacing: 0.15pt;">- 
 9h00</span></em><span style="font-size: 14pt; font-family: 'Times New Roman
 ', serif; color: #081c36; letter-spacing: 0.15pt;">: Nghe phòng Điều tra TN
 N và Đoàn Quan trắc TNNMB báo cáo đề cương mở mới mạng Quan trắc Đông Bắc v
 à Tây Bắc.</span></p>  <p style="margin: 0cm 2.85pt 0.0001pt; text-align: j
 ustify; line-height: normal;"><strong><em><span style="font-size: 14pt; fon
 t-family: 'Times New Roman', serif; color: #081c36; letter-spacing: 0.15pt;
 ">- Phòng Điều tra TNN và Đoàn Quan trắc TNNMB chuẩn bị.</span></em></stron
 g><em><span style="font-size: 14pt; font-family: 'Times New Roman', serif; 
 color: #081c36; letter-spacing: 0.15pt;"> <strong>Phòng KH -TC cử người tha
 m dự. </strong></span></em></p>  <p style="margin: 0cm 2.85pt 0.0001pt; tex
 t-align: justify; line-height: normal;"><strong><span style="font-size: 14p
 t; font-family: 'Times New Roman', serif; color: #081c36; letter-spacing: 0
 .15pt;">Địa điểm:</span></strong><span style="font-size: 14pt; font-family:
  'Times New Roman', serif; color: #081c36; letter-spacing: 0.15pt;"> Phòng 
 họp tầng 3</span></p>  </td>  </tr>  <tr style="height: 66.2pt;">  <td styl
 e="width: 143.7pt; border-top: none; border-left: none; border-bottom: 1pt 
 solid windowtext; border-right: 1pt solid windowtext; padding: 0cm 5.4pt; h
 eight: 66.2pt;" width="240">  <p style="margin-bottom: 0.0001pt; text-align
 : center; line-height: normal;" align="center"><span style="font-size: 14pt
 ; font-family: 'Times New Roman', serif; color: black;">Phó Liên đoàn trưởn
 g Luyện Đức Thuận</span></p>  </td>  <td style="width: 280.5pt; border-top:
  none; border-left: none; border-bottom: 1pt solid windowtext; border-right
 : 1pt solid windowtext; padding: 0cm; height: 66.2pt;" width="468">  <p sty
 le="margin: 0cm 2.85pt 0.0001pt; text-align: justify; text-indent: -18pt; l
 ine-height: normal;"><span style="font-size: 14pt; font-family: 'Times New 
 Roman', serif; color: #081c36;">-</span><span style="font-size: 7pt; font-f
 amily: 'Times New Roman', serif; color: #081c36;">        </span><em><span 
 style="font-size: 14pt; font-family: 'Times New Roman', serif; letter-spaci
 ng: 0.15pt;">14h00</span></em><span style="font-size: 14pt; font-family: 'T
 imes New Roman', serif; letter-spacing: 0.15pt;">:</span><span style="font-
 size: 14pt; font-family: 'Times New Roman', serif;"> Báo cáo tình hình thực
  hiện dự án “Đánh giá sức chịu tải lưu vực sông Hồng-Thái Bình”, Phòng Quy 
 hoạch TNN tham dự và chuẩn bị.</span></p>  <p style="margin: 0cm 2.85pt 0.0
 001pt; text-align: justify; line-height: normal;"><strong><span style="font
 -size: 14pt; font-family: 'Times New Roman', serif;">Địa điểm: </span></str
 ong><span style="font-size: 14pt; font-family: 'Times New Roman', serif;">P
 hòng 204 TT<strong>.</strong></span></p>  </td>  </tr>  <tr style="height: 
 32.95pt;">  <td style="width: 99.8pt; border-right: 1pt solid windowtext; b
 order-bottom: 1pt solid windowtext; border-left: 1pt solid windowtext; bord
 er-top: none; padding: 0cm; height: 32.95pt;" width="166">  <p style="margi
 n-bottom: 0.0001pt; text-align: center; line-height: normal;" align="center
 "><em><span style="font-size: 14pt; font-family: 'Times New Roman', serif; 
 color: black;">Thứ tư</span></em></p>  <p style="margin-bottom: 0.0001pt; t
 ext-align: center; line-height: normal;" align="center"><em><span style="fo
 nt-size: 14pt; font-family: 'Times New Roman', serif; color: black;">30/8</
 span></em></p>  </td>  <td style="width: 143.7pt; border-top: none; border-
 left: none; border-bottom: 1pt solid windowtext; border-right: 1pt solid wi
 ndowtext; padding: 0cm 5.4pt; height: 32.95pt;" width="240">  <p style="mar
 gin-bottom: 0.0001pt; text-align: center; line-height: normal;" align="cent
 er"><span style="font-size: 14pt; font-family: 'Times New Roman', serif; co
 lor: black;">Lãnh đạo Liên đoàn</span></p>  </td>  <td style="width: 280.5p
 t; border-top: none; border-left: none; border-bottom: 1pt solid windowtext
 ; border-right: 1pt solid windowtext; padding: 0cm; height: 32.95pt;" width
 ="468">  <p style="margin: 0cm 2.85pt 0.0001pt; text-align: justify; line-h
 eight: normal;"><em><span style="font-size: 14pt; font-family: 'Times New R
 oman', serif; color: red;">- 9h00’</span></em><span style="font-size: 14pt;
  font-family: 'Times New Roman', serif; color: red;">: </span><span style="
 font-size: 14pt; font-family: 'Times New Roman', serif; color: black;">Thôn
 g qua biên bản kiểm tra giữa kỳ công tác tài chính năm 2023 tại phòng Truyề
 n thống</span></p>  <p style="margin: 0cm 2.85pt 0.0001pt; text-align: just
 ify; line-height: normal;"><strong><em><span style="font-size: 14pt; font-f
 amily: 'Times New Roman', serif; color: black;">Thành phần: Lãnh đạo phòng 
 KH-TC, Trưởng các phòng, Thủ trưởng các đơn vị</span></em></strong></p>  <p
  style="margin: 0cm 2.85pt 0.0001pt; text-align: justify; line-height: norm
 al;"><em><span style="font-size: 14pt; font-family: 'Times New Roman', seri
 f; color: black;">- Chiều</span></em><span style="font-size: 14pt; font-fam
 ily: 'Times New Roman', serif; color: black;">: Làm việc tại cơ quan</span>
 </p>  </td>  </tr>  <tr style="height: 32.95pt;">  <td style="width: 99.8pt
 ; border-right: 1pt solid windowtext; border-bottom: 1pt solid windowtext; 
 border-left: 1pt solid windowtext; border-top: none; padding: 0cm; height: 
 32.95pt;" width="166">  <p style="margin-bottom: 0.0001pt; text-align: cent
 er; line-height: normal;" align="center"><em><span style="font-size: 14pt; 
 font-family: 'Times New Roman', serif; color: black;">Thứ năm</span></em></
 p>  <p style="margin-bottom: 0.0001pt; text-align: center; line-height: nor
 mal;" align="center"><em><span style="font-size: 14pt; font-family: 'Times 
 New Roman', serif; color: black;">31/8</span></em></p>  </td>  <td style="w
 idth: 143.7pt; border-top: none; border-left: none; border-bottom: 1pt soli
 d windowtext; border-right: 1pt solid windowtext; padding: 0cm 5.4pt; heigh
 t: 32.95pt;" width="240">  <p style="margin-bottom: 0.0001pt; text-align: c
 enter; line-height: normal;" align="center"><span style="font-size: 14pt; f
 ont-family: 'Times New Roman', serif; color: black;">Lãnh đạo Liên đoàn</sp
 an></p>  </td>  <td style="width: 280.5pt; border-top: none; border-left: n
 one; border-bottom: 1pt solid windowtext; border-right: 1pt solid windowtex
 t; padding: 0cm; height: 32.95pt;" width="468">  <p style="margin: 0cm 2.85
 pt 0.0001pt; text-align: justify; line-height: normal;"><span style="font-s
 ize: 14pt; font-family: 'Times New Roman', serif; color: black;">Làm việc t
 ại cơ quan</span></p>  </td>  </tr>  <tr style="height: 32.95pt;">  <td sty
 le="width: 524pt; border-right: 1pt solid windowtext; border-bottom: 1pt so
 lid windowtext; border-left: 1pt solid windowtext; border-top: none; paddin
 g: 0cm; height: 32.95pt;" colspan="3" width="873">  <p style="margin: 6pt 3
 2.7pt; text-align: center; line-height: normal;" align="center"><em><span s
 tyle="font-size: 14pt; font-family: 'Times New Roman', serif; color: black;
 ">Từ ngày 01/9/2023 đến hết ngày 04/9/2023</span></em></p>  <p style="margi
 n: 6pt 32.7pt; text-align: center; line-height: normal;" align="center"><st
 rong><em><span style="font-size: 14pt; font-family: 'Times New Roman', seri
 f; color: black;">NGHỈ LỄ QUỐC KHÁNH MÙNG 2/9</span></em></strong></p>  </t
 d>  </tr>  </tbody>  </table>  </div>
DTSTAMP:20260423T054753Z
DTSTART;TZID=Asia/Ho_Chi_Minh:20230829T080000
DTEND;TZID=Asia/Ho_Chi_Minh:20230829T170000
SEQUENCE:0
TRANSP:OPAQUE
END:VEVENT
END:VCALENDAR