BEGIN:VCALENDAR
VERSION:2.0
PRODID:-//jEvents 2.0 for Joomla//EN
CALSCALE:GREGORIAN
METHOD:PUBLISH
BEGIN:VEVENT
UID:cd5db89a38e43f671eb9c636dee44eff
CATEGORIES:Lịch làm việc
SUMMARY: Lịch làm việc tuần thứ 36 của lãnh đạo Liên đoàn
DESCRIPTION;ENCODING=QUOTED-PRINTABLE:<p style="margin: 0cm 0cm 0.0001pt -1cm; text-align: center; line-height: n
 ormal;" align="center"><span style="font-size: 14pt; font-family: 'Times Ne
 w Roman', serif; color: black;">TRUNG TÂM QUY HOẠCH VÀ ĐIỀU TRA TÀI NGUYÊN 
 NƯỚC QUỐC GIA</span></p>  <p style="margin: 0cm 0cm 0.0001pt -1cm; text-ali
 gn: center; line-height: normal;" align="center"><strong><span style="font-
 size: 14pt; font-family: 'Times New Roman', serif; color: black;">LIÊN ĐOÀN
  QUY HOẠCH VÀ ĐIỀU TRA TÀI NGUYÊN NƯỚC MIỀN BẮC</span></strong></p>  <p sty
 le="margin: 30pt 0cm 0.0001pt; text-align: center; line-height: normal;" al
 ign="center"><strong><span style="font-size: 14pt; font-family: 'Times New 
 Roman', serif; color: black;">LỊCH LÀM VIỆC CỦA LÃNH ĐẠO LIÊN ĐOÀN</span></
 strong></p>  <p style="margin: 6pt 0cm; text-align: center; line-height: no
 rmal;" align="center"><strong><em><span style="font-size: 14pt; font-family
 : 'Times New Roman', serif; color: black;">Tuần thứ 36 (từ ngày 04/9 đến ng
 ày 08/9/2023)</span></em></strong></p>  <div align="center">  <table style=
 "width: 694px; border-collapse: collapse; height: 429px;" border="0" cellsp
 acing="0" cellpadding="0">  <tbody>  <tr style="height: 30.75pt;">  <td sty
 le="width: 104.3pt; border: 1pt solid windowtext; padding: 0cm 5.4pt; heigh
 t: 30.75pt;" width="174">  <p style="margin-right: 30pt; margin-left: 30pt;
  margin-bottom: 0.0001pt; text-align: justify; line-height: normal;"><stron
 g><em><span style="font-size: 14pt; font-family: 'Times New Roman', serif; 
 color: black;">Ngày tháng</span></em></strong></p>  </td>  <td style="width
 : 163.45pt; border-top: 1pt solid windowtext; border-right: 1pt solid windo
 wtext; border-bottom: 1pt solid windowtext; border-left: none; padding: 0cm
  5.4pt; height: 30.75pt;" width="272">  <p style="margin-right: 30pt; margi
 n-left: 30pt; margin-bottom: 0.0001pt; text-align: center; line-height: nor
 mal;" align="center"><strong><em><span style="font-size: 14pt; font-family:
  'Times New Roman', serif; color: black;">Chủ trì</span></em></strong></p> 
  </td>  <td style="width: 302.25pt; border-top: 1pt solid windowtext; borde
 r-right: 1pt solid windowtext; border-bottom: 1pt solid windowtext; border-
 left: none; padding: 0cm 5.4pt; height: 30.75pt;" width="504">  <p style="m
 argin: 0cm 44.85pt 0.0001pt; text-align: justify; line-height: normal;"><st
 rong><em><span style="font-size: 14pt; font-family: 'Times New Roman', seri
 f; color: black;">Nội dung - Địa điểm - Thành phần</span></em></strong></p>
   </td>  </tr>  <tr style="height: 30.75pt;">  <td style="width: 570pt; bor
 der-right: 1pt solid windowtext; border-bottom: 1pt solid windowtext; borde
 r-left: 1pt solid windowtext; border-top: none; padding: 0cm; height: 30.75
 pt;" colspan="3" width="950">  <p style="text-align: center;" align="center
 "><em><span style="font-size: 14pt; line-height: 107%; font-family: 'Times 
 New Roman', serif;">Từ thứ Sáu 01/9 đến thứ Hai 04/9</span></em></p>  <p st
 yle="margin: 6pt 13.2pt; text-align: center; line-height: normal;" align="c
 enter"><strong><span style="font-size: 14pt; font-family: 'Times New Roman'
 , serif;">NGHỈ LỄ QUỐC KHÁNH 02/9</span></strong></p>  </td>  </tr>  <tr st
 yle="height: 30.75pt;">  <td style="width: 104.3pt; border-right: 1pt solid
  windowtext; border-bottom: 1pt solid windowtext; border-left: 1pt solid wi
 ndowtext; border-top: none; padding: 0cm; height: 30.75pt;" width="174">  <
 p style="margin: 6pt 12pt; text-align: center; line-height: normal;" align=
 "center"><em><span style="font-size: 14pt; font-family: 'Times New Roman', 
 serif; color: black;">Thứ ba</span></em></p>  <p style="margin: 6pt 12pt; t
 ext-align: center; line-height: normal;" align="center"><em><span style="fo
 nt-size: 14pt; font-family: 'Times New Roman', serif; color: black;">05/9</
 span></em></p>  </td>  <td style="width: 163.45pt; border-top: none; border
 -left: none; border-bottom: 1pt solid windowtext; border-right: 1pt solid w
 indowtext; padding: 0cm 5.4pt; height: 30.75pt;" width="272">  <p style="ma
 rgin: 0cm 14.15pt 6pt; line-height: normal;"><span style="font-size: 14pt; 
 font-family: 'Times New Roman', serif; color: black;">Lãnh đạo Liên đoàn</s
 pan></p>  </td>  <td style="width: 302.25pt; border-top: none; border-left:
  none; border-bottom: 1pt solid windowtext; border-right: 1pt solid windowt
 ext; padding: 0cm; height: 30.75pt;" width="504">  <p style="margin: 0cm 2.
 85pt 8pt; text-align: justify;"><em><span style="font-size: 14pt; line-heig
 ht: 107%; font-family: 'Times New Roman', serif;">- Sáng:</span></em><span 
 style="font-size: 14pt; line-height: 107%; font-family: 'Times New Roman', 
 serif;"> Làm việc tại cơ quan.</span></p>  <p style="margin: 6pt 2.85pt; te
 xt-align: justify; line-height: normal;"><em><span style="font-size: 14pt; 
 font-family: 'Times New Roman', serif;">- 14h00’</span></em><span style="fo
 nt-size: 14pt; font-family: 'Times New Roman', serif;">: Họp giao ban Trung
  tâm, tại PH 204 TT</span></p>  </td>  </tr>  <tr style="height: 30.75pt;">
   <td style="width: 104.3pt; border-right: 1pt solid windowtext; border-bot
 tom: 1pt solid windowtext; border-left: 1pt solid windowtext; border-top: n
 one; padding: 0cm; height: 30.75pt;" width="174">  <p style="margin: 6pt 12
 pt; text-align: center; line-height: normal;" align="center"><em><span styl
 e="font-size: 14pt; font-family: 'Times New Roman', serif; color: black;">T
 hứ tư</span></em></p>  <p style="margin: 6pt 12pt; text-align: center; line
 -height: normal;" align="center"><em><span style="font-size: 14pt; font-fam
 ily: 'Times New Roman', serif; color: black;">06/9</span></em></p>  </td>  
 <td style="width: 163.45pt; border-top: none; border-left: none; border-bot
 tom: 1pt solid windowtext; border-right: 1pt solid windowtext; padding: 0cm
  5.4pt; height: 30.75pt;" width="272">  <p style="margin: 0cm 14.15pt 6pt; 
 line-height: normal;"><span style="font-size: 14pt; font-family: 'Times New
  Roman', serif; color: black;">Lãnh đạo Liên đoàn</span></p>  </td>  <td st
 yle="width: 302.25pt; border-top: none; border-left: none; border-bottom: 1
 pt solid windowtext; border-right: 1pt solid windowtext; padding: 0cm; heig
 ht: 30.75pt;" width="504">  <p style="margin: 6pt 13.2pt; text-align: justi
 fy; line-height: normal;"><span style="font-size: 14pt; font-family: 'Times
  New Roman', serif; color: black;">Làm việc tại cơ quan</span></p>  </td>  
 </tr>  <tr style="height: 30.75pt;">  <td style="width: 104.3pt; border-rig
 ht: 1pt solid windowtext; border-bottom: 1pt solid windowtext; border-left:
  1pt solid windowtext; border-top: none; padding: 0cm; height: 30.75pt;" wi
 dth="174">  <p style="margin: 6pt 12pt; text-align: center; line-height: no
 rmal;" align="center"><em><span style="font-size: 14pt; font-family: 'Times
  New Roman', serif; color: black;">Thứ năm</span></em></p>  <p style="margi
 n: 6pt 12pt; text-align: center; line-height: normal;" align="center"><em><
 span style="font-size: 14pt; font-family: 'Times New Roman', serif; color: 
 black;">07/9</span></em></p>  </td>  <td style="width: 163.45pt; border-top
 : none; border-left: none; border-bottom: 1pt solid windowtext; border-righ
 t: 1pt solid windowtext; padding: 0cm 5.4pt; height: 30.75pt;" width="272">
   <p style="margin: 0cm 14.15pt 6pt; line-height: normal;"><span style="fon
 t-size: 14pt; font-family: 'Times New Roman', serif; color: black;">Lãnh đạ
 o Liên đoàn</span></p>  </td>  <td style="width: 302.25pt; border-top: none
 ; border-left: none; border-bottom: 1pt solid windowtext; border-right: 1pt
  solid windowtext; padding: 0cm; height: 30.75pt;" width="504">  <p style="
 margin: 6pt 13.2pt; text-align: justify; line-height: normal;"><span style=
 "font-size: 14pt; font-family: 'Times New Roman', serif; color: black;">Làm
  việc tại cơ quan</span></p>  </td>  </tr>  <tr style="height: 30.75pt;">  
 <td style="width: 104.3pt; border-right: 1pt solid windowtext; border-botto
 m: 1pt solid windowtext; border-left: 1pt solid windowtext; border-top: non
 e; padding: 0cm; height: 30.75pt;" width="174">  <p style="margin: 6pt 12pt
 ; text-align: center; line-height: normal;" align="center"><em><span style=
 "font-size: 14pt; font-family: 'Times New Roman', serif; color: black;">Thứ
  sáu</span></em></p>  <p style="margin: 6pt 12pt; text-align: center; line-
 height: normal;" align="center"><em><span style="font-size: 14pt; font-fami
 ly: 'Times New Roman', serif; color: black;">08/9</span></em></p>  </td>  <
 td style="width: 163.45pt; border-top: none; border-left: none; border-bott
 om: 1pt solid windowtext; border-right: 1pt solid windowtext; padding: 0cm 
 5.4pt; height: 30.75pt;" width="272">  <p style="margin: 0cm 14.15pt 6pt; l
 ine-height: normal;"><span style="font-size: 14pt; font-family: 'Times New 
 Roman', serif; color: black;">Lãnh đạo Liên đoàn</span></p>  </td>  <td sty
 le="width: 302.25pt; border-top: none; border-left: none; border-bottom: 1p
 t solid windowtext; border-right: 1pt solid windowtext; padding: 0cm; heigh
 t: 30.75pt;" width="504">  <p style="margin: 6pt 13.2pt; text-align: justif
 y; line-height: normal;"><span style="font-size: 14pt; font-family: 'Times 
 New Roman', serif; color: black;">Làm việc tại cơ quan</span></p>  </td>  <
 /tr>  </tbody>  </table>  </div>
DTSTAMP:20260423T054753Z
DTSTART;TZID=Asia/Ho_Chi_Minh:20230831T080000
DTEND;TZID=Asia/Ho_Chi_Minh:20230831T170000
SEQUENCE:0
TRANSP:OPAQUE
END:VEVENT
END:VCALENDAR