BEGIN:VCALENDAR
VERSION:2.0
PRODID:-//jEvents 2.0 for Joomla//EN
CALSCALE:GREGORIAN
METHOD:PUBLISH
BEGIN:VEVENT
UID:af7167d141cf5cbd7a47092415f272ca
CATEGORIES:Lịch làm việc
SUMMARY:Lịch làm việc tuần 36 của Lãnh đạo Liên đoàn cập nhật lần 1
DESCRIPTION;ENCODING=QUOTED-PRINTABLE:<p style="margin: 0cm 0cm 0.0001pt -1cm; text-align: center; line-height: n
 ormal;" align="center"><span style="font-size: 14pt; font-family: 'Times Ne
 w Roman', serif; color: black;">TRUNG TÂM QUY HOẠCH VÀ ĐIỀU TRA TÀI NGUYÊN 
 NƯỚC QUỐC GIA</span></p>  <p style="margin: 0cm 0cm 0.0001pt -1cm; text-ali
 gn: center; line-height: normal;" align="center"><strong><span style="font-
 size: 14pt; font-family: 'Times New Roman', serif; color: black;">LIÊN ĐOÀN
  QUY HOẠCH VÀ ĐIỀU TRA TÀI NGUYÊN NƯỚC MIỀN BẮC</span></strong></p>  <p sty
 le="margin: 30pt 0cm 0.0001pt; text-align: center; line-height: normal;" al
 ign="center"><strong><span style="font-size: 14pt; font-family: 'Times New 
 Roman', serif; color: black;">LỊCH LÀM VIỆC CỦA LÃNH ĐẠO LIÊN ĐOÀN</span></
 strong></p>  <p style="margin: 6pt 0cm; text-align: center; line-height: no
 rmal;" align="center"><strong><em><span style="font-size: 14pt; font-family
 : 'Times New Roman', serif; color: black;">Tuần thứ 36 (từ ngày 04/9 đến ng
 ày 08/9/2023)</span></em></strong></p>  <div align="center">  <table style=
 "width: 681px; border-collapse: collapse; height: 390px;" border="0" cellsp
 acing="0" cellpadding="0">  <tbody>  <tr style="height: 30.75pt;">  <td sty
 le="width: 104.3pt; border: 1pt solid windowtext; padding: 0cm 5.4pt; heigh
 t: 30.75pt;" width="174">  <p style="margin-right: 30pt; margin-left: 30pt;
  margin-bottom: 0.0001pt; text-align: justify; line-height: normal;"><stron
 g><em><span style="font-size: 14pt; font-family: 'Times New Roman', serif; 
 color: black;">Ngày tháng</span></em></strong></p>  </td>  <td style="width
 : 150.35pt; border-top: 1pt solid windowtext; border-right: 1pt solid windo
 wtext; border-bottom: 1pt solid windowtext; border-left: none; padding: 0cm
  5.4pt; height: 30.75pt;" width="251">  <p style="margin-right: 30pt; margi
 n-left: 30pt; margin-bottom: 0.0001pt; text-align: center; line-height: nor
 mal;" align="center"><strong><em><span style="font-size: 14pt; font-family:
  'Times New Roman', serif; color: black;">Chủ trì</span></em></strong></p> 
  </td>  <td style="width: 315.35pt; border-top: 1pt solid windowtext; borde
 r-right: 1pt solid windowtext; border-bottom: 1pt solid windowtext; border-
 left: none; padding: 0cm 5.4pt; height: 30.75pt;" width="526">  <p style="m
 argin: 0cm 44.85pt 0.0001pt; text-align: justify; line-height: normal;"><st
 rong><em><span style="font-size: 14pt; font-family: 'Times New Roman', seri
 f; color: black;">Nội dung - Địa điểm - Thành phần</span></em></strong></p>
   </td>  </tr>  <tr style="height: 30.75pt;">  <td style="width: 570pt; bor
 der-right: 1pt solid windowtext; border-bottom: 1pt solid windowtext; borde
 r-left: 1pt solid windowtext; border-top: none; padding: 0cm; height: 30.75
 pt;" colspan="3" width="950">  <p style="text-align: center;" align="center
 "><em><span style="font-size: 14pt; line-height: 107%; font-family: 'Times 
 New Roman', serif;">Từ thứ Sáu 01/9 đến thứ Hai 04/9</span></em></p>  <p st
 yle="margin: 6pt 13.2pt; text-align: center; line-height: normal;" align="c
 enter"><strong><span style="font-size: 14pt; font-family: 'Times New Roman'
 , serif;">NGHỈ LỄ QUỐC KHÁNH 02/9</span></strong></p>  </td>  </tr>  <tr st
 yle="height: 30.75pt;">  <td style="width: 104.3pt; border-right: 1pt solid
  windowtext; border-bottom: 1pt solid windowtext; border-left: 1pt solid wi
 ndowtext; border-top: none; padding: 0cm; height: 30.75pt;" width="174">  <
 p style="margin: 6pt 12pt; text-align: center; line-height: normal;" align=
 "center"><em><span style="font-size: 14pt; font-family: 'Times New Roman', 
 serif; color: black;">Thứ ba</span></em></p>  <p style="margin: 6pt 12pt; t
 ext-align: center; line-height: normal;" align="center"><em><span style="fo
 nt-size: 14pt; font-family: 'Times New Roman', serif; color: black;">05/9</
 span></em></p>  </td>  <td style="width: 150.35pt; border-top: none; border
 -left: none; border-bottom: 1pt solid windowtext; border-right: 1pt solid w
 indowtext; padding: 0cm 5.4pt; height: 30.75pt;" width="251">  <p style="ma
 rgin: 0cm 2.85pt 0.0001pt; line-height: normal;"><span style="font-size: 14
 pt; font-family: 'Times New Roman', serif; color: black;">Lãnh đạo Liên đoà
 n</span></p>  </td>  <td style="width: 315.35pt; border-top: none; border-l
 eft: none; border-bottom: 1pt solid windowtext; border-right: 1pt solid win
 dowtext; padding: 0cm; height: 30.75pt;" width="526">  <p style="margin: 0c
 m 5.65pt 8pt; text-align: justify;"><em><span style="font-size: 14pt; line-
 height: 107%; font-family: 'Times New Roman', serif;">- Sáng:</span></em><s
 pan style="font-size: 14pt; line-height: 107%; font-family: 'Times New Roma
 n', serif;"> Làm việc tại cơ quan.</span></p>  <p style="margin: 6pt 5.65pt
 ; text-align: justify; line-height: normal;"><em><span style="font-size: 14
 pt; font-family: 'Times New Roman', serif;">- 14h00’</span></em><span style
 ="font-size: 14pt; font-family: 'Times New Roman', serif;">: Họp giao ban T
 rung tâm, tại PH 204 TT</span></p>  </td>  </tr>  <tr style="height: 30.75p
 t;">  <td style="width: 104.3pt; border-right: 1pt solid windowtext; border
 -bottom: 1pt solid windowtext; border-left: 1pt solid windowtext; border-to
 p: none; padding: 0cm; height: 30.75pt;" width="174">  <p style="margin: 6p
 t 12pt; text-align: center; line-height: normal;" align="center"><em><span 
 style="font-size: 14pt; font-family: 'Times New Roman', serif; color: black
 ;">Thứ tư</span></em></p>  <p style="margin: 6pt 12pt; text-align: center; 
 line-height: normal;" align="center"><em><span style="font-size: 14pt; font
 -family: 'Times New Roman', serif; color: black;">06/9</span></em></p>  </t
 d>  <td style="width: 150.35pt; border-top: none; border-left: none; border
 -bottom: 1pt solid windowtext; border-right: 1pt solid windowtext; padding:
  0cm 5.4pt; height: 30.75pt;" width="251">  <p style="margin: 0cm 2.85pt 0.
 0001pt; line-height: normal;"><span style="font-size: 14pt; font-family: 'T
 imes New Roman', serif; color: black;">Lãnh đạo Liên đoàn</span></p>  </td>
   <td style="width: 315.35pt; border-top: none; border-left: none; border-b
 ottom: 1pt solid windowtext; border-right: 1pt solid windowtext; padding: 0
 cm; height: 30.75pt;" width="526">  <p style="margin: 6pt 5.65pt; text-alig
 n: justify; line-height: normal;"><span style="font-size: 14pt; font-family
 : 'Times New Roman', serif; color: black;">Làm việc tại cơ quan</span></p> 
  </td>  </tr>  <tr style="height: 30.75pt;">  <td style="width: 104.3pt; bo
 rder-right: 1pt solid windowtext; border-bottom: 1pt solid windowtext; bord
 er-left: 1pt solid windowtext; border-top: none; padding: 0cm; height: 30.7
 5pt;" width="174">  <p style="margin: 6pt 12pt; text-align: center; line-he
 ight: normal;" align="center"><em><span style="font-size: 14pt; font-family
 : 'Times New Roman', serif; color: black;">Thứ năm</span></em></p>  <p styl
 e="margin: 6pt 12pt; text-align: center; line-height: normal;" align="cente
 r"><em><span style="font-size: 14pt; font-family: 'Times New Roman', serif;
  color: black;">07/9</span></em></p>  </td>  <td style="width: 150.35pt; bo
 rder-top: none; border-left: none; border-bottom: 1pt solid windowtext; bor
 der-right: 1pt solid windowtext; padding: 0cm 5.4pt; height: 30.75pt;" widt
 h="251">  <p style="margin: 0cm 2.85pt 0.0001pt; line-height: normal;"><spa
 n style="font-size: 14pt; font-family: 'Times New Roman', serif; color: bla
 ck;">Lãnh đạo Liên đoàn</span></p>  </td>  <td style="width: 315.35pt; bord
 er-top: none; border-left: none; border-bottom: 1pt solid windowtext; borde
 r-right: 1pt solid windowtext; padding: 0cm; height: 30.75pt;" width="526">
   <p style="margin: 6pt 5.65pt; text-align: justify; line-height: normal;">
 <span style="font-size: 14pt; font-family: 'Times New Roman', serif; color:
  black;">Làm việc tại cơ quan</span></p>  </td>  </tr>  <tr style="height: 
 30.75pt;">  <td style="width: 104.3pt; border-right: 1pt solid windowtext; 
 border-bottom: 1pt solid windowtext; border-left: 1pt solid windowtext; bor
 der-top: none; padding: 0cm; height: 30.75pt;" width="174">  <p style="marg
 in: 6pt 12pt; text-align: center; line-height: normal;" align="center"><em>
 <span style="font-size: 14pt; font-family: 'Times New Roman', serif; color:
  black;">Thứ sáu</span></em></p>  <p style="margin: 6pt 12pt; text-align: c
 enter; line-height: normal;" align="center"><em><span style="font-size: 14p
 t; font-family: 'Times New Roman', serif; color: black;">08/9</span></em></
 p>  </td>  <td style="width: 150.35pt; border-top: none; border-left: none;
  border-bottom: 1pt solid windowtext; border-right: 1pt solid windowtext; p
 adding: 0cm 5.4pt; height: 30.75pt;" width="251">  <p style="margin: 0cm 2.
 85pt 0.0001pt; line-height: normal;"><span style="font-size: 14pt; font-fam
 ily: 'Times New Roman', serif; color: black;">Lãnh đạo Liên đoàn</span></p>
   </td>  <td style="width: 315.35pt; border-top: none; border-left: none; b
 order-bottom: 1pt solid windowtext; border-right: 1pt solid windowtext; pad
 ding: 0cm; height: 30.75pt;" width="526">  <p style="margin: 6pt 5.65pt; te
 xt-align: justify; line-height: normal;"><em><span style="font-size: 14pt; 
 font-family: 'Times New Roman', serif; color: red;">- 8h30’:</span></em><sp
 an style="font-size: 14pt; font-family: 'Times New Roman', serif; color: bl
 ack;"> Họp Ban chấp hành Đảng ủy, tại phòng truyền thống</span></p>  <p sty
 le="margin: 6pt 5.65pt; text-align: justify; line-height: normal;"><strong>
 <em><span style="font-size: 14pt; font-family: 'Times New Roman', serif; co
 lor: black;">Thành phần: Ban chấp hành Đảng ủy Liên đoàn</span></em></stron
 g></p>  <p style="margin: 6pt 5.65pt; text-align: justify; line-height: nor
 mal;"><strong><em><span style="font-size: 14pt; font-family: 'Times New Rom
 an', serif; color: black;">A Hùng, A Hoạt, A Bình họp trực tuyến</span></em
 ></strong></p>  <p style="margin: 6pt 5.65pt; text-align: justify; line-hei
 ght: normal;"><em><span style="font-size: 14pt; font-family: 'Times New Rom
 an', serif; color: black;">- Chiều</span></em><span style="font-size: 14pt;
  font-family: 'Times New Roman', serif; color: black;">: Làm việc tai cơ qu
 an</span></p>  </td>  </tr>  </tbody>  </table>  </div>
DTSTAMP:20260423T070501Z
DTSTART;TZID=Asia/Ho_Chi_Minh:20230905T080000
DTEND;TZID=Asia/Ho_Chi_Minh:20230905T170000
SEQUENCE:0
TRANSP:OPAQUE
END:VEVENT
END:VCALENDAR