BEGIN:VCALENDAR
VERSION:2.0
PRODID:-//jEvents 2.0 for Joomla//EN
CALSCALE:GREGORIAN
METHOD:PUBLISH
BEGIN:VEVENT
UID:51d6a6639dffdd6fbe091db0a55cdfd7
CATEGORIES:Lịch làm việc
SUMMARY:Lịch làm việc tuần 38 của Lãnh đạo Liên đoàn
DESCRIPTION;ENCODING=QUOTED-PRINTABLE:<p style="margin: 0in 0in 0.0001pt -28.35pt; text-align: center; line-heigh
 t: normal;" align="center"><span style="font-size: 14pt; font-family: 'Time
 s New Roman', 'serif'; color: black;">TRUNG TÂM QUY HOẠCH VÀ ĐIỀU TRA TÀI N
 GUYÊN NƯỚC QUỐC GIA</span></p>  <p style="margin: 0in 0in 0.0001pt -28.35pt
 ; text-align: center; line-height: normal;" align="center"><strong><span st
 yle="font-size: 14pt; font-family: 'Times New Roman', 'serif'; color: black
 ;">LIÊN ĐOÀN QUY HOẠCH VÀ ĐIỀU TRA TÀI NGUYÊN NƯỚC MIỀN BẮC</span></strong>
 </p>  <p style="margin: 30pt 0in 0.0001pt; text-align: center; line-height:
  normal;" align="center"><strong><span style="font-size: 14pt; font-family:
  'Times New Roman', 'serif'; color: black;">LỊCH LÀM VIỆC CỦA LÃNH ĐẠO LIÊN
  ĐOÀN </span></strong></p>  <p style="margin: 6pt 0in; text-align: center; 
 line-height: normal;" align="center"><strong><em><span style="font-size: 14
 pt; font-family: 'Times New Roman', 'serif'; color: black;">Tuần thứ 38 (từ
  ngày 18/9 đến ngày 22/9/2023)</span></em></strong></p>  <div align="center
 ">  <table style="width: 752px; border-collapse: collapse; border: none;" b
 order="1" cellspacing="0" cellpadding="0">  <tbody>  <tr style="height: 30.
 75pt;">  <td style="width: 92.3pt; border: 1pt solid windowtext; padding: 0
 in 5.4pt; height: 30.75pt;" width="123">  <p style="margin-right: 24pt; mar
 gin-left: 24pt; margin-bottom: 0.0001pt; text-align: justify; line-height: 
 normal;"><strong><em><span style="font-size: 14pt; font-family: 'Times New 
 Roman', 'serif'; color: black;">Ngày tháng</span></em></strong></p>  </td> 
  <td style="width: 166.85pt; border-top: 1pt solid windowtext; border-right
 : 1pt solid windowtext; border-bottom: 1pt solid windowtext; border-left: n
 one; padding: 0in 5.4pt; height: 30.75pt;" width="222">  <p style="margin-r
 ight: 24pt; margin-left: 24pt; margin-bottom: 0.0001pt; text-align: center;
  line-height: normal;" align="center"><strong><em><span style="font-size: 1
 4pt; font-family: 'Times New Roman', 'serif'; color: black;">Chủ trì</span>
 </em></strong></p>  </td>  <td style="width: 305.2pt; border-top: 1pt solid
  windowtext; border-right: 1pt solid windowtext; border-bottom: 1pt solid w
 indowtext; border-left: none; padding: 0in 5.4pt; height: 30.75pt;" width="
 407">  <p style="margin: 0in 38.85pt 0.0001pt; text-align: justify; line-he
 ight: normal;"><strong><em><span style="font-size: 14pt; font-family: 'Time
 s New Roman', 'serif'; color: black;">Nội dung - Địa điểm - Thành phần</spa
 n></em></strong></p>  </td>  </tr>  <tr style="height: 0.1in;">  <td style=
 "width: 92.3pt; border-right: 1pt solid windowtext; border-bottom: 1pt soli
 d windowtext; border-left: 1pt solid windowtext; border-top: none; padding:
  0in; height: 0.1in;" rowspan="2" width="123">  <p style="margin: 6pt; text
 -align: center; line-height: normal;" align="center"><em><span style="font-
 size: 14pt; font-family: 'Times New Roman', 'serif'; color: black;">Thứ hai
 </span></em></p>  <p style="margin: 6pt; text-align: center; line-height: n
 ormal;" align="center"><em><span style="font-size: 14pt; font-family: 'Time
 s New Roman', 'serif'; color: black;">18/9</span></em></p>  </td>  <td styl
 e="width: 166.85pt; border-top: none; border-left: none; border-bottom: 1pt
  solid windowtext; border-right: 1pt solid windowtext; padding: 0in 5.4pt; 
 height: 0.1in;" width="222">  <p style="margin: 6pt 19.2pt; line-height: no
 rmal;"><span style="font-size: 14pt; font-family: 'Times New Roman', 'serif
 '; color: black;">Liên đoàn trưởng</span></p>  <p style="margin: 6pt 19.2pt
 ; line-height: normal;"><span style="font-size: 14pt; font-family: 'Times N
 ew Roman', 'serif'; color: black;">Nguyễn Chí Nghĩa</span></p>  </td>  <td 
 style="width: 305.2pt; border-top: none; border-left: none; border-bottom: 
 1pt solid windowtext; border-right: 1pt solid windowtext; padding: 0in; hei
 ght: 0.1in;" width="407">  <p style="margin: 6pt 0.1in; text-align: justify
 ; line-height: normal;"><em><span style="font-size: 14pt; font-family: 'Tim
 es New Roman', 'serif'; color: black;">- 8h30’: </span></em><span style="fo
 nt-size: 14pt; font-family: 'Times New Roman', 'serif'; color: black;">Họp 
 giao ban</span></p>  <p style="margin: 6pt 0.1in; text-align: justify; line
 -height: normal;"><strong><em><span style="font-size: 14pt; font-family: 'T
 imes New Roman', 'serif'; color: black;">Thành phần: Trưởng, phó các phòng,
  các Đoàn chuẩn bị, dự</span></em></strong></p>  <p style="margin: 6pt 0.1i
 n; text-align: justify; line-height: normal;"><strong><em><span style="font
 -size: 14pt; font-family: 'Times New Roman', 'serif'; color: black;">Đoàn T
 NN Bắc Bộ, Đoàn BTB, anh Hoạt dự trực tuyến</span></em></strong></p>  <p st
 yle="margin: 6pt 0.1in; text-align: justify; line-height: normal;"><em><spa
 n style="font-size: 14pt; font-family: 'Times New Roman', 'serif'; color: b
 lack;">- 14h00’: </span></em><span style="font-size: 14pt; font-family: 'Ti
 mes New Roman', 'serif'; color: black;">Tiếp Đoàn CTCN </span></p>  <p styl
 e="margin: 6pt 0.1in; text-align: justify; line-height: normal;"><strong><e
 m><span style="font-size: 14pt; font-family: 'Times New Roman', 'serif'; co
 lor: black;">Thành phần: Chị Thu phòng QH, A Thành, Chị Thường, C Thanh cùn
 g dự</span></em></strong></p>  <p style="margin: 6pt 0.1in; text-align: jus
 tify; line-height: normal;"><span style="font-size: 14pt; font-family: 'Tim
 es New Roman', 'serif'; color: black;">Địa điểm: Phòng Truyền thống</span><
 /p>  </td>  </tr>  <tr style="height: 0.1in;">  <td style="width: 166.85pt;
  border-top: none; border-left: none; border-bottom: 1pt solid windowtext; 
 border-right: 1pt solid windowtext; padding: 0in 5.4pt; height: 0.1in;" wid
 th="222">  <p style="margin: 6pt 19.2pt 6pt 0.1in; text-align: center; line
 -height: normal;" align="center"><span style="font-size: 14pt; font-family:
  'Times New Roman', 'serif'; color: black;">Phó Liên đoàn trưởng</span></p>
   <p style="margin: 6pt 19.2pt; line-height: normal;"><span style="font-siz
 e: 14pt; font-family: 'Times New Roman', 'serif'; color: black;">Luyên Đức 
 Thuận</span></p>  </td>  <td style="width: 305.2pt; border-top: none; borde
 r-left: none; border-bottom: 1pt solid windowtext; border-right: 1pt solid 
 windowtext; padding: 0in; height: 0.1in;" width="407">  <p style="margin: 6
 pt 0.1in; text-align: justify; line-height: normal;"><em><span style="font-
 size: 14pt; font-family: 'Times New Roman', 'serif'; color: black;">- 8h30’
 </span></em><span style="font-size: 14pt; font-family: 'Times New Roman', '
 serif'; color: black;">: Họp giao ban</span></p>  <p style="margin: 6pt 0.1
 in; text-align: justify; line-height: normal;"><em><span style="font-size: 
 14pt; font-family: 'Times New Roman', 'serif'; color: black;">- Chiều</span
 ></em><span style="font-size: 14pt; font-family: 'Times New Roman', 'serif'
 ; color: black;">: Làm việc tại cơ quan</span></p>  </td>  </tr>  <tr style
 ="height: 0.1in;">  <td style="width: 92.3pt; border-right: 1pt solid windo
 wtext; border-bottom: 1pt solid windowtext; border-left: 1pt solid windowte
 xt; border-top: none; padding: 0in; height: 0.1in;" width="123">  <p style=
 "margin: 6pt; text-align: center; line-height: normal;" align="center"><em>
 <span style="font-size: 14pt; font-family: 'Times New Roman', 'serif'; colo
 r: black;">Thứ ba</span></em></p>  <p style="margin: 6pt; text-align: cente
 r; line-height: normal;" align="center"><em><span style="font-size: 14pt; f
 ont-family: 'Times New Roman', 'serif'; color: black;">19/9</span></em></p>
   </td>  <td style="width: 166.85pt; border-top: none; border-left: none; b
 order-bottom: 1pt solid windowtext; border-right: 1pt solid windowtext; pad
 ding: 0in 5.4pt; height: 0.1in;" width="222">  <p style="margin: 6pt 19.2pt
 ; line-height: normal;"><span style="font-size: 14pt; font-family: 'Times N
 ew Roman', 'serif'; color: black;">Lãnh đạo Liên đoàn</span></p>  </td>  <t
 d style="width: 305.2pt; border-top: none; border-left: none; border-bottom
 : 1pt solid windowtext; border-right: 1pt solid windowtext; padding: 0in; h
 eight: 0.1in;" width="407">  <p style="margin: 6pt 0.1in; text-align: justi
 fy; line-height: normal;"><span style="font-size: 14pt; font-family: 'Times
  New Roman', 'serif'; color: black;">Làm việc tại cơ quan</span></p>  </td>
   </tr>  <tr style="height: 0.1in;">  <td style="width: 92.3pt; border-righ
 t: 1pt solid windowtext; border-bottom: 1pt solid windowtext; border-left: 
 1pt solid windowtext; border-top: none; padding: 0in; height: 0.1in;" width
 ="123">  <p style="margin: 6pt; text-align: center; line-height: normal;" a
 lign="center"><em><span style="font-size: 14pt; font-family: 'Times New Rom
 an', 'serif'; color: black;">Thứ tư</span></em></p>  <p style="margin: 6pt;
  text-align: center; line-height: normal;" align="center"><em><span style="
 font-size: 14pt; font-family: 'Times New Roman', 'serif'; color: black;">20
 /9</span></em></p>  </td>  <td style="width: 166.85pt; border-top: none; bo
 rder-left: none; border-bottom: 1pt solid windowtext; border-right: 1pt sol
 id windowtext; padding: 0in 5.4pt; height: 0.1in;" width="222">  <p style="
 margin: 6pt 19.2pt; line-height: normal;"><span style="font-size: 14pt; fon
 t-family: 'Times New Roman', 'serif'; color: black;">Lãnh đạo Liên đoàn</sp
 an></p>  </td>  <td style="width: 305.2pt; border-top: none; border-left: n
 one; border-bottom: 1pt solid windowtext; border-right: 1pt solid windowtex
 t; padding: 0in; height: 0.1in;" width="407">  <p style="margin: 6pt 0.1in;
  text-align: justify; line-height: normal;"><span style="font-size: 14pt; f
 ont-family: 'Times New Roman', 'serif'; color: black;">Làm việc tại cơ quan
 </span></p>  </td>  </tr>  <tr style="height: 0.1in;">  <td style="width: 9
 2.3pt; border-right: 1pt solid windowtext; border-bottom: 1pt solid windowt
 ext; border-left: 1pt solid windowtext; border-top: none; padding: 0in; hei
 ght: 0.1in;" width="123">  <p style="margin: 6pt; text-align: center; line-
 height: normal;" align="center"><em><span style="font-size: 14pt; font-fami
 ly: 'Times New Roman', 'serif'; color: black;">Thứ năm</span></em></p>  <p 
 style="margin: 6pt; text-align: center; line-height: normal;" align="center
 "><em><span style="font-size: 14pt; font-family: 'Times New Roman', 'serif'
 ; color: black;">21/9</span></em></p>  </td>  <td style="width: 166.85pt; b
 order-top: none; border-left: none; border-bottom: 1pt solid windowtext; bo
 rder-right: 1pt solid windowtext; padding: 0in 5.4pt; height: 0.1in;" width
 ="222">  <p style="margin: 6pt 19.2pt 6pt 0.1in; text-align: center; line-h
 eight: normal;" align="center"><span style="font-size: 14pt; font-family: '
 Times New Roman', 'serif'; color: black;">Lãnh đạo Liên đoàn</span></p>  </
 td>  <td style="width: 305.2pt; border-top: none; border-left: none; border
 -bottom: 1pt solid windowtext; border-right: 1pt solid windowtext; padding:
  0in; height: 0.1in;" width="407">  <p style="margin: 6pt 0.1in; text-align
 : justify; line-height: normal;"><span style="font-size: 14pt; font-family:
  'Times New Roman', 'serif'; color: black;">Làm việc tại cơ quan</span></p>
   </td>  </tr>  <tr style="height: 0.1in;">  <td style="width: 92.3pt; bord
 er-right: 1pt solid windowtext; border-bottom: 1pt solid windowtext; border
 -left: 1pt solid windowtext; border-top: none; padding: 0in; height: 0.1in;
 " width="123">  <p style="margin: 6pt; text-align: center; line-height: nor
 mal;" align="center"><em><span style="font-size: 14pt; font-family: 'Times 
 New Roman', 'serif'; color: black;">Thứ sáu</span></em></p>  <p style="marg
 in: 6pt; text-align: center; line-height: normal;" align="center"><em><span
  style="font-size: 14pt; font-family: 'Times New Roman', 'serif'; color: bl
 ack;">22/9</span></em></p>  </td>  <td style="width: 166.85pt; border-top: 
 none; border-left: none; border-bottom: 1pt solid windowtext; border-right:
  1pt solid windowtext; padding: 0in 5.4pt; height: 0.1in;" width="222">  <p
  style="margin: 6pt 19.2pt 6pt 0.1in; text-align: center; line-height: norm
 al;" align="center"><span style="font-size: 14pt; font-family: 'Times New R
 oman', 'serif'; color: black;">Lãnh đạo Liên đoàn</span></p>  </td>  <td st
 yle="width: 305.2pt; border-top: none; border-left: none; border-bottom: 1p
 t solid windowtext; border-right: 1pt solid windowtext; padding: 0in; heigh
 t: 0.1in;" width="407">  <p style="margin: 6pt 0.1in; text-align: justify; 
 line-height: normal;"><span style="font-size: 14pt; font-family: 'Times New
  Roman', 'serif'; color: black;">Làm việc tại cơ quan</span></p>  </td>  </
 tr>  </tbody>  </table>  </div>
DTSTAMP:20260423T070502Z
DTSTART;TZID=Asia/Ho_Chi_Minh:20230916T080000
DTEND;TZID=Asia/Ho_Chi_Minh:20230916T170000
SEQUENCE:0
TRANSP:OPAQUE
END:VEVENT
END:VCALENDAR