BEGIN:VCALENDAR
VERSION:2.0
PRODID:-//jEvents 2.0 for Joomla//EN
CALSCALE:GREGORIAN
METHOD:PUBLISH
BEGIN:VEVENT
UID:61b180f4c4ef95282796bc2948d6814f
CATEGORIES:Lịch làm việc
SUMMARY:Lịch làm việc tuần 39 của Lãnh đạo Liên đoàn
DESCRIPTION;ENCODING=QUOTED-PRINTABLE:TRUNG TÂM QUY HOẠCH VÀ ĐIỀU TRA TÀI NGUYÊN NƯỚC QUỐC GIA\n  LIÊN ĐOÀN QUY H
 OẠCH VÀ ĐIỀU TRA TÀI NGUYÊN NƯỚC MIỀN BẮC\n  LỊCH LÀM VIỆC CỦA LÃNH ĐẠO LIÊ
 N ĐOÀN \n  Tuần thứ 39 (từ ngày 25/9 đến ngày 30/9/2023)\n            Ngày 
 tháng\n      Chủ trì\n      Nội dung - Địa điểm - Thành phần\n          Thứ
  hai\n  25/9\n      Lãnh đạo Liên đoàn\n      Làm việc tại cơ quan\n       
    Thứ ba\n  26/9\n      Lãnh đạo Liên đoàn\n      - Sáng: Làm việc tại cơ 
 quan\n  - 14h00’: Hội đồng cơ sở đánh giá kết quả Dự án ven biển VBB\n  Thà
 nh phần: Theo Quyết định và giấy mời\n  Ban Chủ nhiệm chuẩn bị\n  Địa điểm:
  Phòng họp Liên đoàn\n          Thứ tư\n  27/9\n      Lãnh đạo Liên đoàn\n 
      Làm việc tại cơ quan\n          Thứ năm\n  28/9\n      Lãnh đạo Liên đ
 oàn\n      Nghiệm thu cấp quản lý 6 tháng đầu năm 2023 các nhiệm vụ chuyên 
 môn, tại phòng họp 204 TT\n  Thành phần: Trưởng, phó các phòng KHTC và phòn
 g Điều tra TNN chủ trì, chuẩn bị\n  Trưởng các phòng, các Đoàn và các chủ n
 hiệm chuẩn bị, dự\n          Thứ sáu\n  29/9\n      Lãnh đạo Liên đoàn\n   
        Thứ bảy\n  30/9\n      Lãnh đạo Liên đoàn\n          
DTSTAMP:20260423T070007Z
DTSTART;TZID=Asia/Ho_Chi_Minh:20230923T080000
DTEND;TZID=Asia/Ho_Chi_Minh:20230923T170000
SEQUENCE:0
TRANSP:OPAQUE
END:VEVENT
END:VCALENDAR