BEGIN:VCALENDAR
VERSION:2.0
PRODID:-//jEvents 2.0 for Joomla//EN
CALSCALE:GREGORIAN
METHOD:PUBLISH
BEGIN:VEVENT
UID:720e892bc12994eba946f710567ab5b7
CATEGORIES:Lịch làm việc
SUMMARY:Lịch làm việc tuần thứ 40 của lãnh đạo Liên đoàn
DESCRIPTION;ENCODING=QUOTED-PRINTABLE:<p style="margin: 0in 0in 0.0001pt -28.35pt; text-align: center; line-heigh
 t: normal;" align="center"><span style="font-size: 14pt; font-family: 'Time
 s New Roman', 'serif'; color: black;">TRUNG TÂM QUY HOẠCH VÀ ĐIỀU TRA TÀI N
 GUYÊN NƯỚC QUỐC GIA</span></p>  <p style="margin: 0in 0in 0.0001pt -28.35pt
 ; text-align: center; line-height: normal;" align="center"><strong><span st
 yle="font-size: 14pt; font-family: 'Times New Roman', 'serif'; color: black
 ;">LIÊN ĐOÀN QUY HOẠCH VÀ ĐIỀU TRA TÀI NGUYÊN NƯỚC MIỀN BẮC</span></strong>
 </p>  <p style="margin: 30pt 0in 0.0001pt; text-align: center; line-height:
  normal;" align="center"><strong><span style="font-size: 14pt; font-family:
  'Times New Roman', 'serif'; color: black;">LỊCH LÀM VIỆC CỦA LÃNH ĐẠO LIÊN
  ĐOÀN </span></strong></p>  <p style="margin: 6pt 0in; text-align: center; 
 line-height: normal;" align="center"><strong><em><span style="font-size: 14
 pt; font-family: 'Times New Roman', 'serif'; color: black;">Tuần thứ 40 (từ
  ngày 02/10 đến ngày 06/10/2023)</span></em></strong></p>  <div align="cent
 er">  <table style="width: 752px; border-collapse: collapse; border: none;"
  border="1" cellspacing="0" cellpadding="0">  <tbody>  <tr style="height: 3
 0.75pt;">  <td style="width: 92.3pt; border: 1pt solid windowtext; padding:
  0in 5.4pt; height: 30.75pt;" width="123">  <p style="margin-right: 24pt; m
 argin-left: 24pt; margin-bottom: 0.0001pt; text-align: justify; line-height
 : normal;"><strong><em><span style="font-size: 14pt; font-family: 'Times Ne
 w Roman', 'serif'; color: black;">Ngày tháng</span></em></strong></p>  </td
 >  <td style="width: 166.85pt; border-top: 1pt solid windowtext; border-rig
 ht: 1pt solid windowtext; border-bottom: 1pt solid windowtext; border-left:
  none; padding: 0in 5.4pt; height: 30.75pt;" width="222">  <p style="margin
 -right: 24pt; margin-left: 24pt; margin-bottom: 0.0001pt; text-align: cente
 r; line-height: normal;" align="center"><strong><em><span style="font-size:
  14pt; font-family: 'Times New Roman', 'serif'; color: black;">Chủ trì</spa
 n></em></strong></p>  </td>  <td style="width: 305.2pt; border-top: 1pt sol
 id windowtext; border-right: 1pt solid windowtext; border-bottom: 1pt solid
  windowtext; border-left: none; padding: 0in 5.4pt; height: 30.75pt;" width
 ="407">  <p style="margin: 0in 38.85pt 0.0001pt; text-align: justify; line-
 height: normal;"><strong><em><span style="font-size: 14pt; font-family: 'Ti
 mes New Roman', 'serif'; color: black;">Nội dung - Địa điểm - Thành phần</s
 pan></em></strong></p>  </td>  </tr>  <tr style="height: 0.1in;">  <td styl
 e="width: 92.3pt; border-right: 1pt solid windowtext; border-bottom: 1pt so
 lid windowtext; border-left: 1pt solid windowtext; border-top: none; paddin
 g: 0in; height: 0.1in;" width="123">  <p style="margin: 6pt 0.1in; text-ali
 gn: center; line-height: normal;" align="center"><em><span style="font-size
 : 14pt; font-family: 'Times New Roman', 'serif'; color: black;">Thứ hai</sp
 an></em></p>  <p style="margin: 6pt 0.1in; text-align: center; line-height:
  normal;" align="center"><em><span style="font-size: 14pt; font-family: 'Ti
 mes New Roman', 'serif'; color: black;">02/10</span></em></p>  </td>  <td s
 tyle="width: 166.85pt; border-top: none; border-left: none; border-bottom: 
 1pt solid windowtext; border-right: 1pt solid windowtext; padding: 0in 5.4p
 t; height: 0.1in;" width="222">  <p style="margin: 6pt 0.1in; line-height: 
 normal;"><span style="font-size: 14pt; font-family: 'Times New Roman', 'ser
 if'; color: black;">Lãnh đạo Liên đoàn</span></p>  </td>  <td style="width:
  305.2pt; border-top: none; border-left: none; border-bottom: 1pt solid win
 dowtext; border-right: 1pt solid windowtext; padding: 0in; height: 0.1in;" 
 width="407">  <p style="margin: 6pt 0.1in; text-align: justify; line-height
 : normal;"><em><span style="font-size: 14pt; font-family: 'Times New Roman'
 , 'serif'; color: black;">- 8h30’</span></em><span style="font-size: 14pt; 
 font-family: 'Times New Roman', 'serif'; color: black;">: Họp giao ban, tại
  phòng họp Liên đoàn</span></p>  <p style="margin: 6pt 0.1in; text-align: j
 ustify; line-height: normal;"><strong><em><span style="font-size: 14pt; fon
 t-family: 'Times New Roman', 'serif'; color: black;">Thành phần: Trưởng, ph
 ó các phòng và Đoàn trưởng dự</span></em></strong></p>  <p style="margin: 6
 pt 0.1in; text-align: justify; line-height: normal;"><strong><em><span styl
 e="font-size: 14pt; font-family: 'Times New Roman', 'serif'; color: black;"
 >Đoàn trưởng Đoàn Bắc Bộ và Bắc Trung Bộ họp trực tuyến. </span></em></stro
 ng></p>  <p style="margin: 6pt 0.1in; text-align: justify; line-height: nor
 mal;"><span style="font-size: 14pt; font-family: 'Times New Roman', 'serif'
 ; color: black;">Văn phòng chuẩn bị</span></p>  <p style="margin: 6pt 0.1in
 ; text-align: justify; line-height: normal;"><em><span style="font-size: 14
 pt; font-family: 'Times New Roman', 'serif'; color: black;">- Chiều</span><
 /em><span style="font-size: 14pt; font-family: 'Times New Roman', 'serif'; 
 color: black;">: Làm việc tại cơ quan</span></p>  </td>  </tr>  <tr style="
 height: 0.1in;">  <td style="width: 92.3pt; border-right: 1pt solid windowt
 ext; border-bottom: 1pt solid windowtext; border-left: 1pt solid windowtext
 ; border-top: none; padding: 0in; height: 0.1in;" width="123">  <p style="m
 argin: 6pt 0.1in; text-align: center; line-height: normal;" align="center">
 <em><span style="font-size: 14pt; font-family: 'Times New Roman', 'serif'; 
 color: black;">Thứ ba</span></em></p>  <p style="margin: 6pt 0.1in; text-al
 ign: center; line-height: normal;" align="center"><em><span style="font-siz
 e: 14pt; font-family: 'Times New Roman', 'serif'; color: black;">03/10</spa
 n></em></p>  </td>  <td style="width: 166.85pt; border-top: none; border-le
 ft: none; border-bottom: 1pt solid windowtext; border-right: 1pt solid wind
 owtext; padding: 0in 5.4pt; height: 0.1in;" width="222">  <p style="margin:
  6pt 0.1in; line-height: normal;"><span style="font-size: 14pt; font-family
 : 'Times New Roman', 'serif'; color: black;">Lãnh đạo Liên đoàn</span></p> 
  </td>  <td style="width: 305.2pt; border-top: none; border-left: none; bor
 der-bottom: 1pt solid windowtext; border-right: 1pt solid windowtext; paddi
 ng: 0in; height: 0.1in;" width="407">  <p style="margin: 6pt 0.1in; text-al
 ign: justify; line-height: normal;"><span style="font-size: 14pt; font-fami
 ly: 'Times New Roman', 'serif'; color: black;">Làm việc tại cơ quan</span><
 /p>  </td>  </tr>  <tr style="height: 0.1in;">  <td style="width: 92.3pt; b
 order-right: 1pt solid windowtext; border-bottom: 1pt solid windowtext; bor
 der-left: 1pt solid windowtext; border-top: none; padding: 0in; height: 0.1
 in;" width="123">  <p style="margin: 6pt 0.1in; text-align: center; line-he
 ight: normal;" align="center"><em><span style="font-size: 14pt; font-family
 : 'Times New Roman', 'serif'; color: black;">Thứ tư</span></em></p>  <p sty
 le="margin: 6pt 0.1in; text-align: center; line-height: normal;" align="cen
 ter"><em><span style="font-size: 14pt; font-family: 'Times New Roman', 'ser
 if'; color: black;">04/10</span></em></p>  </td>  <td style="width: 166.85p
 t; border-top: none; border-left: none; border-bottom: 1pt solid windowtext
 ; border-right: 1pt solid windowtext; padding: 0in 5.4pt; height: 0.1in;" w
 idth="222">  <p style="margin: 6pt 0.1in; text-align: center; line-height: 
 normal;" align="center"><span style="font-size: 14pt; font-family: 'Times N
 ew Roman', 'serif'; color: black;">Lãnh đạo Liên đoàn</span></p>  </td>  <t
 d style="width: 305.2pt; border-top: none; border-left: none; border-bottom
 : 1pt solid windowtext; border-right: 1pt solid windowtext; padding: 0in; h
 eight: 0.1in;" width="407">  <p style="margin: 6pt 0.1in; text-align: justi
 fy; line-height: normal;"><span style="font-size: 14pt; font-family: 'Times
  New Roman', 'serif'; color: black;">Làm việc với Trung tâm công nghệ về Dự
  án Sông Cả. </span></p>  <p style="margin: 6pt 0.1in; text-align: justify;
  line-height: normal;"><strong><em><span style="font-size: 14pt; font-famil
 y: 'Times New Roman', 'serif'; color: black;">A Tùng chuẩn bị, dự</span></e
 m></strong></p>  </td>  </tr>  <tr style="height: 0.1in;">  <td style="widt
 h: 92.3pt; border-right: 1pt solid windowtext; border-bottom: 1pt solid win
 dowtext; border-left: 1pt solid windowtext; border-top: none; padding: 0in;
  height: 0.1in;" rowspan="2" width="123">  <p style="margin: 6pt 0.1in; tex
 t-align: center; line-height: normal;" align="center"><em><span style="font
 -size: 14pt; font-family: 'Times New Roman', 'serif'; color: black;">Thứ nă
 m</span></em></p>  <p style="margin: 6pt 0.1in; text-align: center; line-he
 ight: normal;" align="center"><em><span style="font-size: 14pt; font-family
 : 'Times New Roman', 'serif'; color: black;">05/10</span></em></p>  </td>  
 <td style="width: 166.85pt; border-top: none; border-left: none; border-bot
 tom: 1pt solid windowtext; border-right: 1pt solid windowtext; padding: 0in
  5.4pt; height: 0.1in;" width="222">  <p style="margin: 6pt 0.1in; text-ali
 gn: center; line-height: normal;" align="center"><span style="font-size: 14
 pt; font-family: 'Times New Roman', 'serif'; color: black;">Liên đoàn trưởn
 g</span></p>  <p style="margin: 6pt 0.1in; text-align: center; line-height:
  normal;" align="center"><span style="font-size: 14pt; font-family: 'Times 
 New Roman', 'serif'; color: black;">Nguyễn Chí Nghĩa</span></p>  </td>  <td
  style="width: 305.2pt; border-top: none; border-left: none; border-bottom:
  1pt solid windowtext; border-right: 1pt solid windowtext; padding: 0in; he
 ight: 0.1in;" width="407">  <p style="margin: 6pt 0.1in; text-align: justif
 y; line-height: normal;"><span style="font-size: 14pt; font-family: 'Times 
 New Roman', 'serif'; color: black;">Tập huấn nghiệp vụ công tác xây dựng Đả
 ng năm 2023 của Đảng uỷ Bộ TNMT tại thành phố Móng Cái, tỉnh Quảng Ninh, từ
  ngày 05/10 đến ngày 07/10 năm 2023</span></p>  <p style="margin: 6pt 0.1in
 ; text-align: justify; line-height: normal;"><strong><em><span style="font-
 size: 14pt; font-family: 'Times New Roman', 'serif'; color: black;">Thành p
 hần theo giấy triệu tập số 1511-CV/ĐU ngày 18/9/2023</span></em></strong></
 p>  </td>  </tr>  <tr style="height: 0.1in;">  <td style="width: 166.85pt; 
 border-top: none; border-left: none; border-bottom: 1pt solid windowtext; b
 order-right: 1pt solid windowtext; padding: 0in 5.4pt; height: 0.1in;" widt
 h="222">  <p style="margin: 6pt 0.1in; text-align: center; line-height: nor
 mal;" align="center"><span style="font-size: 14pt; font-family: 'Times New 
 Roman', 'serif'; color: black;">Phó Liên đoàn trưởng</span></p>  <p style="
 margin: 6pt 0.1in; text-align: center; line-height: normal;" align="center"
 ><span style="font-size: 14pt; font-family: 'Times New Roman', 'serif'; col
 or: black;">Luyện Đức Thuận</span></p>  </td>  <td style="width: 305.2pt; b
 order-top: none; border-left: none; border-bottom: 1pt solid windowtext; bo
 rder-right: 1pt solid windowtext; padding: 0in; height: 0.1in;" width="407"
 >  <p style="margin: 6pt 0.1in; text-align: justify; line-height: normal;">
 <span style="font-size: 14pt; font-family: 'Times New Roman', 'serif'; colo
 r: black;">Làm việc tại cơ quan</span></p>  </td>  </tr>  <tr style="height
 : 0.1in;">  <td style="width: 92.3pt; border-right: 1pt solid windowtext; b
 order-bottom: 1pt solid windowtext; border-left: 1pt solid windowtext; bord
 er-top: none; padding: 0in; height: 0.1in;" width="123">  <p style="margin:
  6pt 0.1in; text-align: center; line-height: normal;" align="center"><em><s
 pan style="font-size: 14pt; font-family: 'Times New Roman', 'serif'; color:
  black;">Thứ sáu</span></em></p>  <p style="margin: 6pt 0.1in; text-align: 
 center; line-height: normal;" align="center"><em><span style="font-size: 14
 pt; font-family: 'Times New Roman', 'serif'; color: black;">06/10</span></e
 m></p>  </td>  <td style="width: 166.85pt; border-top: none; border-left: n
 one; border-bottom: 1pt solid windowtext; border-right: 1pt solid windowtex
 t; padding: 0in 5.4pt; height: 0.1in;" width="222">  <p style="margin: 6pt 
 0.1in; text-align: center; line-height: normal;" align="center"><span style
 ="font-size: 14pt; font-family: 'Times New Roman', 'serif'; color: black;">
 Phó Liên đoàn trưởng</span></p>  <p style="margin: 6pt 0.1in; text-align: c
 enter; line-height: normal;" align="center"><span style="font-size: 14pt; f
 ont-family: 'Times New Roman', 'serif'; color: black;">Luyện Đức Thuận</spa
 n></p>  </td>  <td style="width: 305.2pt; border-top: none; border-left: no
 ne; border-bottom: 1pt solid windowtext; border-right: 1pt solid windowtext
 ; padding: 0in; height: 0.1in;" width="407">  <p style="margin: 6pt 0.1in; 
 text-align: justify; line-height: normal;"><span style="font-size: 14pt; fo
 nt-family: 'Times New Roman', 'serif'; color: black;">Làm việc tại cơ quan<
 /span></p>  </td>  </tr>  </tbody>  </table>  </div>
DTSTAMP:20260423T072912Z
DTSTART;TZID=Asia/Ho_Chi_Minh:20230930T080000
DTEND;TZID=Asia/Ho_Chi_Minh:20230930T170000
SEQUENCE:0
TRANSP:OPAQUE
END:VEVENT
END:VCALENDAR