BEGIN:VCALENDAR
VERSION:2.0
PRODID:-//jEvents 2.0 for Joomla//EN
CALSCALE:GREGORIAN
METHOD:PUBLISH
BEGIN:VEVENT
UID:9d1428a72f13221c12148f0cd4ebe5f6
CATEGORIES:Lịch làm việc
SUMMARY:Lịch làm việc tuần 51 của lãnh đạo Liên đoàn cập nhật lần 1
DESCRIPTION;ENCODING=QUOTED-PRINTABLE:<p style="margin: 0cm 0cm 0.0001pt -1cm; text-align: center; line-height: n
 ormal;" align="center"><span style="font-size: 14pt; font-family: 'Times Ne
 w Roman', serif; color: black;">TRUNG TÂM QUY HOẠCH VÀ ĐIỀU TRA TÀI NGUYÊN 
 NƯỚC QUỐC GIA</span></p>  <p style="margin: 0cm 0cm 0.0001pt -1cm; text-ali
 gn: center; line-height: normal;" align="center"><strong><span style="font-
 size: 14pt; font-family: 'Times New Roman', serif; color: black;">LIÊN ĐOÀN
  QUY HOẠCH VÀ ĐIỀU TRA TÀI NGUYÊN NƯỚC MIỀN BẮC</span></strong></p>  <p sty
 le="margin: 6pt 0cm 12pt; text-align: center; line-height: normal;" align="
 center"><strong><span style="font-size: 14pt; font-family: 'Times New Roman
 ', serif; color: black;">CHƯƠNG TRÌNH CÔNG TÁC CỦA LÃNH ĐẠO LIÊN ĐOÀN</span
 ></strong></p>  <p style="margin: 6pt 0cm 12pt; text-align: center; line-he
 ight: normal;" align="center"><strong><em><span style="font-size: 14pt; fon
 t-family: 'Times New Roman', serif; color: black;">Tuần thứ 51 (từ ngày 22/
 12 đến ngày 26/12/2025)</span></em></strong></p>  <div align="center">  <ta
 ble style="width: 811px; border-collapse: collapse; height: 1265px;" border
 ="0" cellspacing="0" cellpadding="0">  <tbody>  <tr style="height: 7.2pt;">
   <td style="width: 80.3pt; border: 1pt solid windowtext; padding: 0cm 5.4p
 t; height: 7.2pt;" width="134">  <p style="margin: 6pt 18pt; text-align: ce
 nter; line-height: normal;" align="center"><strong><em><span style="font-si
 ze: 14pt; font-family: 'Times New Roman', serif; color: black;">Ngày tháng<
 /span></em></strong></p>  </td>  <td style="width: 153.2pt; border-top: 1pt
  solid windowtext; border-right: 1pt solid windowtext; border-bottom: 1pt s
 olid windowtext; border-left: none; padding: 0cm 5.4pt; height: 7.2pt;" wid
 th="255">  <p style="margin: 6pt 18pt; text-align: center; line-height: nor
 mal;" align="center"><strong><em><span style="font-size: 14pt; font-family:
  'Times New Roman', serif; color: black;">Chủ trì</span></em></strong></p> 
  </td>  <td style="width: 283.25pt; border-top: 1pt solid windowtext; borde
 r-right: 1pt solid windowtext; border-bottom: 1pt solid windowtext; border-
 left: none; padding: 0cm 5.4pt; height: 7.2pt;" width="472">  <p style="mar
 gin: 6pt 31.2pt; text-align: center; line-height: normal;" align="center"><
 strong><em><span style="font-size: 14pt; font-family: 'Times New Roman', se
 rif; color: black;">Nội dung - Địa điểm - Thành phần</span></em></strong></
 p>  </td>  </tr>  <tr style="height: 7.2pt;">  <td style="width: 80.3pt; bo
 rder-right: 1pt solid windowtext; border-bottom: 1pt solid windowtext; bord
 er-left: 1pt solid windowtext; border-top: none; padding: 0cm; height: 7.2p
 t;" width="134">  <p style="margin: 6pt 8.85pt; text-align: center; line-he
 ight: normal;" align="center"><em><span style="font-size: 14pt; font-family
 : 'Times New Roman', serif; color: black;">Thứ hai</span></em></p>  <p styl
 e="margin: 6pt 8.85pt; text-align: center; line-height: normal;" align="cen
 ter"><em><span style="font-size: 14pt; font-family: 'Times New Roman', seri
 f; color: black;">22/12</span></em></p>  </td>  <td style="width: 153.2pt; 
 border-top: none; border-left: none; border-bottom: 1pt solid windowtext; b
 order-right: 1pt solid windowtext; padding: 0cm 5.4pt; height: 7.2pt;" widt
 h="255">  <p style="margin: 6pt 20.85pt; text-align: center; line-height: n
 ormal;" align="center"><span style="font-size: 14pt; font-family: 'Times Ne
 w Roman', serif; color: black;">Lãnh đạo Liên đoàn</span></p>  </td>  <td s
 tyle="width: 283.25pt; border-top: none; border-left: none; border-bottom: 
 1pt solid windowtext; border-right: 1pt solid windowtext; padding: 0cm; hei
 ght: 7.2pt;" width="472">  <p style="margin: 2pt 8.85pt; text-align: center
 ; line-height: normal;" align="center"><span style="font-size: 14pt; font-f
 amily: 'Times New Roman', serif; color: black;">Làm việc tại cơ quan</span>
 </p>  </td>  </tr>  <tr style="height: 7.2pt;">  <td style="width: 80.3pt; 
 border-right: 1pt solid windowtext; border-bottom: 1pt solid windowtext; bo
 rder-left: 1pt solid windowtext; border-top: none; padding: 0cm; height: 7.
 2pt;" rowspan="2" width="134">  <p style="margin: 6pt 8.85pt; text-align: c
 enter; line-height: normal;" align="center"><em><span style="font-size: 14p
 t; font-family: 'Times New Roman', serif; color: black;">Thứ ba</span></em>
 </p>  <p style="margin: 6pt 8.85pt; text-align: center; line-height: normal
 ;" align="center"><em><span style="font-size: 14pt; font-family: 'Times New
  Roman', serif; color: black;">23/12</span></em></p>  </td>  <td style="wid
 th: 153.2pt; border-top: none; border-left: none; border-bottom: 1pt solid 
 windowtext; border-right: 1pt solid windowtext; padding: 0cm 5.4pt; height:
  7.2pt;" width="255">  <p style="margin: 6pt 2.85pt; text-align: center; li
 ne-height: normal;" align="center"><span style="font-size: 14pt; font-famil
 y: 'Times New Roman', serif; color: black;">Liên đoàn trưởng</span></p>  <p
  style="margin: 6pt 2.85pt; text-align: center; line-height: normal;" align
 ="center"><span style="font-size: 14pt; font-family: 'Times New Roman', ser
 if; color: black;">Nguyễn Chí Nghĩa</span></p>  </td>  <td style="width: 28
 3.25pt; border-top: none; border-left: none; border-bottom: 1pt solid windo
 wtext; border-right: 1pt solid windowtext; padding: 0cm; height: 7.2pt;" wi
 dth="472">  <p style="margin: 2pt 2.85pt; text-align: justify; line-height:
  normal;"><em><span style="font-size: 14pt; font-family: 'Times New Roman',
  serif; color: black;">- 8h30’- 9h30’</span></em><span style="font-size: 14
 pt; font-family: 'Times New Roman', serif; color: black;">: Hội nghị đánh g
 iá, xếp loại chất lượng năm 2025 của Tập thể Lãnh đạo Liên đoàn, Liên đoàn 
 trưởng Liên đoàn tại PH tầng 5.</span></p>  <p style="margin: 2pt 2.85pt; t
 ext-align: justify; line-height: normal;"><em><span style="font-size: 14pt;
  font-family: 'Times New Roman', serif; color: black;">- 09h30’</span></em>
 <span style="font-size: 14pt; font-family: 'Times New Roman', serif; color:
  black;">: Hội nghị tổng kết công tác năm 2025 của Liên đoàn tại phòng họp 
 802</span></p>  <p style="margin: 2pt 2.85pt; text-align: justify; line-hei
 ght: normal;"><strong><em><span style="font-size: 14pt; font-family: 'Times
  New Roman', serif; color: black;">Thành phần theo Công văn số 304/TNNMB –V
 P ngày 15/12/2025</span></em></strong></p>  <p style="margin: 0cm 2.85pt 0.
 0001pt; text-align: justify;"><em><span style="font-size: 14pt; line-height
 : 107%; font-family: 'Times New Roman', serif; color: #ee0000;">- 11h00’</s
 pan></em><span style="font-size: 14pt; line-height: 107%; font-family: 'Tim
 es New Roman', serif; color: #ee0000;">: Họp Ban Chấp hành Đảng bộ Trung tâ
 m để quyết định xếp loại chất lượng tập thể, cá nhân năm 2025 bên chính quy
 ền và Đảng, tại Phòng họp tầng 5. </span></p>  <p style="margin: 0cm 2.85pt
  8pt; text-align: justify;"><em><span style="font-size: 14pt; line-height: 
 107%; font-family: 'Times New Roman', serif; color: black;">- 13h30’</span>
 </em><span style="font-size: 14pt; line-height: 107%; font-family: 'Times N
 ew Roman', serif; color: black;">: Tham dự Họp nghiệm thu niên độ năm 2025 
 Nhiệm vụ Quan trắc quốc gia tài nguyên nước, tại Phòng họp C1804, Cục QLTNN
 . <strong><em>Thành phần tham dự: Các chủ nhiệm, Kế toán trưởng và Trưởng c
 ác Đoàn, phòng thực hiện nhiệm vụ chuẩn bị, dự</em></strong></span></p>  <p
  style="margin: 0cm 2.85pt 8pt; text-align: justify; line-height: normal;">
 <em><span style="font-size: 14pt; font-family: 'Times New Roman', serif; co
 lor: black;">- 15h30’</span></em><span style="font-size: 14pt; font-family:
  'Times New Roman', serif; color: black;">: Tham dự Họp nghiệm thu niên độ 
 năm 2025 Nhiệm vụ Điều tra đánh giá lập bản đồ tài nguyên nước tỷ lệ 1/50.0
 00 vùng kinh tế trong điểm miền Trung, tại Phòng họp C1804, Cục QLTNN. <str
 ong><em>Thành phần tham dự: Các chủ nhiệm, Kế toán trưởng và Trưởng các Đoà
 n, phòng thực hiện nhiệm vụ chuẩn bị, dự</em></strong></span></p>  </td>  <
 /tr>  <tr style="height: 7.2pt;">  <td style="width: 153.2pt; border-top: n
 one; border-left: none; border-bottom: 1pt solid windowtext; border-right: 
 1pt solid windowtext; padding: 0cm 5.4pt; height: 7.2pt;" width="255">  <p 
 style="margin: 6pt 2.85pt; text-align: center; line-height: normal;" align=
 "center"><span style="font-size: 14pt; font-family: 'Times New Roman', seri
 f; color: black;">Phó Liên đoàn trưởng</span></p>  <p style="margin: 6pt 2.
 85pt; text-align: center; line-height: normal;" align="center"><span style=
 "font-size: 14pt; font-family: 'Times New Roman', serif; color: black;">Luy
 ện Đức Thuận</span></p>  </td>  <td style="width: 283.25pt; border-top: non
 e; border-left: none; border-bottom: 1pt solid windowtext; border-right: 1p
 t solid windowtext; padding: 0cm; height: 7.2pt;" width="472">  <p style="m
 argin: 2pt 2.85pt; text-align: justify; line-height: normal;"><em><span sty
 le="font-size: 14pt; font-family: 'Times New Roman', serif; color: black;">
 - 8h30’- 9h30’</span></em><span style="font-size: 14pt; font-family: 'Times
  New Roman', serif; color: black;">: Hội nghị đánh giá, xếp loại chất lượng
  năm 2025 của Tập thể Lãnh đạo Liên đoàn, Liên đoàn trưởng Liên đoàn tại PH
  tầng 5.</span></p>  <p style="margin: 2pt 2.85pt; text-align: justify; lin
 e-height: normal;"><em><span style="font-size: 14pt; font-family: 'Times Ne
 w Roman', serif; color: black;">- 09h30’</span></em><span style="font-size:
  14pt; font-family: 'Times New Roman', serif; color: black;">: Hội nghị tổn
 g kết công tác năm 2025 của Liên đoàn tại phòng họp 802</span></p>  <p styl
 e="margin: 0cm 2.85pt 8pt; text-align: justify;"><em><span style="font-size
 : 14pt; line-height: 107%; font-family: 'Times New Roman', serif; color: bl
 ack;">- 13h30’</span></em><span style="font-size: 14pt; line-height: 107%; 
 font-family: 'Times New Roman', serif; color: black;">: Tham dự Họp nghiệm 
 thu niên độ năm 2025 Nhiệm vụ Quan trắc quốc gia tài nguyên nước, tại Phòng
  họp C1804, Cục QLTNN. </span></p>  <p style="margin: 0cm 2.85pt 8pt; text-
 align: justify;"><em><span style="font-size: 14pt; line-height: 107%; font-
 family: 'Times New Roman', serif; color: black;">- 15h30’</span></em><span 
 style="font-size: 14pt; line-height: 107%; font-family: 'Times New Roman', 
 serif; color: black;">: Tham dự Họp nghiệm thu niên độ năm 2025 Nhiệm vụ Đi
 ều tra đánh giá lập bản đồ tài nguyên nước tỷ lệ 1/50.000 vùng kinh tế tron
 g điểm miền Trung, tại Phòng họp C1804, Cục QLTNN. </span></p>  </td>  </tr
 >  <tr style="height: 7.2pt;">  <td style="width: 80.3pt; border-right: 1pt
  solid windowtext; border-bottom: 1pt solid windowtext; border-left: 1pt so
 lid windowtext; border-top: none; padding: 0cm; height: 7.2pt;" rowspan="2"
  width="134">  <p style="margin: 6pt 8.85pt; text-align: center; line-heigh
 t: normal;" align="center"><em><span style="font-size: 14pt; font-family: '
 Times New Roman', serif; color: black;">Thứ tư</span></em></p>  <p style="m
 argin: 6pt 8.85pt; text-align: center; line-height: normal;" align="center"
 ><em><span style="font-size: 14pt; font-family: 'Times New Roman', serif; c
 olor: black;">24/12</span></em></p>  </td>  <td style="width: 153.2pt; bord
 er-top: none; border-left: none; border-bottom: 1pt solid windowtext; borde
 r-right: 1pt solid windowtext; padding: 0cm 5.4pt; height: 7.2pt;" width="2
 55">  <p style="margin: 6pt 2.85pt; text-align: center; line-height: normal
 ;" align="center"><span style="font-size: 14pt; font-family: 'Times New Rom
 an', serif; color: black;">Liên đoàn trưởng</span></p>  <p style="margin: 6
 pt 14.85pt; text-align: center; line-height: normal;" align="center"><span 
 style="font-size: 14pt; font-family: 'Times New Roman', serif; color: black
 ;">Nguyễn Chí Nghĩa</span></p>  </td>  <td style="width: 283.25pt; border-t
 op: none; border-left: none; border-bottom: 1pt solid windowtext; border-ri
 ght: 1pt solid windowtext; padding: 0cm; height: 7.2pt;" width="472">  <p s
 tyle="margin: 6pt 2.85pt; text-align: justify; line-height: normal;"><em><s
 pan style="font-size: 14pt; font-family: 'Times New Roman', serif;">- Sáng<
 /span></em><span style="font-size: 14pt; font-family: 'Times New Roman', se
 rif;">: Làm việc tại cơ quan</span></p>  <p style="margin: 6pt 2.85pt; text
 -align: justify; line-height: normal;"><em><span style="font-size: 14pt; fo
 nt-family: 'Times New Roman', serif; color: #ee0000;">- 14h00’</span></em><
 span style="font-size: 14pt; font-family: 'Times New Roman', serif; color: 
 #ee0000;">: Họp triển khai Quyết định số 5219/QĐ-BNNMT ngày 10/12/2025 và r
 à soát, thống nhất Dự thảo Quyết định quy định chức năng, nhiệm vụ, quyền h
 ạn và cơ cấu tổ chức của Văn phòng, các Ban và các đơn vị trực thuộc, tại P
 hòng họp tầng 5. </span><strong><em><span style="font-size: 14pt; font-fami
 ly: 'Times New Roman', serif; color: #ee0000;">Thành phần tham dự: A Thành 
 CVP</span></em></strong></p>  </td>  </tr>  <tr style="height: 7.2pt;">  <t
 d style="width: 153.2pt; border-top: none; border-left: none; border-bottom
 : 1pt solid windowtext; border-right: 1pt solid windowtext; padding: 0cm 5.
 4pt; height: 7.2pt;" width="255">  <p style="margin: 6pt 2.85pt; text-align
 : center; line-height: normal;" align="center"><span style="font-size: 14pt
 ; font-family: 'Times New Roman', serif; color: black;">Phó Liên đoàn trưởn
 g</span></p>  <p style="margin: 6pt 14.85pt; text-align: center; line-heigh
 t: normal;" align="center"><span style="font-size: 14pt; font-family: 'Time
 s New Roman', serif; color: black;">Luyện Đức Thuận</span></p>  </td>  <td 
 style="width: 283.25pt; border-top: none; border-left: none; border-bottom:
  1pt solid windowtext; border-right: 1pt solid windowtext; padding: 0cm; he
 ight: 7.2pt;" width="472">  <p style="margin: 6pt 2.85pt; text-align: cente
 r; line-height: normal;" align="center"><span style="font-size: 14pt; font-
 family: 'Times New Roman', serif; color: black;">Làm việc tại cơ quan</span
 ></p>  </td>  </tr>  <tr style="height: 7.2pt;">  <td style="width: 80.3pt;
  border-right: 1pt solid windowtext; border-bottom: 1pt solid windowtext; b
 order-left: 1pt solid windowtext; border-top: none; padding: 0cm; height: 7
 .2pt;" width="134">  <p style="margin: 6pt 8.85pt; text-align: center; line
 -height: normal;" align="center"><em><span style="font-size: 14pt; font-fam
 ily: 'Times New Roman', serif; color: black;">Thứ năm</span></em></p>  <p s
 tyle="margin: 6pt 8.85pt; text-align: center; line-height: normal;" align="
 center"><em><span style="font-size: 14pt; font-family: 'Times New Roman', s
 erif; color: black;">25/12</span></em></p>  </td>  <td style="width: 153.2p
 t; border-top: none; border-left: none; border-bottom: 1pt solid windowtext
 ; border-right: 1pt solid windowtext; padding: 0cm 5.4pt; height: 7.2pt;" w
 idth="255">  <p style="margin: 6pt 14.85pt; text-align: center; line-height
 : normal;" align="center"><span style="font-size: 14pt; font-family: 'Times
  New Roman', serif; color: black;">Lãnh đạo Liên đoàn</span></p>  </td>  <t
 d style="width: 283.25pt; border-top: none; border-left: none; border-botto
 m: 1pt solid windowtext; border-right: 1pt solid windowtext; padding: 0cm; 
 height: 7.2pt;" width="472">  <p style="margin: 6pt 2.85pt; text-align: cen
 ter; line-height: normal;" align="center"><span style="font-size: 14pt; fon
 t-family: 'Times New Roman', serif; color: black;">Làm việc tại cơ quan</sp
 an></p>  </td>  </tr>  <tr style="height: 7.2pt;">  <td style="width: 80.3p
 t; border-right: 1pt solid windowtext; border-bottom: 1pt solid windowtext;
  border-left: 1pt solid windowtext; border-top: none; padding: 0cm; height:
  7.2pt;" width="134">  <p style="margin: 6pt 8.85pt; text-align: center; li
 ne-height: normal;" align="center"><em><span style="font-size: 14pt; font-f
 amily: 'Times New Roman', serif; color: black;">Thứ sáu</span></em></p>  <p
  style="margin: 6pt 8.85pt; text-align: center; line-height: normal;" align
 ="center"><em><span style="font-size: 14pt; font-family: 'Times New Roman',
  serif; color: black;">26/12</span></em></p>  </td>  <td style="width: 153.
 2pt; border-top: none; border-left: none; border-bottom: 1pt solid windowte
 xt; border-right: 1pt solid windowtext; padding: 0cm 5.4pt; height: 7.2pt;"
  width="255">  <p style="margin: 6pt 20.85pt; text-align: center; line-heig
 ht: normal;" align="center"><span style="font-size: 14pt; font-family: 'Tim
 es New Roman', serif; color: black;">Lãnh đạo Liên đoàn</span></p>  </td>  
 <td style="width: 283.25pt; border-top: none; border-left: none; border-bot
 tom: 1pt solid windowtext; border-right: 1pt solid windowtext; padding: 0cm
 ; height: 7.2pt;" width="472">  <p style="margin-right: 2.85pt; margin-left
 : 2.85pt; text-align: center; line-height: normal;" align="center"><span st
 yle="font-size: 14pt; font-family: 'Times New Roman', serif; color: black;"
 >Làm việc tại cơ quan</span></p>  </td>  </tr>  </tbody>  </table>  </div>
DTSTAMP:20260419T212251Z
DTSTART;TZID=Asia/Ho_Chi_Minh:20251222T080000
DTEND;TZID=Asia/Ho_Chi_Minh:20251222T170000
SEQUENCE:0
TRANSP:OPAQUE
END:VEVENT
END:VCALENDAR