BEGIN:VCALENDAR
VERSION:2.0
PRODID:-//jEvents 2.0 for Joomla//EN
CALSCALE:GREGORIAN
METHOD:PUBLISH
BEGIN:VEVENT
UID:e759328b5b162f9fa23f8590e3209381
CATEGORIES:Lịch làm việc
SUMMARY:Lịch làm việc tuần 04 của Lãnh đạo Liên đoàn
DESCRIPTION;ENCODING=QUOTED-PRINTABLE:TRUNG TÂM QUY HOẠCH VÀ ĐIỀU TRA TÀI NGUYÊN NƯỚC QUỐC GIA\n  LIÊN ĐOÀN QUY H
 OẠCH VÀ ĐIỀU TRA TÀI NGUYÊN NƯỚC MIỀN BẮC\n  CHƯƠNG TRÌNH CÔNG TÁC CỦA LÃNH
  ĐẠO LIÊN ĐOÀN\n  Tuần thứ 04 (từ ngày 26/01 đến ngày 01/02/2026)\n        
     Ngày tháng\n      Chủ trì\n      Nội dung - Địa điểm - Thành phần\n    
       Thứ hai\n  26/01\n      Liên đoàn trưởng\n  Nguyễn Chí Nghĩa\n      -
  8h30’: Nghe quản lý Văn phòng báo cáo về sắp xếp, phân công sau sáp nhập p
 hòng KHTC vào Văn phòng, tại phòng 802\n  Anh Thành, anh Quảng Văn phòng, C
 hị Hương, Chị Thủy, Anh Thông chuẩn bị báo cáo\n          Lãnh đạo Liên đoà
 n\n      - 10h00’: Họp với quản lý phòng Điều tra cơ bản,  phòng Công nghệ 
 và Lãnh đạo Đoàn Quan trắc TNN miền Bắc về kế hoạch thực hiện công tác dữ l
 iệu quan trắc năm 2026, tại phòng 802\n  Phòng Điều tra cơ bản và Đoàn Quan
  trắc  TNN miền Bắc chuẩn bị, báo cáo. A Thành cùng dự\n  - 15h00’: Làm việ
 c tại Sở  NNMT Phú Thọ\n  C Hương, A Phúc chuẩn bị, cùng dự\n          Thứ 
 ba\n  27/01\n      Lãnh đạo Liên đoàn\n      Làm việc tại cơ quan\n        
   Thứ tư\n  28/01\n      Lãnh đạo Liên đoàn\n      Đi công tác các tỉnh Tây
  Bắc\n  Chị Thường, C Thanh chuẩn bị cùng dự\n          Thứ năm\n  29/01\n 
          Thứ sáu\n  30/01\n      Lãnh đạo Liên đoàn\n      Làm việc tại cơ 
 quan\n          
DTSTAMP:20260425T103734Z
DTSTART;TZID=Asia/Ho_Chi_Minh:20260124T080000
DTEND;TZID=Asia/Ho_Chi_Minh:20260124T170000
SEQUENCE:0
TRANSP:OPAQUE
END:VEVENT
END:VCALENDAR