BEGIN:VCALENDAR
VERSION:2.0
PRODID:-//jEvents 2.0 for Joomla//EN
CALSCALE:GREGORIAN
METHOD:PUBLISH
BEGIN:VEVENT
UID:e29468f53d6787217fdcd91a42291224
CATEGORIES:Lịch làm việc
SUMMARY:Lịch làm việc tuần 16 của lãnh đạo Liên đoàn cập nhật lần 5
DESCRIPTION;ENCODING=QUOTED-PRINTABLE:<p style="margin: 0cm 0cm 0.0001pt -1cm; text-align: center; line-height: n
 ormal;" align="center"><span style="font-size: 14pt; font-family: 'Times Ne
 w Roman', serif; color: black;">TRUNG TÂM QUY HOẠCH VÀ ĐIỀU TRA TÀI NGUYÊN 
 NƯỚC QUỐC GIA</span></p>  <p style="margin: 0cm 0cm 0.0001pt -1cm; text-ali
 gn: center; line-height: normal;" align="center"><strong><span style="font-
 size: 14pt; font-family: 'Times New Roman', serif; color: black;">LIÊN ĐOÀN
  QUY HOẠCH VÀ ĐIỀU TRA TÀI NGUYÊN NƯỚC MIỀN BẮC</span></strong></p>  <p sty
 le="margin: 6pt 0cm; text-align: center; line-height: normal;" align="cente
 r"><strong><span style="font-size: 14pt; font-family: 'Times New Roman', se
 rif; color: black;">CHƯƠNG TRÌNH CÔNG TÁC CỦA LÃNH ĐẠO LIÊN ĐOÀN</span></st
 rong></p>  <p style="margin: 6pt 0cm 6pt 3cm; text-align: center; line-heig
 ht: normal;" align="center"><strong><em><span style="font-size: 14pt; font-
 family: 'Times New Roman', serif; color: black;">Tuần thứ 16 (từ ngày 20/4 
 đến ngày 24/4/2026)</span></em></strong></p>  <div align="center">  <table 
 style="width: 838px; border-collapse: collapse; border: none;" border="1" c
 ellspacing="0" cellpadding="0">  <tbody>  <tr style="height: 7.2pt;">  <td 
 style="width: 92.3pt; border: 1pt solid windowtext; padding: 0cm 5.4pt; hei
 ght: 7.2pt;" width="154">  <p style="margin: 12pt 24pt; text-align: center;
  line-height: normal;" align="center"><strong><em><span style="font-size: 1
 4pt; font-family: 'Times New Roman', serif; color: black;">Ngày tháng</span
 ></em></strong></p>  </td>  <td style="width: 152pt; border-top: 1pt solid 
 windowtext; border-right: 1pt solid windowtext; border-bottom: 1pt solid wi
 ndowtext; border-left: none; padding: 0cm 5.4pt; height: 7.2pt;" width="253
 ">  <p style="margin: 12pt 24pt; text-align: center; line-height: normal;" 
 align="center"><strong><em><span style="font-size: 14pt; font-family: 'Time
 s New Roman', serif; color: black;">Chủ trì</span></em></strong></p>  </td>
   <td style="width: 258.45pt; border-top: 1pt solid windowtext; border-righ
 t: 1pt solid windowtext; border-bottom: 1pt solid windowtext; border-left: 
 none; padding: 0cm 5.4pt; height: 7.2pt;" width="431">  <p style="margin: 1
 2pt 37.2pt; text-align: center; line-height: normal;" align="center"><stron
 g><em><span style="font-size: 14pt; font-family: 'Times New Roman', serif; 
 color: black;">Nội dung - Địa điểm - Thành phần</span></em></strong></p>  <
 /td>  </tr>  <tr style="height: 7.2pt;">  <td style="width: 92.3pt; border-
 right: 1pt solid windowtext; border-bottom: 1pt solid windowtext; border-le
 ft: 1pt solid windowtext; border-top: none; padding: 0cm; height: 7.2pt;" r
 owspan="2" width="154">  <p style="margin: 6pt 8.85pt; text-align: center; 
 line-height: normal;" align="center"><em><span style="font-size: 14pt; font
 -family: 'Times New Roman', serif; color: black;">Thứ hai</span></em></p>  
 <p style="margin: 6pt 8.85pt; text-align: center; line-height: normal;" ali
 gn="center"><em><span style="font-size: 14pt; font-family: 'Times New Roman
 ', serif; color: black;">20/4</span></em></p>  </td>  <td style="width: 152
 pt; border-top: none; border-left: none; border-bottom: 1pt solid windowtex
 t; border-right: 1pt solid windowtext; padding: 0cm 5.4pt; height: 7.2pt;" 
 width="253">  <p style="margin: 6pt 8.85pt; text-align: center; line-height
 : normal;" align="center"><span style="font-size: 14pt; font-family: 'Times
  New Roman', serif; color: black;">Liên đoàn trưởng</span></p>  <p style="m
 argin: 6pt 8.85pt; text-align: center; line-height: normal;" align="center"
 ><span style="font-size: 14pt; font-family: 'Times New Roman', serif; color
 : black;">Nguyễn Chí Nghĩa</span></p>  </td>  <td style="width: 258.45pt; b
 order-top: none; border-left: none; border-bottom: 1pt solid windowtext; bo
 rder-right: 1pt solid windowtext; padding: 0cm; height: 7.2pt;" width="431"
 >  <p style="margin: 6pt 2.85pt; text-align: justify; line-height: normal;"
 ><span style="font-size: 14pt; font-family: 'Times New Roman', serif; color
 : black;">Đi công tác Philipine tham dự cuộc họp Hội đồng nước Châu Á đến h
 ết sáng ngày thứ 5.</span></p>  </td>  </tr>  <tr style="height: 7.2pt;">  
 <td style="width: 152pt; border-top: none; border-left: none; border-bottom
 : 1pt solid windowtext; border-right: 1pt solid windowtext; padding: 0cm 5.
 4pt; height: 7.2pt;" width="253">  <p style="margin: 6pt 2.85pt; text-align
 : center; line-height: normal;" align="center"><span style="font-size: 14pt
 ; font-family: 'Times New Roman', serif; color: black;">Phó Liên đoàn trưởn
 g</span></p>  <p style="margin: 6pt 2.85pt; text-align: center; line-height
 : normal;" align="center"><span style="font-size: 14pt; font-family: 'Times
  New Roman', serif; color: black;">Hoàng Văn Hoan</span></p>  <p style="mar
 gin: 6pt 8.85pt; text-align: center; line-height: normal;" align="center"><
 span style="font-size: 14pt; font-family: 'Times New Roman', serif; color: 
 black;">Phó Liên đoàn trưởng</span></p>  <p style="margin: 6pt 11.65pt; tex
 t-align: center; line-height: normal;" align="center"><span style="font-siz
 e: 14pt; font-family: 'Times New Roman', serif; color: black;">Luyện Đức Th
 uận</span></p>  </td>  <td style="width: 258.45pt; border-top: none; border
 -left: none; border-bottom: 1pt solid windowtext; border-right: 1pt solid w
 indowtext; padding: 0cm; height: 7.2pt;" width="431">  <p style="margin: 0c
 m 2.85pt 8pt; text-align: justify; line-height: normal;"><span style="font-
 size: 14pt; font-family: 'Times New Roman', serif; color: black;">Làm việc 
 tại cơ quan</span></p>  </td>  </tr>  <tr style="height: 7.2pt;">  <td styl
 e="width: 92.3pt; border-right: 1pt solid windowtext; border-bottom: 1pt so
 lid windowtext; border-left: 1pt solid windowtext; border-top: none; paddin
 g: 0cm; height: 7.2pt;" width="154">  <p style="margin: 6pt 2.85pt; text-al
 ign: center; line-height: normal;" align="center"><em><span style="font-siz
 e: 14pt; font-family: 'Times New Roman', serif; color: black;">Thứ ba</span
 ></em></p>  <p style="margin: 6pt 8.85pt; text-align: center; line-height: 
 normal;" align="center"><em><span style="font-size: 14pt; font-family: 'Tim
 es New Roman', serif; color: black;">21/4</span></em></p>  </td>  <td style
 ="width: 152pt; border-top: none; border-left: none; border-bottom: 1pt sol
 id windowtext; border-right: 1pt solid windowtext; padding: 0cm 5.4pt; heig
 ht: 7.2pt;" width="253">  <p style="margin: 6pt 2.85pt; text-align: center;
  line-height: normal;" align="center"><span style="font-size: 14pt; font-fa
 mily: 'Times New Roman', serif; color: black;">Phó Liên đoàn trưởng</span><
 /p>  <p style="margin: 6pt 2.85pt; text-align: center; line-height: normal;
 " align="center"><span style="font-size: 14pt; font-family: 'Times New Roma
 n', serif; color: black;">Hoàng Văn Hoan</span></p>  <p style="margin: 6pt 
 8.85pt; text-align: center; line-height: normal;" align="center"><span styl
 e="font-size: 14pt; font-family: 'Times New Roman', serif; color: black;">P
 hó Liên đoàn trưởng</span></p>  <p style="margin: 6pt 2.85pt; text-align: c
 enter; line-height: normal;" align="center"><span style="font-size: 14pt; f
 ont-family: 'Times New Roman', serif; color: black;">Luyện Đức Thuận</span>
 </p>  </td>  <td style="width: 258.45pt; border-top: none; border-left: non
 e; border-bottom: 1pt solid windowtext; border-right: 1pt solid windowtext;
  padding: 0cm; height: 7.2pt;" width="431">  <p style="margin: 6pt 2.85pt; 
 text-align: justify; line-height: normal;"><em><span style="font-size: 14pt
 ; font-family: 'Times New Roman', serif;">- 08h30’</span></em><span style="
 font-size: 14pt; font-family: 'Times New Roman', serif;">: Họp triển khai n
 hiệm vụ “Điều tra, phân loại và lập danh mục nguồn nước mặt sông liên tỉnh 
 bị ô nhiễm, suy thoái, cạn kiệt trên phạm vi toàn quốc”, tại Phòng họp A501
 </span></p>  <p style="margin: 6pt 2.85pt; text-align: justify; line-height
 : normal;"><em><span style="font-size: 14pt; font-family: 'Times New Roman'
 , serif;">- 14h00’</span></em><span style="font-size: 14pt; font-family: 'T
 imes New Roman', serif; color: black;">: Họp nghe công tác chuẩn bị nhân vậ
 t lực và phương án triển khai thi công dự án “ Danh mục các nguồn nước ô nh
 iễm, cạn kiệt” tại phòng 802</span></p>  <p style="margin: 6pt 2.85pt; text
 -align: justify; line-height: normal;"><em><span style="font-size: 14pt; fo
 nt-family: 'Times New Roman', serif; color: black;">A Thuận chủ trì, anh Ho
 an cùng dự</span></em></p>  <p style="margin: 6pt 2.85pt; text-align: justi
 fy; line-height: normal;"><strong><em><span style="font-size: 14pt; font-fa
 mily: 'Times New Roman', serif; color: black;">Thành phần: Các đơn vị thi c
 ông, C Hương, C Thủy, Anh Tùng, anh Quảng phòng CN, C Thu ( Phòng QH) và an
 h Phúc chuẩn bị báo cáo</span></em></strong></p>  </td>  </tr>  <tr style="
 height: 7.2pt;">  <td style="width: 92.3pt; border-right: 1pt solid windowt
 ext; border-bottom: 1pt solid windowtext; border-left: 1pt solid windowtext
 ; border-top: none; padding: 0cm; height: 7.2pt;" rowspan="2" width="154"> 
  <p style="margin: 6pt 8.85pt; text-align: center; line-height: normal;" al
 ign="center"><em><span style="font-size: 14pt; font-family: 'Times New Roma
 n', serif; color: black;">Thứ tư</span></em></p>  <p style="margin: 6pt 8.8
 5pt; text-align: center; line-height: normal;" align="center"><em><span sty
 le="font-size: 14pt; font-family: 'Times New Roman', serif; color: black;">
 22/4</span></em></p>  </td>  <td style="width: 152pt; border-top: none; bor
 der-left: none; border-bottom: 1pt solid windowtext; border-right: 1pt soli
 d windowtext; padding: 0cm 5.4pt; height: 7.2pt;" width="253">  <p style="m
 argin: 6pt 2.85pt; text-align: center; line-height: normal;" align="center"
 ><span style="font-size: 14pt; font-family: 'Times New Roman', serif; color
 : black;">Phó Liên đoàn trưởng</span></p>  <p style="margin: 6pt 2.85pt; te
 xt-align: center; line-height: normal;" align="center"><span style="font-si
 ze: 14pt; font-family: 'Times New Roman', serif; color: black;">Hoàng Văn H
 oan</span></p>  </td>  <td style="width: 258.45pt; border-top: none; border
 -left: none; border-bottom: 1pt solid windowtext; border-right: 1pt solid w
 indowtext; padding: 0cm; height: 7.2pt;" width="431">  <p style="margin: 6p
 t 2.85pt; text-align: justify; line-height: normal;"><em><span style="font-
 size: 14pt; font-family: 'Times New Roman', serif;">- 8h30’</span></em><spa
 n style="font-size: 14pt; font-family: 'Times New Roman', serif;">: <span s
 tyle="color: black;">Nghe báo cáo tình hình rà soát, hoàn thiện Đề cương nh
 iệm vụ mở mới: “ Điều tra, đánh giá trữ lượng, chất lượng nước dưới đất tỷ 
 lệ 1: 100.000 tại các lưu vực sông: Hồng- Thái Bình, Vu Gia- Thu Bồn, ven b
 iển Nam Trung Bộ, Đồng Nai, Cửu Long, tại phòng 802</span></span></p>  <p s
 tyle="margin: 6pt 2.85pt; text-align: justify; line-height: normal;"><stron
 g><em><span style="font-size: 14pt; font-family: 'Times New Roman', serif; 
 color: black;">A Thông Văn phòng cùng dự, Anh Phúc phụ trách phòng Quy hoạc
 h và nhóm hoàn thiện Đề cương chuẩn bị.</span></em></strong></p>  <p style=
 "margin: 6pt 2.85pt; text-align: justify; line-height: normal;"><em><span s
 tyle="font-size: 14pt; font-family: 'Times New Roman', serif; color: black;
 ">- Chiều</span></em><span style="font-size: 14pt; font-family: 'Times New 
 Roman', serif; color: black;">: Làm việc tại cơ quan</span></p>  </td>  </t
 r>  <tr style="height: 7.2pt;">  <td style="width: 152pt; border-top: none;
  border-left: none; border-bottom: 1pt solid windowtext; border-right: 1pt 
 solid windowtext; padding: 0cm 5.4pt; height: 7.2pt;" width="253">  <p styl
 e="margin: 6pt 2.85pt; text-align: center; line-height: normal;" align="cen
 ter"><span style="font-size: 14pt; font-family: 'Times New Roman', serif; c
 olor: black;">Phó Liên đoàn trưởng</span></p>  <p style="margin: 6pt 2.85pt
 ; text-align: center; line-height: normal;" align="center"><span style="fon
 t-size: 14pt; font-family: 'Times New Roman', serif; color: black;">Luyện Đ
 ức Thuận</span></p>  </td>  <td style="width: 258.45pt; border-top: none; b
 order-left: none; border-bottom: 1pt solid windowtext; border-right: 1pt so
 lid windowtext; padding: 0cm; height: 7.2pt;" width="431">  <p style="margi
 n: 6pt 2.85pt; text-align: justify; line-height: normal;"><span style="font
 -size: 14pt; font-family: 'Times New Roman', serif; color: black;">Làm việc
  tại cơ quan</span></p>  </td>  </tr>  <tr style="height: 7.2pt;">  <td sty
 le="width: 92.3pt; border-right: 1pt solid windowtext; border-bottom: 1pt s
 olid windowtext; border-left: 1pt solid windowtext; border-top: none; paddi
 ng: 0cm; height: 7.2pt;" rowspan="2" width="154">  <p style="margin: 6pt 8.
 85pt; text-align: center; line-height: normal;" align="center"><em><span st
 yle="font-size: 14pt; font-family: 'Times New Roman', serif; color: black;"
 >Thứ năm</span></em></p>  <p style="margin: 6pt 8.85pt; text-align: center;
  line-height: normal;" align="center"><em><span style="font-size: 14pt; fon
 t-family: 'Times New Roman', serif; color: black;">23/4</span></em></p>  </
 td>  <td style="width: 152pt; border-top: none; border-left: none; border-b
 ottom: 1pt solid windowtext; border-right: 1pt solid windowtext; padding: 0
 cm 5.4pt; height: 7.2pt;" width="253">  <p style="margin: 6pt 8.85pt; text-
 align: center; line-height: normal;" align="center"><span style="font-size:
  14pt; font-family: 'Times New Roman', serif; color: black;">Liên đoàn trưở
 ng</span></p>  <p style="margin: 6pt 8.85pt; text-align: center; line-heigh
 t: normal;" align="center"><span style="font-size: 14pt; font-family: 'Time
 s New Roman', serif; color: black;">Nguyễn Chí Nghĩa</span></p>  </td>  <td
  style="width: 258.45pt; border-top: none; border-left: none; border-bottom
 : 1pt solid windowtext; border-right: 1pt solid windowtext; padding: 0cm; h
 eight: 7.2pt;" width="431">  <p style="margin: 0cm 2.85pt 8pt; text-align: 
 justify;"><em><span style="font-size: 14pt; line-height: 107%; font-family:
  'Times New Roman', serif; color: black;">- 16h00’:</span></em><span style=
 "font-size: 14pt; line-height: 107%; font-family: 'Times New Roman', serif;
  color: black;"> Dự Hội nghị bàn giao kết quả nghiên cứu nhiệm vụ “Điều tra
 , khảo sát, đánh giá nguyên nhân lũ lớn, ngập lụt trên hệ thống sông Cầu và
  đề xuất nhiệm vụ, giải pháp tổng thể để ứng phó, thích ứng” cho Thành phố 
 Hà Nội, tỉnh Bắc Ninh, tỉnh Thái Nguyên, tại Hội trường tầng 5</span></p>  
 </td>  </tr>  <tr style="height: 7.2pt;">  <td style="width: 152pt; border-
 top: none; border-left: none; border-bottom: 1pt solid windowtext; border-r
 ight: 1pt solid windowtext; padding: 0cm 5.4pt; height: 7.2pt;" width="253"
 >  <p style="margin: 6pt 2.85pt; text-align: center; line-height: normal;" 
 align="center"><span style="font-size: 14pt; font-family: 'Times New Roman'
 , serif; color: black;">Phó Liên đoàn trưởng</span></p>  <p style="margin: 
 6pt 2.85pt; text-align: center; line-height: normal;" align="center"><span 
 style="font-size: 14pt; font-family: 'Times New Roman', serif; color: black
 ;">Hoàng Văn Hoan</span></p>  <p style="margin: 6pt 2.85pt; text-align: cen
 ter; line-height: normal;" align="center"><span style="font-size: 14pt; fon
 t-family: 'Times New Roman', serif; color: black;">Phó Liên đoàn trưởng</sp
 an></p>  <p style="margin: 6pt 2.85pt; text-align: center; line-height: nor
 mal;" align="center"><span style="font-size: 14pt; font-family: 'Times New 
 Roman', serif; color: black;">Luyện Đức Thuận</span></p>  </td>  <td style=
 "width: 258.45pt; border-top: none; border-left: none; border-bottom: 1pt s
 olid windowtext; border-right: 1pt solid windowtext; padding: 0cm; height: 
 7.2pt;" width="431">  <p style="margin: 6pt 2.85pt; text-align: justify; li
 ne-height: normal;"><span style="font-size: 14pt; font-family: 'Times New R
 oman', serif; color: black;">Làm việc tại cơ quan</span></p>  </td>  </tr> 
  <tr style="height: 7.2pt;">  <td style="width: 92.3pt; border-right: 1pt s
 olid windowtext; border-bottom: 1pt solid windowtext; border-left: 1pt soli
 d windowtext; border-top: none; padding: 0cm; height: 7.2pt;" rowspan="2" w
 idth="154">  <p style="margin: 6pt 8.85pt; text-align: center; line-height:
  normal;" align="center"><em><span style="font-size: 14pt; font-family: 'Ti
 mes New Roman', serif; color: black;">Thứ sáu</span></em></p>  <p style="ma
 rgin: 6pt 8.85pt; text-align: center; line-height: normal;" align="center">
 <em><span style="font-size: 14pt; font-family: 'Times New Roman', serif; co
 lor: black;">24/4</span></em></p>  </td>  <td style="width: 152pt; border-t
 op: none; border-left: none; border-bottom: 1pt solid windowtext; border-ri
 ght: 1pt solid windowtext; padding: 0cm 5.4pt; height: 7.2pt;" width="253">
   <p style="margin: 6pt 8.85pt; text-align: center; line-height: normal;" a
 lign="center"><span style="font-size: 14pt; font-family: 'Times New Roman',
  serif; color: black;">Liên đoàn trưởng</span></p>  <p style="margin: 6pt 1
 1.65pt; text-align: center; line-height: normal;" align="center"><span styl
 e="font-size: 14pt; font-family: 'Times New Roman', serif; color: black;">N
 guyễn Chí Nghĩa</span></p>  </td>  <td style="width: 258.45pt; border-top: 
 none; border-left: none; border-bottom: 1pt solid windowtext; border-right:
  1pt solid windowtext; padding: 0cm; height: 7.2pt;" width="431">  <p style
 ="text-align: justify;"><em><span style="font-size: 14pt; line-height: 107%
 ; font-family: 'Times New Roman', serif; color: #ee0000;">- </span></em><em
 ><span style="font-size: 14pt; line-height: 107%; font-family: 'Times New R
 oman', serif; color: #ee0000;">09</span></em><em><span style="font-size: 14
 pt; line-height: 107%; font-family: 'Times New Roman', serif; color: #ee000
 0;">h00’</span></em><span style="font-size: 14pt; line-height: 107%; font-f
 amily: 'Times New Roman', serif; color: #ee0000;">: </span><span style="fon
 t-size: 14pt; line-height: 107%; font-family: 'Times New Roman', serif;">Dự
  bàn giao cơ sở nhà đất Đoàn </span><span style="font-size: 14pt; line-heig
 ht: 107%; font-family: 'Times New Roman', serif;">Quan trắc TNN miền Bắc, t
 ại Trụ sở Đoàn xã Tiến Thắng, thành phố Hà Nội</span></p>  <p style="margin
 : 6pt 2.85pt; text-align: justify; line-height: normal;"><strong><em><span 
 style="font-size: 14pt; font-family: 'Times New Roman', serif;">Thành phần:
  A Thành , C Thủy, A Huy Đoàn Quan trắc TNN miền Bắc và C Hiền kế toán tài 
 sản chuẩn bị cùng dự</span></em></strong></p>  </td>  </tr>  <tr style="hei
 ght: 7.2pt;">  <td style="width: 152pt; border-top: none; border-left: none
 ; border-bottom: 1pt solid windowtext; border-right: 1pt solid windowtext; 
 padding: 0cm 5.4pt; height: 7.2pt;" width="253">  <p style="margin: 6pt 2.8
 5pt; text-align: center; line-height: normal;" align="center"><span style="
 font-size: 14pt; font-family: 'Times New Roman', serif; color: black;">Phó 
 Liên đoàn trưởng</span></p>  <p style="margin: 6pt 2.85pt; text-align: cent
 er; line-height: normal;" align="center"><span style="font-size: 14pt; font
 -family: 'Times New Roman', serif; color: black;">Hoàng Văn Hoan</span></p>
   <p style="margin: 6pt 2.85pt; text-align: center; line-height: normal;" a
 lign="center"><span style="font-size: 14pt; font-family: 'Times New Roman',
  serif; color: black;">Phó Liên đoàn trưởng</span></p>  <p style="margin: 6
 pt 2.85pt; text-align: center; line-height: normal;" align="center"><span s
 tyle="font-size: 14pt; font-family: 'Times New Roman', serif; color: black;
 ">Luyện Đức Thuận</span></p>  </td>  <td style="width: 258.45pt; border-top
 : none; border-left: none; border-bottom: 1pt solid windowtext; border-righ
 t: 1pt solid windowtext; padding: 0cm; height: 7.2pt;" width="431">  <p sty
 le="margin: 6pt 2.85pt; text-align: justify; line-height: normal;"><span st
 yle="font-size: 14pt; font-family: 'Times New Roman', serif; color: black;"
 >Làm việc tại cơ quan</span></p>  </td>  </tr>  </tbody>  </table>  </div>
DTSTAMP:20260422T042844Z
DTSTART;TZID=Asia/Ho_Chi_Minh:20260421T080000
DTEND;TZID=Asia/Ho_Chi_Minh:20260421T170000
SEQUENCE:0
TRANSP:OPAQUE
END:VEVENT
END:VCALENDAR