BEGIN:VCALENDAR
VERSION:2.0
PRODID:-//jEvents 2.0 for Joomla//EN
CALSCALE:GREGORIAN
METHOD:PUBLISH
BEGIN:VEVENT
UID:43be27533d0588f69ca200eeca2b3198
CATEGORIES:Lịch làm việc
SUMMARY:Lịch tuần 16 của lãnh đạo Liên đoàn cập nhật lần 6
DESCRIPTION;ENCODING=QUOTED-PRINTABLE:<p style="margin: 0cm 0cm 0.0001pt -1cm; text-align: center; line-height: n
 ormal;" align="center"><span style="font-size: 14pt; font-family: 'Times Ne
 w Roman', serif; color: black;">TRUNG TÂM QUY HOẠCH VÀ ĐIỀU TRA TÀI NGUYÊN 
 NƯỚC QUỐC GIA</span></p>  <p style="margin: 0cm 0cm 0.0001pt -1cm; text-ali
 gn: center; line-height: normal;" align="center"><strong><span style="font-
 size: 14pt; font-family: 'Times New Roman', serif; color: black;">LIÊN ĐOÀN
  QUY HOẠCH VÀ ĐIỀU TRA TÀI NGUYÊN NƯỚC MIỀN BẮC</span></strong></p>  <p sty
 le="margin: 6pt 0cm; text-align: center; line-height: normal;" align="cente
 r"><strong><span style="font-size: 14pt; font-family: 'Times New Roman', se
 rif; color: black;">CHƯƠNG TRÌNH CÔNG TÁC CỦA LÃNH ĐẠO LIÊN ĐOÀN</span></st
 rong></p>  <p style="margin: 6pt 0cm 6pt 3cm; text-align: center; line-heig
 ht: normal;" align="center"><strong><em><span style="font-size: 14pt; font-
 family: 'Times New Roman', serif; color: black;">Tuần thứ 16 (từ ngày 20/4 
 đến ngày 24/4/2026)</span></em></strong></p>  <div align="center">  <table 
 style="width: 792px; border-collapse: collapse; border: none; height: 1403p
 x;" border="1" cellspacing="0" cellpadding="0">  <tbody>  <tr style="height
 : 7.2pt;">  <td style="width: 92.3pt; border: 1pt solid windowtext; padding
 : 0cm 5.4pt; height: 7.2pt;" width="154">  <p style="margin: 12pt 24pt; tex
 t-align: center; line-height: normal;" align="center"><strong><em><span sty
 le="font-size: 14pt; font-family: 'Times New Roman', serif; color: black;">
 Ngày tháng</span></em></strong></p>  </td>  <td style="width: 152pt; border
 -top: 1pt solid windowtext; border-right: 1pt solid windowtext; border-bott
 om: 1pt solid windowtext; border-left: none; padding: 0cm 5.4pt; height: 7.
 2pt;" width="253">  <p style="margin: 12pt 24pt; text-align: center; line-h
 eight: normal;" align="center"><strong><em><span style="font-size: 14pt; fo
 nt-family: 'Times New Roman', serif; color: black;">Chủ trì</span></em></st
 rong></p>  </td>  <td style="width: 258.45pt; border-top: 1pt solid windowt
 ext; border-right: 1pt solid windowtext; border-bottom: 1pt solid windowtex
 t; border-left: none; padding: 0cm 5.4pt; height: 7.2pt;" width="431">  <p 
 style="margin: 12pt 37.2pt; text-align: center; line-height: normal;" align
 ="center"><strong><em><span style="font-size: 14pt; font-family: 'Times New
  Roman', serif; color: black;">Nội dung - Địa điểm - Thành phần</span></em>
 </strong></p>  </td>  </tr>  <tr style="height: 7.2pt;">  <td style="width:
  92.3pt; border-right: 1pt solid windowtext; border-bottom: 1pt solid windo
 wtext; border-left: 1pt solid windowtext; border-top: none; padding: 0cm; h
 eight: 7.2pt;" rowspan="2" width="154">  <p style="margin: 6pt 8.85pt; text
 -align: center; line-height: normal;" align="center"><em><span style="font-
 size: 14pt; font-family: 'Times New Roman', serif; color: black;">Thứ hai</
 span></em></p>  <p style="margin: 6pt 8.85pt; text-align: center; line-heig
 ht: normal;" align="center"><em><span style="font-size: 14pt; font-family: 
 'Times New Roman', serif; color: black;">20/4</span></em></p>  </td>  <td s
 tyle="width: 152pt; border-top: none; border-left: none; border-bottom: 1pt
  solid windowtext; border-right: 1pt solid windowtext; padding: 0cm 5.4pt; 
 height: 7.2pt;" width="253">  <p style="margin: 6pt 8.85pt; text-align: cen
 ter; line-height: normal;" align="center"><span style="font-size: 14pt; fon
 t-family: 'Times New Roman', serif; color: black;">Liên đoàn trưởng</span><
 /p>  <p style="margin: 6pt 8.85pt; text-align: center; line-height: normal;
 " align="center"><span style="font-size: 14pt; font-family: 'Times New Roma
 n', serif; color: black;">Nguyễn Chí Nghĩa</span></p>  </td>  <td style="wi
 dth: 258.45pt; border-top: none; border-left: none; border-bottom: 1pt soli
 d windowtext; border-right: 1pt solid windowtext; padding: 0cm; height: 7.2
 pt;" width="431">  <p style="margin: 6pt 2.85pt; text-align: justify; line-
 height: normal;"><span style="font-size: 14pt; font-family: 'Times New Roma
 n', serif; color: black;">Đi công tác Philipine tham dự cuộc họp Hội đồng n
 ước Châu Á đến hết sáng ngày thứ 5.</span></p>  </td>  </tr>  <tr style="he
 ight: 7.2pt;">  <td style="width: 152pt; border-top: none; border-left: non
 e; border-bottom: 1pt solid windowtext; border-right: 1pt solid windowtext;
  padding: 0cm 5.4pt; height: 7.2pt;" width="253">  <p style="margin: 6pt 2.
 85pt; text-align: center; line-height: normal;" align="center"><span style=
 "font-size: 14pt; font-family: 'Times New Roman', serif; color: black;">Phó
  Liên đoàn trưởng</span></p>  <p style="margin: 6pt 2.85pt; text-align: cen
 ter; line-height: normal;" align="center"><span style="font-size: 14pt; fon
 t-family: 'Times New Roman', serif; color: black;">Hoàng Văn Hoan</span></p
 >  <p style="margin: 6pt 8.85pt; text-align: center; line-height: normal;" 
 align="center"><span style="font-size: 14pt; font-family: 'Times New Roman'
 , serif; color: black;">Phó Liên đoàn trưởng</span></p>  <p style="margin: 
 6pt 11.65pt; text-align: center; line-height: normal;" align="center"><span
  style="font-size: 14pt; font-family: 'Times New Roman', serif; color: blac
 k;">Luyện Đức Thuận</span></p>  </td>  <td style="width: 258.45pt; border-t
 op: none; border-left: none; border-bottom: 1pt solid windowtext; border-ri
 ght: 1pt solid windowtext; padding: 0cm; height: 7.2pt;" width="431">  <p s
 tyle="margin: 0cm 2.85pt 8pt; text-align: justify; line-height: normal;"><s
 pan style="font-size: 14pt; font-family: 'Times New Roman', serif; color: b
 lack;">Làm việc tại cơ quan</span></p>  </td>  </tr>  <tr style="height: 7.
 2pt;">  <td style="width: 92.3pt; border-right: 1pt solid windowtext; borde
 r-bottom: 1pt solid windowtext; border-left: 1pt solid windowtext; border-t
 op: none; padding: 0cm; height: 7.2pt;" width="154">  <p style="margin: 6pt
  2.85pt; text-align: center; line-height: normal;" align="center"><em><span
  style="font-size: 14pt; font-family: 'Times New Roman', serif; color: blac
 k;">Thứ ba</span></em></p>  <p style="margin: 6pt 8.85pt; text-align: cente
 r; line-height: normal;" align="center"><em><span style="font-size: 14pt; f
 ont-family: 'Times New Roman', serif; color: black;">21/4</span></em></p>  
 </td>  <td style="width: 152pt; border-top: none; border-left: none; border
 -bottom: 1pt solid windowtext; border-right: 1pt solid windowtext; padding:
  0cm 5.4pt; height: 7.2pt;" width="253">  <p style="margin: 6pt 2.85pt; tex
 t-align: center; line-height: normal;" align="center"><span style="font-siz
 e: 14pt; font-family: 'Times New Roman', serif; color: black;">Phó Liên đoà
 n trưởng</span></p>  <p style="margin: 6pt 2.85pt; text-align: center; line
 -height: normal;" align="center"><span style="font-size: 14pt; font-family:
  'Times New Roman', serif; color: black;">Hoàng Văn Hoan</span></p>  <p sty
 le="margin: 6pt 8.85pt; text-align: center; line-height: normal;" align="ce
 nter"><span style="font-size: 14pt; font-family: 'Times New Roman', serif; 
 color: black;">Phó Liên đoàn trưởng</span></p>  <p style="margin: 6pt 2.85p
 t; text-align: center; line-height: normal;" align="center"><span style="fo
 nt-size: 14pt; font-family: 'Times New Roman', serif; color: black;">Luyện 
 Đức Thuận</span></p>  </td>  <td style="width: 258.45pt; border-top: none; 
 border-left: none; border-bottom: 1pt solid windowtext; border-right: 1pt s
 olid windowtext; padding: 0cm; height: 7.2pt;" width="431">  <p style="marg
 in: 6pt 2.85pt; text-align: justify; line-height: normal;"><em><span style=
 "font-size: 14pt; font-family: 'Times New Roman', serif;">- 08h30’</span></
 em><span style="font-size: 14pt; font-family: 'Times New Roman', serif;">: 
 Họp triển khai nhiệm vụ “Điều tra, phân loại và lập danh mục nguồn nước mặt
  sông liên tỉnh bị ô nhiễm, suy thoái, cạn kiệt trên phạm vi toàn quốc”, tạ
 i Phòng họp A501</span></p>  <p style="margin: 6pt 2.85pt; text-align: just
 ify; line-height: normal;"><em><span style="font-size: 14pt; font-family: '
 Times New Roman', serif;">- 14h00’</span></em><span style="font-size: 14pt;
  font-family: 'Times New Roman', serif; color: black;">: Họp nghe công tác 
 chuẩn bị nhân vật lực và phương án triển khai thi công dự án “ Danh mục các
  nguồn nước ô nhiễm, cạn kiệt” tại phòng 802</span></p>  <p style="margin: 
 6pt 2.85pt; text-align: justify; line-height: normal;"><em><span style="fon
 t-size: 14pt; font-family: 'Times New Roman', serif; color: black;">A Thuận
  chủ trì, anh Hoan cùng dự</span></em></p>  <p style="margin: 6pt 2.85pt; t
 ext-align: justify; line-height: normal;"><strong><em><span style="font-siz
 e: 14pt; font-family: 'Times New Roman', serif; color: black;">Thành phần: 
 Các đơn vị thi công, C Hương, C Thủy, Anh Tùng, anh Quảng phòng CN, C Thu (
  Phòng QH) và anh Phúc chuẩn bị báo cáo</span></em></strong></p>  </td>  </
 tr>  <tr style="height: 7.2pt;">  <td style="width: 92.3pt; border-right: 1
 pt solid windowtext; border-bottom: 1pt solid windowtext; border-left: 1pt 
 solid windowtext; border-top: none; padding: 0cm; height: 7.2pt;" rowspan="
 2" width="154">  <p style="margin: 6pt 8.85pt; text-align: center; line-hei
 ght: normal;" align="center"><em><span style="font-size: 14pt; font-family:
  'Times New Roman', serif; color: black;">Thứ tư</span></em></p>  <p style=
 "margin: 6pt 8.85pt; text-align: center; line-height: normal;" align="cente
 r"><em><span style="font-size: 14pt; font-family: 'Times New Roman', serif;
  color: black;">22/4</span></em></p>  </td>  <td style="width: 152pt; borde
 r-top: none; border-left: none; border-bottom: 1pt solid windowtext; border
 -right: 1pt solid windowtext; padding: 0cm 5.4pt; height: 7.2pt;" width="25
 3">  <p style="margin: 6pt 2.85pt; text-align: center; line-height: normal;
 " align="center"><span style="font-size: 14pt; font-family: 'Times New Roma
 n', serif; color: black;">Phó Liên đoàn trưởng</span></p>  <p style="margin
 : 6pt 2.85pt; text-align: center; line-height: normal;" align="center"><spa
 n style="font-size: 14pt; font-family: 'Times New Roman', serif; color: bla
 ck;">Hoàng Văn Hoan</span></p>  </td>  <td style="width: 258.45pt; border-t
 op: none; border-left: none; border-bottom: 1pt solid windowtext; border-ri
 ght: 1pt solid windowtext; padding: 0cm; height: 7.2pt;" width="431">  <p s
 tyle="margin: 6pt 2.85pt; text-align: justify; line-height: normal;"><em><s
 pan style="font-size: 14pt; font-family: 'Times New Roman', serif;">- 8h30’
 </span></em><span style="font-size: 14pt; font-family: 'Times New Roman', s
 erif;">: <span style="color: black;">Nghe báo cáo tình hình rà soát, hoàn t
 hiện Đề cương nhiệm vụ mở mới: “ Điều tra, đánh giá trữ lượng, chất lượng n
 ước dưới đất tỷ lệ 1: 100.000 tại các lưu vực sông: Hồng- Thái Bình, Vu Gia
 - Thu Bồn, ven biển Nam Trung Bộ, Đồng Nai, Cửu Long, tại phòng 802</span><
 /span></p>  <p style="margin: 6pt 2.85pt; text-align: justify; line-height:
  normal;"><strong><em><span style="font-size: 14pt; font-family: 'Times New
  Roman', serif; color: black;">A Thông Văn phòng cùng dự, Anh Phúc phụ trác
 h phòng Quy hoạch và nhóm hoàn thiện Đề cương chuẩn bị.</span></em></strong
 ></p>  <p style="margin: 6pt 2.85pt; text-align: justify; line-height: norm
 al;"><em><span style="font-size: 14pt; font-family: 'Times New Roman', seri
 f; color: black;">- Chiều</span></em><span style="font-size: 14pt; font-fam
 ily: 'Times New Roman', serif; color: black;">: Làm việc tại cơ quan</span>
 </p>  </td>  </tr>  <tr style="height: 7.2pt;">  <td style="width: 152pt; b
 order-top: none; border-left: none; border-bottom: 1pt solid windowtext; bo
 rder-right: 1pt solid windowtext; padding: 0cm 5.4pt; height: 7.2pt;" width
 ="253">  <p style="margin: 6pt 2.85pt; text-align: center; line-height: nor
 mal;" align="center"><span style="font-size: 14pt; font-family: 'Times New 
 Roman', serif; color: black;">Phó Liên đoàn trưởng</span></p>  <p style="ma
 rgin: 6pt 2.85pt; text-align: center; line-height: normal;" align="center">
 <span style="font-size: 14pt; font-family: 'Times New Roman', serif; color:
  black;">Luyện Đức Thuận</span></p>  </td>  <td style="width: 258.45pt; bor
 der-top: none; border-left: none; border-bottom: 1pt solid windowtext; bord
 er-right: 1pt solid windowtext; padding: 0cm; height: 7.2pt;" width="431"> 
  <p style="margin: 6pt 2.85pt; text-align: justify; line-height: normal;"><
 span style="font-size: 14pt; font-family: 'Times New Roman', serif; color: 
 black;">Làm việc tại cơ quan</span></p>  </td>  </tr>  <tr style="height: 7
 .2pt;">  <td style="width: 92.3pt; border-top: none; border-left: 1pt solid
  windowtext; border-bottom: none; border-right: 1pt solid windowtext; paddi
 ng: 0cm; height: 7.2pt;" rowspan="3" width="154">  <p style="margin: 6pt 8.
 85pt; text-align: center; line-height: normal;" align="center"><em><span st
 yle="font-size: 14pt; font-family: 'Times New Roman', serif; color: black;"
 >Thứ năm</span></em></p>  <p style="margin: 6pt 8.85pt; text-align: center;
  line-height: normal;" align="center"><em><span style="font-size: 14pt; fon
 t-family: 'Times New Roman', serif; color: black;">23/4</span></em></p>  </
 td>  <td style="width: 152pt; border-top: none; border-left: none; border-b
 ottom: 1pt solid windowtext; border-right: 1pt solid windowtext; padding: 0
 cm 5.4pt; height: 7.2pt;" width="253">  <p style="margin: 6pt 8.85pt; text-
 align: center; line-height: normal;" align="center"><span style="font-size:
  14pt; font-family: 'Times New Roman', serif; color: black;">Liên đoàn trưở
 ng</span></p>  <p style="margin: 6pt 8.85pt; text-align: center; line-heigh
 t: normal;" align="center"><span style="font-size: 14pt; font-family: 'Time
 s New Roman', serif; color: black;">Nguyễn Chí Nghĩa</span></p>  </td>  <td
  style="width: 258.45pt; border-top: none; border-left: none; border-bottom
 : 1pt solid windowtext; border-right: 1pt solid windowtext; padding: 0cm; h
 eight: 7.2pt;" width="431">  <p style="margin: 0cm 2.85pt 8pt; text-align: 
 justify;"><em><span style="font-size: 14pt; line-height: 107%; font-family:
  'Times New Roman', serif; color: black;">- 16h00’:</span></em><span style=
 "font-size: 14pt; line-height: 107%; font-family: 'Times New Roman', serif;
  color: black;"> Dự Hội nghị bàn giao kết quả nghiên cứu nhiệm vụ “Điều tra
 , khảo sát, đánh giá nguyên nhân lũ lớn, ngập lụt trên hệ thống sông Cầu và
  đề xuất nhiệm vụ, giải pháp tổng thể để ứng phó, thích ứng” cho Thành phố 
 Hà Nội, tỉnh Bắc Ninh, tỉnh Thái Nguyên, tại Hội trường tầng 5</span></p>  
 </td>  </tr>  <tr style="height: 7.2pt;">  <td style="width: 152pt; border-
 top: none; border-left: none; border-bottom: 1pt solid windowtext; border-r
 ight: 1pt solid windowtext; padding: 0cm 5.4pt; height: 7.2pt;" width="253"
 >  <p style="margin: 6pt 2.85pt; text-align: center; line-height: normal;" 
 align="center"><span style="font-size: 14pt; font-family: 'Times New Roman'
 , serif; color: black;">Phó Liên đoàn trưởng</span></p>  <p style="margin: 
 6pt 2.85pt; text-align: center; line-height: normal;" align="center"><span 
 style="font-size: 14pt; font-family: 'Times New Roman', serif; color: black
 ;">Hoàng Văn Hoan</span></p>  </td>  <td style="width: 258.45pt; border-top
 : none; border-left: none; border-bottom: 1pt solid windowtext; border-righ
 t: 1pt solid windowtext; padding: 0cm; height: 7.2pt;" width="431">  <p sty
 le="margin: 6pt 2.85pt; text-align: justify; line-height: normal;"><em><spa
 n style="font-size: 14pt; font-family: 'Times New Roman', serif; color: red
 ;">- 09h00’:</span></em><span style="font-size: 14pt; font-family: 'Times N
 ew Roman', serif; color: black;"> Tham dự Hội thảo KOMEC tại Lotte Hà Nội</
 span></p>  </td>  </tr>  <tr style="height: 7.2pt;">  <td style="width: 152
 pt; border-top: none; border-left: none; border-bottom: 1pt solid windowtex
 t; border-right: 1pt solid windowtext; padding: 0cm 5.4pt; height: 7.2pt;" 
 width="253">  <p style="margin: 6pt 2.85pt; text-align: center; line-height
 : normal;" align="center"><span style="font-size: 14pt; font-family: 'Times
  New Roman', serif; color: black;">Phó Liên đoàn trưởng</span></p>  <p styl
 e="margin: 6pt 8.85pt; text-align: center; line-height: normal;" align="cen
 ter"><span style="font-size: 14pt; font-family: 'Times New Roman', serif; c
 olor: black;">Luyện Đức Thuận</span></p>  </td>  <td style="width: 258.45pt
 ; border-top: none; border-left: none; border-bottom: 1pt solid windowtext;
  border-right: 1pt solid windowtext; padding: 0cm; height: 7.2pt;" width="4
 31">  <p style="text-align: justify;"><span style="font-size: 14pt; line-he
 ight: 107%; font-family: 'Times New Roman', serif; color: black;">Làm việc 
 tại cơ quan</span></p>  </td>  </tr>  <tr style="height: 7.2pt;">  <td styl
 e="width: 92.3pt; border: 1pt solid windowtext; padding: 0cm; height: 7.2pt
 ;" rowspan="2" width="154">  <p style="margin: 6pt 8.85pt; text-align: cent
 er; line-height: normal;" align="center"><em><span style="font-size: 14pt; 
 font-family: 'Times New Roman', serif; color: black;">Thứ sáu</span></em></
 p>  <p style="margin: 6pt 8.85pt; text-align: center; line-height: normal;"
  align="center"><em><span style="font-size: 14pt; font-family: 'Times New R
 oman', serif; color: black;">24/4</span></em></p>  </td>  <td style="width:
  152pt; border-top: none; border-left: none; border-bottom: 1pt solid windo
 wtext; border-right: 1pt solid windowtext; padding: 0cm 5.4pt; height: 7.2p
 t;" width="253">  <p style="margin: 6pt 8.85pt; text-align: center; line-he
 ight: normal;" align="center"><span style="font-size: 14pt; font-family: 'T
 imes New Roman', serif; color: black;">Liên đoàn trưởng</span></p>  <p styl
 e="margin: 6pt 11.65pt; text-align: center; line-height: normal;" align="ce
 nter"><span style="font-size: 14pt; font-family: 'Times New Roman', serif; 
 color: black;">Nguyễn Chí Nghĩa</span></p>  </td>  <td style="width: 258.45
 pt; border-top: none; border-left: none; border-bottom: 1pt solid windowtex
 t; border-right: 1pt solid windowtext; padding: 0cm; height: 7.2pt;" width=
 "431">  <p style="text-align: justify;"><em><span style="font-size: 14pt; l
 ine-height: 107%; font-family: 'Times New Roman', serif;">- </span></em><em
 ><span style="font-size: 14pt; line-height: 107%; font-family: 'Times New R
 oman', serif;">09</span></em><em><span style="font-size: 14pt; line-height:
  107%; font-family: 'Times New Roman', serif;">h00’</span></em><span style=
 "font-size: 14pt; line-height: 107%; font-family: 'Times New Roman', serif;
 ">: Dự bàn giao cơ sở nhà đất Đoàn </span><span style="font-size: 14pt; lin
 e-height: 107%; font-family: 'Times New Roman', serif;">Quan trắc TNN miền 
 Bắc, tại Trụ sở Đoàn xã Tiến Thắng, thành phố Hà Nội</span></p>  <p style="
 margin: 6pt 2.85pt; text-align: justify; line-height: normal;"><strong><em>
 <span style="font-size: 14pt; font-family: 'Times New Roman', serif;">Thành
  phần: A Thành , C Thủy, A Huy Đoàn Quan trắc TNN miền Bắc và C Hiền kế toá
 n tài sản chuẩn bị cùng dự</span></em></strong></p>  </td>  </tr>  <tr styl
 e="height: 7.2pt;">  <td style="width: 152pt; border-top: none; border-left
 : none; border-bottom: 1pt solid windowtext; border-right: 1pt solid window
 text; padding: 0cm 5.4pt; height: 7.2pt;" width="253">  <p style="margin: 6
 pt 2.85pt; text-align: center; line-height: normal;" align="center"><span s
 tyle="font-size: 14pt; font-family: 'Times New Roman', serif; color: black;
 ">Phó Liên đoàn trưởng</span></p>  <p style="margin: 6pt 2.85pt; text-align
 : center; line-height: normal;" align="center"><span style="font-size: 14pt
 ; font-family: 'Times New Roman', serif; color: black;">Hoàng Văn Hoan</spa
 n></p>  <p style="margin: 6pt 2.85pt; text-align: center; line-height: norm
 al;" align="center"><span style="font-size: 14pt; font-family: 'Times New R
 oman', serif; color: black;">Phó Liên đoàn trưởng</span></p>  <p style="mar
 gin: 6pt 2.85pt; text-align: center; line-height: normal;" align="center"><
 span style="font-size: 14pt; font-family: 'Times New Roman', serif; color: 
 black;">Luyện Đức Thuận</span></p>  </td>  <td style="width: 258.45pt; bord
 er-top: none; border-left: none; border-bottom: 1pt solid windowtext; borde
 r-right: 1pt solid windowtext; padding: 0cm; height: 7.2pt;" width="431">  
 <p style="margin: 6pt 2.85pt; text-align: justify; line-height: normal;"><s
 pan style="font-size: 14pt; font-family: 'Times New Roman', serif; color: b
 lack;">Làm việc tại cơ quan</span></p>  </td>  </tr>  </tbody>  </table>  <
 /div>
DTSTAMP:20260423T052222Z
DTSTART;TZID=Asia/Ho_Chi_Minh:20260422T080000
DTEND;TZID=Asia/Ho_Chi_Minh:20260422T170000
SEQUENCE:0
TRANSP:OPAQUE
END:VEVENT
END:VCALENDAR