BEGIN:VCALENDAR
VERSION:2.0
PRODID:-//jEvents 2.0 for Joomla//EN
CALSCALE:GREGORIAN
METHOD:PUBLISH
BEGIN:VEVENT
UID:f01dec034d4ca510a04f5ea40e1ffe6f
CATEGORIES:Lịch làm việc
SUMMARY:Lịch làm việc tuần 17 của Lãnh đạo Liên đoàn
DESCRIPTION;ENCODING=QUOTED-PRINTABLE:TRUNG TÂM QUY HOẠCH VÀ ĐIỀU TRA TÀI NGUYÊN NƯỚC QUỐC GIA\n  LIÊN ĐOÀN QUY H
 OẠCH VÀ ĐIỀU TRA TÀI NGUYÊN NƯỚC MIỀN BẮC\n  CHƯƠNG TRÌNH CÔNG TÁC CỦA LÃNH
  ĐẠO LIÊN ĐOÀN\n  Tuần thứ 17 (từ ngày 27/4 đến ngày 01/5/2026)\n          
   Ngày tháng\n      Chủ trì\n      Nội dung - Địa điểm - Thành phần\n      
     Thứ hai\n  27/4\n      NGHỈ LỄ GIỖ TỔ HÙNG VƯƠNG\n          Thứ ba\n  2
 8/4\n      Lãnh đạo Liên đoàn\n      - 09h00’: Họp Giao ban Lãnh đạo Liên đ
 oàn, tại phòng 802\n  Anh Thành cùng dự\n  - Chiều: Làm việc tại cơ quan\n 
          Thứ tư\n  29/4\n      Lãnh đạo Liên đoàn\n      Làm việc tại cơ qu
 an\n          Thứ năm\n  30/4\n      NGHỈ LỄ \n  NGÀY CHIẾN THẮNG 30/4 VÀ N
 GÀY QUỐC TẾ LAO ĐỘNG 01/5\n          Thứ sáu\n  01/5\n          
DTSTAMP:20260426T044104Z
DTSTART;TZID=Asia/Ho_Chi_Minh:20260425T080000
DTEND;TZID=Asia/Ho_Chi_Minh:20260425T170000
SEQUENCE:0
TRANSP:OPAQUE
END:VEVENT
END:VCALENDAR