BEGIN:VCALENDAR
VERSION:2.0
PRODID:-//jEvents 2.0 for Joomla//EN
CALSCALE:GREGORIAN
METHOD:PUBLISH
BEGIN:VEVENT
UID:10b97c3d128b1caa1d94e6cc0cd30ef4
CATEGORIES:Lịch làm việc
SUMMARY:Lịch tuần 40 của lãnh đạo Liên đoàn
DESCRIPTION;ENCODING=QUOTED-PRINTABLE:TRUNG TÂM QUY HOẠCH VÀ ĐIỀU TRA TÀI NGUYÊN NƯỚC QUỐC GIA\n             LIÊN
  ĐOÀN QUY HOẠCH VÀ ĐIỀU TRA TÀI NGUYÊN NƯỚC MIỀN BẮC\n  LỊCH LÀM VIỆC CỦA L
 ÃNH ĐẠO LIÊN ĐOÀN\n  Tuần thứ 40 (Từ ngày 04/10/2021 đến ngày 08/10/2021)\n
             Ngày tháng\n      Chủ trì\n      Nội dung - Địa điểm - Thành ph
 ần\n          Thứ hai\n  04/10\n      Lãnh đạo Liên đoàn\n      -8h30’: Họp
  giao ban. Thành phần: Trưởng các Phòng, các Đoàn trưởng, Kế toán trưởng và
  các chủ nhiệm dự án Vùng cao, Lô- Gâm, Ven biển VBB, Sức chịu tải\n  Các Đ
 oàn trưởng họp trực tuyến\n  Địa điểm: Phòng Truyền thống\n  - Chiều: Làm v
 iệc tại cơ quan\n          Thứ ba\n  05/10\n      Lãnh đạo Liên đoàn\n     
  - 8h30’: Thông qua Quy chế Kiểm toán nội bộ của Liên đoàn. Thành phần: Ban
  soạn thảo theo QĐ số 370/QĐ-TNNMB ngày 22/9/2021, Trưởng các Phòng cùng dự
 . (C Huyền, C Oanh, C Ngân dự trực tuyến)\n  Địa điểm: Phòng Truyền thống\n
   - Làm việc tại cơ quan\n          Thứ tư\n  06/10\n      Lãnh đạo Liên đo
 àn\n      -8h30’: Họp Ban chấp hành Đảng ủy tháng 9. Thành phần: BCH Đảng ủ
 y Liên đoàn ( Anh Hoạt, A Huy, A Hùng họp trực tuyến)\n  -14h00’: Nghe Văn 
 phòng báo cáo hoàn thành hướng dẫn. Thành phần: Các viên chức tham gia viết
  dự thảo\n  Địa điểm: Phòng Truyền thống\n          Thứ năm\n  07/10\n     
  Lãnh đạo Liên đoàn\n      -8h30’: Nghe phòng Điều tra TNN và Đoàn QT TNN m
 iền Bắc báo cáo dự thảo Đề án nâng cao chất lượng công tác quan trắc. Thành
  phần: Lãnh đạo phòng Điều tra, Tổ quan trắc. \n  Lãnh đạo Đoàn QTTNN trực 
 tuyến\n  Địa điểm: Phòng Truyền thống\n  -Chiều: Làm việc tại cơ quan\n    
       Thứ sáu\n  08/10\n      Lãnh đạo Liên đoàn\n      Làm việc tại cơ qua
 n\n          
DTSTAMP:20260419T210121Z
DTSTART;TZID=Asia/Ho_Chi_Minh:20211001T080000
DTEND;TZID=Asia/Ho_Chi_Minh:20211001T170000
SEQUENCE:0
TRANSP:OPAQUE
END:VEVENT
END:VCALENDAR