BEGIN:VCALENDAR
VERSION:2.0
PRODID:-//jEvents 2.0 for Joomla//EN
CALSCALE:GREGORIAN
METHOD:PUBLISH
BEGIN:VEVENT
UID:05594e739e0d9ffebe7d4f33f7ad2982
CATEGORIES:Lịch làm việc
SUMMARY:Lịch tuần 40 của Lãnh đạo Liên đoàn cập nhật lần 1
DESCRIPTION;ENCODING=QUOTED-PRINTABLE:<p style="margin: 0cm 0cm 0cm -1cm; text-align: center; line-height: normal
 ;" align="center"><span style="font-size: 13pt; color: black; font-family: 
 'times new roman', times;">TRUNG TÂM QUY HOẠCH VÀ ĐIỀU TRA TÀI NGUYÊN NƯỚC 
 QUỐC GIA</span></p>  <p style="margin: 0cm 0cm 0cm -1cm; text-align: center
 ; line-height: normal;" align="center"><span style="font-family: 'times new
  roman', times;"><strong><span style="font-size: 13pt; color: black;">     
       LIÊN ĐOÀN QUY HOẠCH VÀ ĐIỀU TRA TÀI NGUYÊN NƯỚC MIỀN BẮC</span></stro
 ng></span></p>  <p style="margin: 12pt 0cm 0cm; text-align: center; line-he
 ight: normal;" align="center"><span style="font-family: 'times new roman', 
 times;"><strong><span style="font-size: 13pt; color: black;">LỊCH LÀM VIỆC 
 CỦA LÃNH ĐẠO LIÊN ĐOÀN</span></strong></span></p>  <p style="margin-bottom:
  12pt; text-align: center; line-height: normal;" align="center"><span style
 ="font-family: 'times new roman', times;"><strong><em><span style="font-siz
 e: 13pt; color: black;">Tuần thứ 40 (từ ngày 04/10/2021 đến ngày 08/10/2021
 )</span></em></strong></span></p>  <div align="center">  <table style="widt
 h: 699px; border-collapse: collapse; height: 981px;" border="0" cellspacing
 ="0" cellpadding="0">  <tbody>  <tr style="height: 30.75pt;">  <td style="w
 idth: 101.9pt; border: 1pt solid windowtext; padding: 0cm 5.4pt; height: 30
 .75pt;" width="136">  <p style="margin-right: 30pt; margin-bottom: 0cm; mar
 gin-left: 30pt; text-align: center; line-height: normal;" align="center"><s
 pan style="font-family: 'times new roman', times;"><strong><em><span style=
 "font-size: 13pt; color: black;">Ngày tháng</span></em></strong></span></p>
   </td>  <td style="width: 131.75pt; border-top: 1pt solid windowtext; bord
 er-right: 1pt solid windowtext; border-bottom: 1pt solid windowtext; border
 -left: none; padding: 0cm 5.4pt; height: 30.75pt;" width="176">  <p style="
 margin-right: 30pt; margin-bottom: 0cm; margin-left: 30pt; text-align: cent
 er; line-height: normal;" align="center"><span style="font-family: 'times n
 ew roman', times;"><strong><em><span style="font-size: 13pt; color: black;"
 >Chủ trì</span></em></strong></span></p>  </td>  <td style="width: 262.1pt;
  border-top: 1pt solid windowtext; border-right: 1pt solid windowtext; bord
 er-bottom: 1pt solid windowtext; border-left: none; padding: 0cm 5.4pt; hei
 ght: 30.75pt;" width="349">  <p style="margin: 0cm 24.35pt; text-align: cen
 ter; line-height: normal;" align="center"><span style="font-family: 'times 
 new roman', times;"><strong><em><span style="font-size: 13pt; color: black;
 ">Nội dung - Địa điểm - Thành phần</span></em></strong></span></p>  </td>  
 </tr>  <tr style="height: 30.75pt;">  <td style="width: 101.9pt; border-rig
 ht: 1pt solid windowtext; border-bottom: 1pt solid windowtext; border-left:
  1pt solid windowtext; border-top: none; padding: 0cm 5.4pt; height: 30.75p
 t;" rowspan="3" width="136">  <p style="margin-bottom: 0cm; text-align: cen
 ter; line-height: normal;" align="center"><span style="font-family: 'times 
 new roman', times;"><em><span style="font-size: 13pt; color: black;">Thứ ha
 i</span></em></span></p>  <p style="margin-bottom: 0cm; text-align: center;
  line-height: normal;" align="center"><span style="font-family: 'times new 
 roman', times;"><em><span style="font-size: 13pt; color: black;">04/10</spa
 n></em></span></p>  </td>  <td style="width: 131.75pt; border-top: none; bo
 rder-left: none; border-bottom: 1pt solid windowtext; border-right: 1pt sol
 id windowtext; padding: 0cm 5.4pt; height: 30.75pt;" width="176">  <p style
 ="margin-bottom: 0cm; text-align: justify; line-height: normal;"><span styl
 e="font-size: 13pt; color: black; font-family: 'times new roman', times;">L
 iên đoàn trưởng</span></p>  <p style="margin-bottom: 0cm; text-align: justi
 fy; line-height: normal;"><span style="font-size: 13pt; color: black; font-
 family: 'times new roman', times;">Nguyễn Chí Nghĩa</span></p>  <p style="m
 argin-bottom: 0cm; text-align: justify; line-height: normal;"><span style="
 font-size: 13pt; color: black; font-family: 'times new roman', times;">Phó 
 Liên đoàn trưởng</span></p>  <p style="margin-bottom: 0cm; text-align: just
 ify; line-height: normal;"><span style="font-size: 13pt; color: black; font
 -family: 'times new roman', times;">Nguyễn Đỗ Lĩnh</span></p>  </td>  <td s
 tyle="width: 262.1pt; border-top: none; border-left: none; border-bottom: 1
 pt solid windowtext; border-right: 1pt solid windowtext; padding: 0cm 5.4pt
 ; height: 30.75pt;" width="349">  <p style="margin-bottom: 0cm; text-align:
  justify; line-height: normal;"><span style="font-family: 'times new roman'
 , times;"><span style="font-size: 13pt; color: red;">-8h30’</span><span sty
 le="font-size: 13pt; color: black;">: Họp trực tuyến Hội đồng thẩm định Báo
  cáo kết quả thực hiện Đề án “Bảo vệ nước dưới đất ở các đô thị lớn” – Giai
  đoạn II,</span></span></p>  </td>  </tr>  <tr style="height: 30.75pt;">  <
 td style="width: 131.75pt; border-top: none; border-left: none; border-bott
 om: 1pt solid windowtext; border-right: 1pt solid windowtext; padding: 0cm 
 5.4pt; height: 30.75pt;" width="176">  <p style="margin-bottom: 0cm; text-a
 lign: justify; line-height: normal;"><span style="font-size: 13pt; color: b
 lack; font-family: 'times new roman', times;">Phó Liên đoàn trưởng</span></
 p>  <p style="margin-bottom: 0cm; text-align: justify; line-height: normal;
 "><span style="font-size: 13pt; color: black; font-family: 'times new roman
 ', times;">Luyện Đức Thuận</span></p>  </td>  <td style="width: 262.1pt; bo
 rder-top: none; border-left: none; border-bottom: 1pt solid windowtext; bor
 der-right: 1pt solid windowtext; padding: 0cm 5.4pt; height: 30.75pt;" widt
 h="349">  <p style="margin-bottom: 0cm; text-align: justify; line-height: n
 ormal;"><span style="font-family: 'times new roman', times;"><span style="f
 ont-size: 13pt; color: red;">- 08h30’</span><span style="font-size: 13pt; c
 olor: black;">: Họp Hội đồng thẩm định Báo cáo kết quả thực hiện Đề án “Bảo
  vệ nước dưới đất ở các đô thị lớn” – Giai đoạn II, tại PH 204 TT. </span><
 /span></p>  <p style="margin-bottom: 0cm; text-align: justify; line-height:
  normal;"><span style="font-family: 'times new roman', times;"><strong><em>
 <span style="font-size: 13pt; color: black;">Thành phần : Anh Tùng, A Sơn. 
 </span></em></strong></span></p>  </td>  </tr>  <tr style="height: 30.75pt;
 ">  <td style="width: 131.75pt; border-top: none; border-left: none; border
 -bottom: 1pt solid windowtext; border-right: 1pt solid windowtext; padding:
  0cm 5.4pt; height: 30.75pt;" width="176">  <p style="margin-bottom: 0cm; t
 ext-align: center; line-height: normal;" align="center"><span style="font-s
 ize: 13pt; color: black; font-family: 'times new roman', times;">Lãnh đạo L
 iên đoàn</span></p>  </td>  <td style="width: 262.1pt; border-top: none; bo
 rder-left: none; border-bottom: 1pt solid windowtext; border-right: 1pt sol
 id windowtext; padding: 0cm 5.4pt; height: 30.75pt;" width="349">  <p style
 ="margin-bottom: 0cm; text-align: justify; line-height: normal;"><span styl
 e="font-family: 'times new roman', times;"><span style="font-size: 13pt; co
 lor: red;">14h00’:</span><span style="font-size: 13pt; color: black;"> Họp 
 giao ban. <strong><em>Thành phần: Trưởng các Phòng, các Đoàn trưởng, Kế toá
 n trưởng và các chủ nhiệm dự án Vùng cao, Lô- Gâm, Ven biển VBB, Sức chịu t
 ải</em></strong></span></span></p>  <p style="margin-bottom: 0cm; text-alig
 n: justify; line-height: normal;"><span style="font-family: 'times new roma
 n', times;"><strong><em><span style="font-size: 13pt; color: black;">Các Đo
 àn trưởng họp trực tuyến</span></em></strong></span></p>  <p style="margin-
 bottom: 0cm; text-align: justify; line-height: normal;"><span style="font-s
 ize: 13pt; color: black; font-family: 'times new roman', times;">Địa điểm: 
 Phòng Truyền thống</span></p>  </td>  </tr>  <tr style="height: 30.75pt;"> 
  <td style="width: 101.9pt; border-right: 1pt solid windowtext; border-bott
 om: 1pt solid windowtext; border-left: 1pt solid windowtext; border-top: no
 ne; padding: 0cm; height: 30.75pt;" width="136">  <p style="margin: 0cm 5.9
 5pt; text-align: center; line-height: normal;" align="center"><span style="
 font-family: 'times new roman', times;"><em><span style="font-size: 13pt; c
 olor: black;">Thứ ba</span></em></span></p>  <p style="margin: 0cm 5.95pt; 
 text-align: center; line-height: normal;" align="center"><span style="font-
 family: 'times new roman', times;"><em><span style="font-size: 13pt; color:
  black;">05/10</span></em></span></p>  </td>  <td style="width: 131.75pt; b
 order-top: none; border-left: none; border-bottom: 1pt solid windowtext; bo
 rder-right: 1pt solid windowtext; padding: 0cm; height: 30.75pt;" width="17
 6">  <p style="margin: 12pt 6pt; text-align: center; line-height: normal;" 
 align="center"><span style="font-size: 13pt; color: black; font-family: 'ti
 mes new roman', times;">Lãnh đạo Liên đoàn</span></p>  </td>  <td style="wi
 dth: 262.1pt; border-top: none; border-left: none; border-bottom: 1pt solid
  windowtext; border-right: 1pt solid windowtext; padding: 0cm 5.4pt; height
 : 30.75pt;" width="349">  <p style="margin-bottom: 0cm; text-align: justify
 ; line-height: normal;"><span style="font-size: 13pt; color: black; font-fa
 mily: 'times new roman', times;">- 8h30’: Thông qua Quy chế Kiểm toán nội b
 ộ của Liên đoàn. <strong><em>Thành phần: Ban soạn thảo theo QĐ số 370/QĐ-TN
 NMB ngày 22/9/2021, Trưởng các Phòng cùng dự. (C Huyền,C Oanh, C Ngân dự tr
 ực tuyến)</em></strong></span></p>  <p style="margin-bottom: 0cm; text-alig
 n: justify; line-height: normal;"><span style="font-size: 13pt; color: blac
 k; font-family: 'times new roman', times;">Địa điểm: Phòng Truyền thống</sp
 an></p>  <p style="margin-bottom: 0cm; text-align: justify; line-height: no
 rmal;"><span style="font-size: 13pt; color: black; font-family: 'times new 
 roman', times;">- Làm việc tại cơ quan</span></p>  </td>  </tr>  <tr style=
 "height: 30.75pt;">  <td style="width: 101.9pt; border-right: 1pt solid win
 dowtext; border-bottom: 1pt solid windowtext; border-left: 1pt solid window
 text; border-top: none; padding: 0cm; height: 30.75pt;" width="136">  <p st
 yle="margin: 0cm 5.95pt; text-align: center; line-height: normal;" align="c
 enter"><span style="font-family: 'times new roman', times;"><em><span style
 ="font-size: 13pt; color: black;">Thứ tư</span></em></span></p>  <p style="
 margin: 0cm 5.95pt; text-align: center; line-height: normal;" align="center
 "><span style="font-family: 'times new roman', times;"><em><span style="fon
 t-size: 13pt; color: black;">06/10</span></em></span></p>  </td>  <td style
 ="width: 131.75pt; border-top: none; border-left: none; border-bottom: 1pt 
 solid windowtext; border-right: 1pt solid windowtext; padding: 0cm; height:
  30.75pt;" width="176">  <p style="margin-right: 6pt; margin-bottom: 0cm; m
 argin-left: 6pt; text-align: center; line-height: normal;" align="center"><
 span style="font-size: 13pt; color: black; font-family: 'times new roman', 
 times;">Lãnh đạo Liên đoàn</span></p>  </td>  <td style="width: 262.1pt; bo
 rder-top: none; border-left: none; border-bottom: 1pt solid windowtext; bor
 der-right: 1pt solid windowtext; padding: 0cm 5.4pt; height: 30.75pt;" widt
 h="349">  <p style="margin-bottom: 0cm; text-align: justify; line-height: n
 ormal;"><span style="font-size: 13pt; color: black; font-family: 'times new
  roman', times;">-8h30’: Họp Ban chấp hành Đảng ủy tháng 9. <strong><em>Thà
 nh phần: BCH Đảng ủy Liên đoàn ( Anh Hoạt, A Huy, A Hùng họp trực tuyến)</e
 m></strong></span></p>  <p style="margin-bottom: 0cm; text-align: justify; 
 line-height: normal;"><span style="font-size: 13pt; color: black; font-fami
 ly: 'times new roman', times;">-14h00’: Nghe Văn phòng báo cáo hoàn thành h
 ướng dẫn. <strong><em>Thành phần: Các viên chức tham gia viết dự thảo</em><
 /strong></span></p>  <p style="margin-bottom: 0cm; text-align: justify; lin
 e-height: normal;"><span style="font-size: 13pt; color: black; font-family:
  'times new roman', times;">Địa điểm: Phòng Truyền thống</span></p>  </td> 
  </tr>  <tr style="height: 30.75pt;">  <td style="width: 101.9pt; border-ri
 ght: 1pt solid windowtext; border-bottom: 1pt solid windowtext; border-left
 : 1pt solid windowtext; border-top: none; padding: 0cm; height: 30.75pt;" w
 idth="136">  <p style="margin-bottom: 0cm; text-align: center; line-height:
  normal;" align="center"><span style="font-family: 'times new roman', times
 ;"><em><span style="font-size: 13pt; color: black;">Thứ năm</span></em></sp
 an></p>  <p style="margin-bottom: 0cm; text-align: center; line-height: nor
 mal;" align="center"><span style="font-family: 'times new roman', times;"><
 em><span style="font-size: 13pt; color: black;">07/10</span></em></span></p
 >  </td>  <td style="width: 131.75pt; border-top: none; border-left: none; 
 border-bottom: 1pt solid windowtext; border-right: 1pt solid windowtext; pa
 dding: 0cm; height: 30.75pt;" width="176">  <p style="margin-right: 6pt; ma
 rgin-bottom: 0cm; margin-left: 6pt; text-align: center; line-height: normal
 ;" align="center"><span style="font-size: 13pt; color: black; font-family: 
 'times new roman', times;">Lãnh đạo Liên đoàn</span></p>  </td>  <td style=
 "width: 262.1pt; border-top: none; border-left: none; border-bottom: 1pt so
 lid windowtext; border-right: 1pt solid windowtext; padding: 0cm 5.4pt; hei
 ght: 30.75pt;" width="349">  <p style="margin-bottom: 0cm; text-align: just
 ify; line-height: normal;"><span style="font-size: 13pt; color: black; font
 -family: 'times new roman', times;">-8h30’: Nghe phòng Điều tra TNN và Đoàn
  QT TNN miền Bắc báo cáo dự thảo Đề án nâng cao chất lượng công tác quan tr
 ắc. </span></p>  <p style="margin-bottom: 0cm; text-align: justify; line-he
 ight: normal;"><span style="font-size: 13pt; color: black; font-family: 'ti
 mes new roman', times;"><strong><em>Thành phần: Lãnh đạo phòng Điều tra, Tổ
  quan trắc.</em></strong></span></p>  <p style="margin-bottom: 0cm; text-al
 ign: justify; line-height: normal;"><span style="font-family: 'times new ro
 man', times;"><strong><em><span style="font-size: 13pt; color: black;">Lãnh
  đạo Đoàn QTTNN trực tuyến</span></em></strong></span></p>  <p style="margi
 n-bottom: 0cm; text-align: justify; line-height: normal;"><span style="font
 -size: 13pt; color: black; font-family: 'times new roman', times;">Địa điểm
 : Phòng Truyền thống</span></p>  <p style="margin-bottom: 0cm; text-align: 
 justify; line-height: normal;"><span style="font-size: 13pt; color: black; 
 font-family: 'times new roman', times;">-Chiều: Làm việc tại cơ quan</span>
 </p>  </td>  </tr>  <tr style="height: 30.75pt;">  <td style="width: 101.9p
 t; border-right: 1pt solid windowtext; border-bottom: 1pt solid windowtext;
  border-left: 1pt solid windowtext; border-top: none; padding: 0cm; height:
  30.75pt;" width="136">  <p style="margin-bottom: 0cm; text-align: center; 
 line-height: normal;" align="center"><span style="font-family: 'times new r
 oman', times;"><em><span style="font-size: 13pt; color: black;">Thứ sáu</sp
 an></em></span></p>  <p style="margin-bottom: 0cm; text-align: center; line
 -height: normal;" align="center"><span style="font-family: 'times new roman
 ', times;"><em><span style="font-size: 13pt; color: black;">08/10</span></e
 m></span></p>  </td>  <td style="width: 131.75pt; border-top: none; border-
 left: none; border-bottom: 1pt solid windowtext; border-right: 1pt solid wi
 ndowtext; padding: 0cm; height: 30.75pt;" width="176">  <p style="margin: 1
 2pt 6pt; text-align: center; line-height: normal;" align="center"><span sty
 le="font-size: 13pt; color: black; font-family: 'times new roman', times;">
 Lãnh đạo Liên đoàn</span></p>  </td>  <td style="width: 262.1pt; border-top
 : none; border-left: none; border-bottom: 1pt solid windowtext; border-righ
 t: 1pt solid windowtext; padding: 0cm 5.4pt; height: 30.75pt;" width="349">
   <p style="margin: 12pt 24.35pt 12pt 6pt; text-align: justify; line-height
 : normal;"><span style="font-size: 13pt; color: black; font-family: 'times 
 new roman', times;">Làm việc tại cơ quan</span></p>  </td>  </tr>  </tbody>
   </table>  </div>
DTSTAMP:20260419T210426Z
DTSTART;TZID=Asia/Ho_Chi_Minh:20211003T080000
DTEND;TZID=Asia/Ho_Chi_Minh:20211003T170000
SEQUENCE:0
TRANSP:OPAQUE
END:VEVENT
END:VCALENDAR