BEGIN:VCALENDAR
VERSION:2.0
PRODID:-//jEvents 2.0 for Joomla//EN
CALSCALE:GREGORIAN
METHOD:PUBLISH
BEGIN:VEVENT
UID:c7e52499bde0df91837021a7fab026aa
CATEGORIES:Lịch làm việc
SUMMARY:Lịch tuần 41 của Lãnh đạo Liên đoàn cập nhật lần 2
DESCRIPTION;ENCODING=QUOTED-PRINTABLE:TRUNG TÂM QUY HOẠCH VÀ ĐIỀU TRA TÀI NGUYÊN NƯỚC QUỐC GIA\n           LIÊN Đ
 OÀN QUY HOẠCH VÀ ĐIỀU TRA TÀI NGUYÊN NƯỚC MIỀN BẮC\n  LỊCH LÀM VIỆC CỦA LÃN
 H ĐẠO LIÊN ĐOÀN\n  Tuần thứ 41 (từ ngày 11/10/2021 đến ngày 16/10/2021)\n  
           Ngày tháng\n      Chủ trì\n      Nội dung - Địa điểm - Thành phần
 \n          Thứ hai\n  11/10\n      Lãnh đạo Liên đoàn\n      - 8h00’: Họp 
 giao ban. Thành phần: Trưởng các Phòng, Chủ nhiệm các Dự án Vùng cao; Đô th
 ị; Lô Gâm; Ven biểnVBB và Sức chịu tải, tại phòng Truyền thống\n  - 9h00’: 
 Họp trực tuyến TT rà soát về kế hoạch đấu thầu đặt hàng của các dự án vốn m
 ôi trường. Thành phần: A Thành CVP, C Hương TP KHTC, Chủ nhiệm và phó chủ n
 hiệm dự án Sức chịu tải.\n  - Chiều: Làm việc tại cơ quan\n          Thứ ba
 \n  12/10\n      Lãnh đạo Liên đoàn\n      Làm việc tại cơ quan\n          
 Thứ tư\n  13/10\n      Lãnh đạo Liên đoàn\n      - 8h30’: Nghe Văn phòng bá
 o cáo nội dung tiếp nối tuần 40. Thành phần: Các viên chức tham gia viết dự
  thảo\n  - 14h00’:Nghe phòng KHTC báo cáo in ấn ban hành sổ tay hướng dẫn. 
 Thành phần: Lãnh đạo phòng KHTC, A Thành CVP cùng dự.\n  - Địa điểm: Phòng 
 Truyền thống\n          Thứ năm\n  14/10\n      Lãnh đạo Liên đoàn\n      -
  8h30’(Hoãn) Nghe phòng Điều tra và Đoàn QT TNN MB báo cáo nội dung tiếp tu
 ần 40.  \n  Làm việc tại cơ quan\n          Thứ sáu\n  15/10\n      Lãnh đạ
 o Liên đoàn\n      -8h30’: Nghe các Phòng, các Đoàn báo cáo dự thảo chức nă
 ng nhiệm vụ, tại phòng Truyền thống. Các Đoàn họp trực tuyến\n  - 14h00’: N
 ghe phòng Điều tra và Đoàn QT TNN miền Bắc báo cáo nội dung tiếp tuần 40. T
 hành phần: Lãnh đạo phòng Điều tra, Tổ quan trắc, tại phòng Truyền thống\n 
  Lãnh đạo Đoàn QTTNN trực tuyến\n          
DTSTAMP:20260421T233118Z
DTSTART;TZID=Asia/Ho_Chi_Minh:20211013T080000
DTEND;TZID=Asia/Ho_Chi_Minh:20211013T170000
SEQUENCE:0
TRANSP:OPAQUE
END:VEVENT
END:VCALENDAR